PDS_VERSION_ID = PDS3
/* FILE DATA ELEMENTS */
RECORD_TYPE = STREAM
/* POINTERS TO DATA OBJECTS */
^COMPRESSED_FILE = "H2066_0000_P23.JP2"
/* IDENTIFICATION DATA ELEMENTS */
DATA_SET_ID = "MEX-M-HRSC-5-REFDR-MAPPROJECTED-V3.0"
DATA_SET_NAME = "MARS EXPRESS HRSC MAP PROJECTED REFDR V3.0"
DETECTOR_ID = MEX_HRSC_P2
EVENT_TYPE = "MARS-REGIONAL-MAPPING-Im-Fl"
INSTRUMENT_HOST_ID = MEX
INSTRUMENT_HOST_NAME = "MARS EXPRESS"
INSTRUMENT_ID = HRSC
INSTRUMENT_NAME = "HIGH RESOLUTION STEREO CAMERA"
MISSION_NAME = "MARS EXPRESS"
MISSION_PHASE_NAME = MR_Phase_7
PROCESSING_LEVEL_ID = 3
PRODUCT_CREATION_TIME = 2016-03-10T10:27:20.000Z
PRODUCT_ID = "H2066_0000_P23.JP2"
RELEASE_ID = 0026
REVISION_ID = 0000
/* QUALITY DATA ELEMENTS */
DATA_QUALITY_ID = 1
DATA_QUALITY_DESC = "Data calculated based on original SPICE kernels"
/* TIME DATA ELEMENTS */
SPACECRAFT_CLOCK_START_COUNT = "1/0072942340.57935"
SPACECRAFT_CLOCK_STOP_COUNT = "1/0072942539.48305"
START_TIME = 2005-08-24T05:46:01.913Z
STOP_TIME = 2005-08-24T05:48:16.885Z
/* ORBITAL DATA ELEMENTS */
ASCENDING_NODE_LONGITUDE = 184.94
MAXIMUM_RESOLUTION = 54.8
FOOTPRINT_POINT_LATITUDE = (-25.8542,-25.8544,-25.854,-25.853, -25.8514,-25.8338,-25.6716,-25.5095, -25.3471,-25.1843,-25.0215,-24.8582, -24.6947,-24.4495,-24.285,-24.1208, -23.8741,-23.7095,-23.5446,-23.38, -23.2151,-23.0497,-22.8844,-22.7188, -22.5527,-22.3037,-22.1372,-21.8872, -21.7202,-21.4706,-21.3042,-21.1364, -20.8854,-20.7184,-20.5506,-20.2996, -20.1308,-19.9607,-19.7909,-19.6217, -19.4527,-19.2836,-19.1143,-18.9449, -18.6917,-18.5214,-18.3511,-18.1803, -18.0098,-17.8436,-17.6792,-17.4944, -17.4965,-17.4961,-17.4952,-17.4944, -17.5757,-17.7394,-17.9054,-18.1593, -18.3296,-18.4996,-18.6693,-18.8393, -19.0934,-19.2628,-19.5162,-19.6852, -19.9387,-20.1079,-20.3609,-20.5289, -20.6963,-20.8641,-21.0324,-21.2002, -21.3677,-21.6187,-21.7861,-21.9508, -22.1171,-22.2854,-22.453,-22.6192, -22.7838,-22.949,-23.1144,-23.2814, -23.4476,-23.6126,-23.7774,-24.0248, -24.1899,-24.3536,-24.6776,-24.8412, -25.089,-25.4172,-25.7416,-25.8542)
FOOTPRINT_POINT_LONGITUDE = (158.859,158.643,158.355,158.125, 157.895,157.513,157.518,157.524,157.529 ,157.535,157.54,157.545,157.55,157.558, 157.563,157.568,157.575,157.58,157.584, 157.589,157.594,157.598,157.603,157.607 ,157.612,157.618,157.622,157.629, 157.633,157.639,157.643,157.647,157.653 ,157.657,157.661,157.667,157.67,157.673 ,157.676,157.679,157.683,157.686,157.69 ,157.693,157.698,157.701,157.704, 157.707,157.71,157.713,157.716,157.774, 157.978,158.159,158.352,158.658,158.937 ,158.94,158.942,158.945,158.947,158.95, 158.952,158.954,158.958,158.96,158.964, 158.967,158.97,158.973,158.976,158.979, 158.982,158.984,158.987,158.989,158.992 ,158.995,158.998,159.002,159.005, 159.006,159.008,159.011,159.015,159.018 ,159.021,159.023,159.025,159.028, 159.031,159.035,159.037,159.041,159.049 ,159.052,159.055,159.06,159.067, 158.859)
ORBIT_NUMBER = 2066
ORBITAL_ECCENTRICITY = 0.572
ORBITAL_INCLINATION = 86.62
ORBITAL_SEMIMAJOR_AXIS = 8620.94
PERIAPSIS_ALTITUDE = 290.01
PERIAPSIS_ARGUMENT_ANGLE = 355.34
PERIAPSIS_TIME = 2005-08-24T05:51:52.000Z
SPACECRAFT_ORIENTATION = (0.0,1.0,0.0)
^MEX_ORIENTATION_DESC = "MEX_ORIENTATION_DESC.TXT"
SPACECRAFT_POINTING_MODE = ACROSSTRACK
^MEX_POINTING_DESC = "MEX_POINTING_DESC.TXT"
RIGHT_ASCENSION = -1e+32
DECLINATION = -1e+32
OFFSET_ANGLE = -0.1
SPACECRAFT_SOLAR_DISTANCE = 2.08146e+08
TARGET_NAME = MARS
/* CAMERA DATA ELEMENTS */
DETECTOR_TEMPERATURE = 19.1861
FOCAL_PLANE_TEMPERATURE = 9.8067
INST_CMPRS_NAME = "DISCRETE COSINE TRANSFORMATION (DCT)"
INST_CMPRS_RATIO = 7.59473
INST_CMPRS_QUALITY = 0
INST_CMPRS_QUANTZ_TBL_ID = 0
INSTRUMENT_TEMPERATURE = 11.8457
LENS_TEMPERATURE = 10.0106
MACROPIXEL_SIZE = 4
MISSING_FRAMES = 0
PIXEL_SUBSAMPLING_FLAG = N
SIGNAL_CHAIN_ID = 3
/* RADIOMETRIC DATA ELEMENTS */
BANDWIDTH = 177.0
CENTER_FILTER_WAVELENGTH = 676.5
RADIANCE_OFFSET = 4.86611
RADIANCE_SCALING_FACTOR = 0.0231239
REFLECTANCE_SCALING_FACTOR = 0.000531193
MEX:REFLECTANCE_OFFSET = 0.111783
/* IMAGE OBJECT DEFINITIONS */
OBJECT = IMAGE
  INTERCHANGE_FORMAT = BINARY
  LINES = 9891
  LINE_SAMPLES = 1673
  SAMPLE_TYPE = UNSIGNED_INTEGER
  SAMPLE_BITS = 8
  BANDS = 1
  BAND_STORAGE_TYPE = BAND_SEQUENTIAL
  MAXIMUM = 193
  MEAN = 136.183
  MINIMUM = 82
  STANDARD_DEVIATION = 20.2552
END_OBJECT = IMAGE
/* MAP OBJECT DEFINITIONS */
OBJECT = IMAGE_MAP_PROJECTION
  ^DATA_SET_MAP_PROJECTION_CATALOG= "DSMAP.CAT"
  A_AXIS_RADIUS = 3396.0
  B_AXIS_RADIUS = 3396.0
  C_AXIS_RADIUS = 3396.0
  CENTER_LATITUDE = 0.0
  CENTER_LONGITUDE = 158.0
  COORDINATE_SYSTEM_NAME = PLANETOGRAPHIC
  COORDINATE_SYSTEM_TYPE = "BODY-FIXED ROTATING"
  EASTERNMOST_LONGITUDE = 159.067
  FIRST_STANDARD_PARALLEL = "N/A"
  LINE_FIRST_PIXEL = 1
  LINE_LAST_PIXEL = 9891
  LINE_PROJECTION_OFFSET = -20734.125
  MAP_PROJECTION_ROTATION = 0.0
  MAP_PROJECTION_TYPE = SINUSOIDAL
  MAP_RESOLUTION = 1185.42760773333
  MAP_SCALE = 0.05
  MAXIMUM_LATITUDE = -17.4944
  MINIMUM_LATITUDE = -25.8544
  POSITIVE_LONGITUDE_DIRECTION = EAST
  REFERENCE_LATITUDE = "N/A"
  REFERENCE_LONGITUDE = "N/A"
  SAMPLE_FIRST_PIXEL = 1
  SAMPLE_LAST_PIXEL = 1673
  SAMPLE_PROJECTION_OFFSET = 518.625
  SECOND_STANDARD_PARALLEL = "N/A"
  WESTERNMOST_LONGITUDE = 157.513
END_OBJECT = IMAGE_MAP_PROJECTION
/* The JPEG2000 image data file associated with this label. */
OBJECT = COMPRESSED_FILE
  FILE_NAME = "H2066_0000_P23.JP2"
  RECORD_TYPE = UNDEFINED
  FILE_RECORDS = UNK
  ENCODING_TYPE = "JP2"
  INTERCHANGE_FORMAT = BINARY
  UNCOMPRESSED_FILE_NAME = "H2066_0000_P23.IMG"
  REQUIRED_STORAGE_BYTES = "16567719"
  ^DESCRIPTION = "JP2INFO.TXT"
END_OBJECT = COMPRESSED_FILE
END
