PDS_VERSION_ID = PDS3
/* FILE DATA ELEMENTS */
RECORD_TYPE = STREAM
/* POINTERS TO DATA OBJECTS */
^COMPRESSED_FILE = "H2069_0000_ND3.JP2"
/* IDENTIFICATION DATA ELEMENTS */
DATA_SET_ID = "MEX-M-HRSC-5-REFDR-MAPPROJECTED-V3.0"
DATA_SET_NAME = "MARS EXPRESS HRSC MAP PROJECTED REFDR V3.0"
DETECTOR_ID = MEX_HRSC_NADIR
EVENT_TYPE = "MARS-REGIONAL-MAPPING-Vo-La-At"
INSTRUMENT_HOST_ID = MEX
INSTRUMENT_HOST_NAME = "MARS EXPRESS"
INSTRUMENT_ID = HRSC
INSTRUMENT_NAME = "HIGH RESOLUTION STEREO CAMERA"
MISSION_NAME = "MARS EXPRESS"
MISSION_PHASE_NAME = MR_Phase_7
PROCESSING_LEVEL_ID = 3
PRODUCT_CREATION_TIME = 2016-03-10T10:27:20.000Z
PRODUCT_ID = "H2069_0000_ND3.JP2"
RELEASE_ID = 0026
REVISION_ID = 0000
/* QUALITY DATA ELEMENTS */
DATA_QUALITY_ID = 1
DATA_QUALITY_DESC = "Data calculated based on original SPICE kernels"
/* TIME DATA ELEMENTS */
SPACECRAFT_CLOCK_START_COUNT = "1/0073015309.57289"
SPACECRAFT_CLOCK_STOP_COUNT = "1/0073015764.06538"
START_TIME = 2005-08-25T02:02:22.878Z
STOP_TIME = 2005-08-25T02:08:38.889Z
/* ORBITAL DATA ELEMENTS */
ASCENDING_NODE_LONGITUDE = 184.88
MAXIMUM_RESOLUTION = 11.8
FOOTPRINT_POINT_LATITUDE = (0.362811,0.362379,0.773231,1.18386, 1.59425,2.00439,2.41427,2.82387,3.64217 ,4.06295,4.48638,4.90944,5.3321,5.75434 ,6.17616,6.82862,7.26429,7.69943, 8.13404,8.5792,9.02759,9.47536,9.92248, 10.3817,10.8423,11.3021,11.7612,12.2194 ,12.6769,13.1336,13.5894,14.046,14.8265 ,15.3664,15.905,16.4423,16.9782,17.5127 ,18.0457,18.849,19.3927,19.9447,20.4998 ,21.0668,21.6394,22.2176,22.8068, 23.4034,24.0073,24.3401,24.3398,24.0321 ,23.4281,22.8312,22.2424,21.6639, 21.0911,20.5245,19.969,19.4166,18.8732, 18.0696,17.5368,17.0025,16.4667,15.9296 ,15.3912,14.8514,14.0675,13.611,13.1553 ,12.6987,12.2413,11.7831,11.324,10.8642 ,10.4036,9.94384,9.49673,9.04896, 8.60055,8.15476,7.72013,7.28496,6.84927 ,6.19613,5.77427,5.35198,4.92928, 4.50617,4.08268,3.66122,2.84281,2.43314 ,2.0232,1.61298,1.20252,0.791804, 0.380869,0.362811)
FOOTPRINT_POINT_LONGITUDE = (222.868,222.453,222.45,222.446,222.443 ,222.441,222.438,222.435,222.428, 222.424,222.421,222.417,222.412,222.407 ,222.402,222.394,222.387,222.38,222.373 ,222.365,222.358,222.35,222.342,222.334 ,222.326,222.318,222.31,222.301,222.293 ,222.285,222.278,222.27,222.258,222.254 ,222.248,222.241,222.231,222.218, 222.205,222.185,222.17,222.154,222.136, 222.117,222.076,222.057,222.038,222.018 ,221.999,222.466,223.373,223.82,223.802 ,223.778,223.762,223.746,223.731, 223.717,223.703,223.691,223.679,223.662 ,223.652,223.642,223.634,223.625, 223.617,223.61,223.6,223.594,223.589, 223.583,223.577,223.572,223.566,223.561 ,223.557,223.552,223.548,223.544,223.54 ,223.536,223.533,223.53,223.527,223.522 ,223.52,223.517,223.515,223.513,223.511 ,223.509,223.506,223.505,223.504, 223.503,223.502,223.501,223.5,222.868)
ORBIT_NUMBER = 2069
ORBITAL_ECCENTRICITY = 0.573
ORBITAL_INCLINATION = 86.62
ORBITAL_SEMIMAJOR_AXIS = 8629.03
PERIAPSIS_ALTITUDE = 289.33
PERIAPSIS_ARGUMENT_ANGLE = 354.76
PERIAPSIS_TIME = 2005-08-25T02:00:59.000Z
SPACECRAFT_ORIENTATION = (0.0,1.0,0.0)
^MEX_ORIENTATION_DESC = "MEX_ORIENTATION_DESC.TXT"
SPACECRAFT_POINTING_MODE = ACROSSTRACK
^MEX_POINTING_DESC = "MEX_POINTING_DESC.TXT"
RIGHT_ASCENSION = -1e+32
DECLINATION = -1e+32
OFFSET_ANGLE = 0.5
SPACECRAFT_SOLAR_DISTANCE = 2.08213e+08
TARGET_NAME = MARS
/* CAMERA DATA ELEMENTS */
DETECTOR_TEMPERATURE = 19.1861
FOCAL_PLANE_TEMPERATURE = 9.3989
INST_CMPRS_NAME = "DISCRETE COSINE TRANSFORMATION (DCT)"
INST_CMPRS_RATIO = 5.1456
INST_CMPRS_QUALITY = 0
INST_CMPRS_QUANTZ_TBL_ID = 0
INSTRUMENT_TEMPERATURE = 11.4379
LENS_TEMPERATURE = 9.8067
MACROPIXEL_SIZE = 1
MISSING_FRAMES = 1
PIXEL_SUBSAMPLING_FLAG = N
SIGNAL_CHAIN_ID = 0
/* RADIOMETRIC DATA ELEMENTS */
BANDWIDTH = 177.0
CENTER_FILTER_WAVELENGTH = 677.5
RADIANCE_OFFSET = 3.14283
RADIANCE_SCALING_FACTOR = 0.0312861
REFLECTANCE_SCALING_FACTOR = 0.000720526
MEX:REFLECTANCE_OFFSET = 0.0723801
/* IMAGE OBJECT DEFINITIONS */
OBJECT = IMAGE
  INTERCHANGE_FORMAT = BINARY
  LINES = 113698
  LINE_SAMPLES = 8220
  SAMPLE_TYPE = UNSIGNED_INTEGER
  SAMPLE_BITS = 8
  BANDS = 1
  BAND_STORAGE_TYPE = BAND_SEQUENTIAL
  MAXIMUM = 244
  MEAN = 166.919
  MINIMUM = 58
  STANDARD_DEVIATION = 20.6898
END_OBJECT = IMAGE
/* MAP OBJECT DEFINITIONS */
OBJECT = IMAGE_MAP_PROJECTION
  ^DATA_SET_MAP_PROJECTION_CATALOG= "DSMAP.CAT"
  A_AXIS_RADIUS = 3396.0
  B_AXIS_RADIUS = 3396.0
  C_AXIS_RADIUS = 3396.0
  CENTER_LATITUDE = 0.0
  CENTER_LONGITUDE = 223.0
  COORDINATE_SYSTEM_NAME = PLANETOGRAPHIC
  COORDINATE_SYSTEM_TYPE = "BODY-FIXED ROTATING"
  EASTERNMOST_LONGITUDE = 223.82
  FIRST_STANDARD_PARALLEL = "N/A"
  LINE_FIRST_PIXEL = 1
  LINE_LAST_PIXEL = 113698
  LINE_PROJECTION_OFFSET = 115414.0
  MAP_PROJECTION_ROTATION = 0.0
  MAP_PROJECTION_TYPE = SINUSOIDAL
  MAP_RESOLUTION = 4741.71043093333
  MAP_SCALE = 0.0125
  MAXIMUM_LATITUDE = 24.3401
  MINIMUM_LATITUDE = 0.362379
  POSITIVE_LONGITUDE_DIRECTION = EAST
  REFERENCE_LATITUDE = "N/A"
  REFERENCE_LONGITUDE = "N/A"
  SAMPLE_FIRST_PIXEL = 1
  SAMPLE_LAST_PIXEL = 8220
  SAMPLE_PROJECTION_OFFSET = 4601.0
  SECOND_STANDARD_PARALLEL = "N/A"
  WESTERNMOST_LONGITUDE = 221.999
END_OBJECT = IMAGE_MAP_PROJECTION
/* The JPEG2000 image data file associated with this label. */
OBJECT = COMPRESSED_FILE
  FILE_NAME = "H2069_0000_ND3.JP2"
  RECORD_TYPE = UNDEFINED
  FILE_RECORDS = UNK
  ENCODING_TYPE = "JP2"
  INTERCHANGE_FORMAT = BINARY
  UNCOMPRESSED_FILE_NAME = "H2069_0000_ND3.IMG"
  REQUIRED_STORAGE_BYTES = "934630440"
  ^DESCRIPTION = "JP2INFO.TXT"
END_OBJECT = COMPRESSED_FILE
END
