PDS_VERSION_ID = PDS3
/* FILE DATA ELEMENTS */
RECORD_TYPE = STREAM
/* POINTERS TO DATA OBJECTS */
^COMPRESSED_FILE = "H2069_0000_P23.JP2"
/* IDENTIFICATION DATA ELEMENTS */
DATA_SET_ID = "MEX-M-HRSC-5-REFDR-MAPPROJECTED-V3.0"
DATA_SET_NAME = "MARS EXPRESS HRSC MAP PROJECTED REFDR V3.0"
DETECTOR_ID = MEX_HRSC_P2
EVENT_TYPE = "MARS-REGIONAL-MAPPING-Vo-La-At"
INSTRUMENT_HOST_ID = MEX
INSTRUMENT_HOST_NAME = "MARS EXPRESS"
INSTRUMENT_ID = HRSC
INSTRUMENT_NAME = "HIGH RESOLUTION STEREO CAMERA"
MISSION_NAME = "MARS EXPRESS"
MISSION_PHASE_NAME = MR_Phase_7
PROCESSING_LEVEL_ID = 3
PRODUCT_CREATION_TIME = 2016-03-10T10:27:20.000Z
PRODUCT_ID = "H2069_0000_P23.JP2"
RELEASE_ID = 0026
REVISION_ID = 0000
/* QUALITY DATA ELEMENTS */
DATA_QUALITY_ID = 1
DATA_QUALITY_DESC = "Data calculated based on original SPICE kernels"
/* TIME DATA ELEMENTS */
SPACECRAFT_CLOCK_START_COUNT = "1/0073015309.57289"
SPACECRAFT_CLOCK_STOP_COUNT = "1/0073015764.06538"
START_TIME = 2005-08-25T02:02:05.914Z
STOP_TIME = 2005-08-25T02:08:10.131Z
/* ORBITAL DATA ELEMENTS */
ASCENDING_NODE_LONGITUDE = 184.88
MAXIMUM_RESOLUTION = 24.2
FOOTPRINT_POINT_LATITUDE = (0.371454,0.384752,0.783767,1.3896, 1.80273,2.42158,2.83432,3.24675,3.65974 ,4.07302,4.48576,4.89865,5.5411,5.96969 ,6.39764,6.82552,7.25481,7.91443,8.3588 ,8.80228,9.46673,9.92339,10.3809, 10.8381,11.2947,11.7661,12.4721,12.9409 ,13.4096,13.877,14.3432,14.8076,15.499, 16.026,16.8524,17.4057,17.9617,18.5131, 19.0665,19.6201,20.1723,20.7377,21.3252 ,21.6269,22.2089,22.8007,23.3995, 24.0037,24.3113,24.3559,24.3493,24.3348 ,24.0268,23.7249,23.4222,23.1117, 22.7895,22.1995,21.6178,21.0387,20.4715 ,19.908,19.0765,18.5208,17.9676,17.1379 ,16.585,16.0336,15.2667,14.8153,14.1202 ,13.657,13.191,12.7239,12.2537,11.7824, 11.0819,10.625,9.93896,9.48164,8.81661, 8.37313,7.92925,7.26859,6.83963,6.41005 ,5.98074,5.33803,4.90875,4.49463, 4.08175,3.66842,3.25543,2.63615,2.2234, 1.60493,1.19164,0.791754,0.393158, 0.371454)
FOOTPRINT_POINT_LONGITUDE = (222.899,222.455,222.452,222.447, 222.444,222.441,222.438,222.436,222.433 ,222.429,222.426,222.422,222.415, 222.411,222.406,222.401,222.395,222.385 ,222.378,222.371,222.361,222.353, 222.346,222.338,222.33,222.322,222.31, 222.303,222.295,222.288,222.282,222.276 ,222.27,222.264,222.253,222.242,222.228 ,222.217,222.203,222.188,222.173, 222.157,222.126,222.107,222.088,222.07, 222.051,222.033,222.024,222.696,223.123 ,223.789,223.78,223.772,223.764,223.754 ,223.742,223.727,223.713,223.699, 223.686,223.674,223.657,223.646,223.636 ,223.622,223.614,223.606,223.596, 223.591,223.582,223.577,223.572,223.566 ,223.561,223.556,223.549,223.545, 223.539,223.535,223.53,223.527,223.524, 223.519,223.517,223.514,223.512,223.509 ,223.507,223.506,223.504,223.503, 223.502,223.5,223.499,223.498,223.497, 223.497,223.496,222.899)
ORBIT_NUMBER = 2069
ORBITAL_ECCENTRICITY = 0.573
ORBITAL_INCLINATION = 86.62
ORBITAL_SEMIMAJOR_AXIS = 8629.03
PERIAPSIS_ALTITUDE = 289.33
PERIAPSIS_ARGUMENT_ANGLE = 354.76
PERIAPSIS_TIME = 2005-08-25T02:00:59.000Z
SPACECRAFT_ORIENTATION = (0.0,1.0,0.0)
^MEX_ORIENTATION_DESC = "MEX_ORIENTATION_DESC.TXT"
SPACECRAFT_POINTING_MODE = ACROSSTRACK
^MEX_POINTING_DESC = "MEX_POINTING_DESC.TXT"
RIGHT_ASCENSION = -1e+32
DECLINATION = -1e+32
OFFSET_ANGLE = 0.5
SPACECRAFT_SOLAR_DISTANCE = 2.08213e+08
TARGET_NAME = MARS
/* CAMERA DATA ELEMENTS */
DETECTOR_TEMPERATURE = 18.7783
FOCAL_PLANE_TEMPERATURE = 9.3989
INST_CMPRS_NAME = "DISCRETE COSINE TRANSFORMATION (DCT)"
INST_CMPRS_RATIO = 4.82094
INST_CMPRS_QUALITY = 0
INST_CMPRS_QUANTZ_TBL_ID = 0
INSTRUMENT_TEMPERATURE = 11.4379
LENS_TEMPERATURE = 9.8067
MACROPIXEL_SIZE = 2
MISSING_FRAMES = 0
PIXEL_SUBSAMPLING_FLAG = N
SIGNAL_CHAIN_ID = 3
/* RADIOMETRIC DATA ELEMENTS */
BANDWIDTH = 177.0
CENTER_FILTER_WAVELENGTH = 676.5
RADIANCE_OFFSET = 3.44309
RADIANCE_SCALING_FACTOR = 0.0306157
REFLECTANCE_SCALING_FACTOR = 0.000703745
MEX:REFLECTANCE_OFFSET = 0.0791442
/* IMAGE OBJECT DEFINITIONS */
OBJECT = IMAGE
  INTERCHANGE_FORMAT = BINARY
  LINES = 56849
  LINE_SAMPLES = 4110
  SAMPLE_TYPE = UNSIGNED_INTEGER
  SAMPLE_BITS = 8
  BANDS = 1
  BAND_STORAGE_TYPE = BAND_SEQUENTIAL
  MAXIMUM = 300
  MEAN = 210.876
  MINIMUM = 78
  STANDARD_DEVIATION = 25.3899
END_OBJECT = IMAGE
/* MAP OBJECT DEFINITIONS */
OBJECT = IMAGE_MAP_PROJECTION
  ^DATA_SET_MAP_PROJECTION_CATALOG= "DSMAP.CAT"
  A_AXIS_RADIUS = 3396.0
  B_AXIS_RADIUS = 3396.0
  C_AXIS_RADIUS = 3396.0
  CENTER_LATITUDE = 0.0
  CENTER_LONGITUDE = 223.0
  COORDINATE_SYSTEM_NAME = PLANETOGRAPHIC
  COORDINATE_SYSTEM_TYPE = "BODY-FIXED ROTATING"
  EASTERNMOST_LONGITUDE = 223.789
  FIRST_STANDARD_PARALLEL = "N/A"
  LINE_FIRST_PIXEL = 1
  LINE_LAST_PIXEL = 56849
  LINE_PROJECTION_OFFSET = 57706.75
  MAP_PROJECTION_ROTATION = 0.0
  MAP_PROJECTION_TYPE = SINUSOIDAL
  MAP_RESOLUTION = 2370.85521546667
  MAP_SCALE = 0.025
  MAXIMUM_LATITUDE = 24.3559
  MINIMUM_LATITUDE = 0.371454
  POSITIVE_LONGITUDE_DIRECTION = EAST
  REFERENCE_LATITUDE = "N/A"
  REFERENCE_LONGITUDE = "N/A"
  SAMPLE_FIRST_PIXEL = 1
  SAMPLE_LAST_PIXEL = 4110
  SAMPLE_PROJECTION_OFFSET = 2300.25
  SECOND_STANDARD_PARALLEL = "N/A"
  WESTERNMOST_LONGITUDE = 222.024
END_OBJECT = IMAGE_MAP_PROJECTION
/* The JPEG2000 image data file associated with this label. */
OBJECT = COMPRESSED_FILE
  FILE_NAME = "H2069_0000_P23.JP2"
  RECORD_TYPE = UNDEFINED
  FILE_RECORDS = UNK
  ENCODING_TYPE = "JP2"
  INTERCHANGE_FORMAT = BINARY
  UNCOMPRESSED_FILE_NAME = "H2069_0000_P23.IMG"
  REQUIRED_STORAGE_BYTES = "233674050"
  ^DESCRIPTION = "JP2INFO.TXT"
END_OBJECT = COMPRESSED_FILE
END
