PDS_VERSION_ID = PDS3
/* FILE DATA ELEMENTS */
RECORD_TYPE = STREAM
/* POINTERS TO DATA OBJECTS */
^COMPRESSED_FILE = "H2069_0000_S13.JP2"
/* IDENTIFICATION DATA ELEMENTS */
DATA_SET_ID = "MEX-M-HRSC-5-REFDR-MAPPROJECTED-V3.0"
DATA_SET_NAME = "MARS EXPRESS HRSC MAP PROJECTED REFDR V3.0"
DETECTOR_ID = MEX_HRSC_S1
EVENT_TYPE = "MARS-REGIONAL-MAPPING-Vo-La-At"
INSTRUMENT_HOST_ID = MEX
INSTRUMENT_HOST_NAME = "MARS EXPRESS"
INSTRUMENT_ID = HRSC
INSTRUMENT_NAME = "HIGH RESOLUTION STEREO CAMERA"
MISSION_NAME = "MARS EXPRESS"
MISSION_PHASE_NAME = MR_Phase_7
PROCESSING_LEVEL_ID = 3
PRODUCT_CREATION_TIME = 2016-03-10T10:27:20.000Z
PRODUCT_ID = "H2069_0000_S13.JP2"
RELEASE_ID = 0026
REVISION_ID = 0000
/* QUALITY DATA ELEMENTS */
DATA_QUALITY_ID = 1
DATA_QUALITY_DESC = "Data calculated based on original SPICE kernels"
/* TIME DATA ELEMENTS */
SPACECRAFT_CLOCK_START_COUNT = "1/0073015309.57289"
SPACECRAFT_CLOCK_STOP_COUNT = "1/0073015764.06538"
START_TIME = 2005-08-25T02:02:49.190Z
STOP_TIME = 2005-08-25T02:09:29.286Z
/* ORBITAL DATA ELEMENTS */
ASCENDING_NODE_LONGITUDE = 184.88
MAXIMUM_RESOLUTION = 25.5
FOOTPRINT_POINT_LATITUDE = (0.352023,0.33947,0.320743,0.724901, 1.12972,1.53439,1.94135,2.36059,2.77947 ,3.19778,3.61479,4.03038,4.44904, 4.87804,5.3054,5.73154,6.15704,6.59026, 7.02844,7.46236,7.8959,8.56274,9.00823, 9.45276,9.8958,10.3379,11.002,11.4412, 11.8789,12.6312,13.1519,13.6705,14.1885 ,14.9635,15.7446,16.5228,17.3046, 17.8291,18.3622,18.8986,19.4404,19.9886 ,20.5403,21.3436,21.9066,22.4857, 23.0701,23.6653,24.2698,24.3063,24.3178 ,24.3257,23.7232,23.134,22.594,22.0154, 21.4482,20.8876,20.3329,19.7866,18.9768 ,18.4437,17.6499,17.1241,16.6045,15.83, 15.3121,14.7783,14.2558,13.7319,13.2095 ,12.4271,11.9335,11.4958,11.0566, 10.6162,10.1714,9.72828,9.28429,8.83971 ,8.39334,7.94832,7.51455,7.07985, 6.64423,6.21226,5.57344,5.14794,4.72023 ,4.29463,3.87923,3.46303,3.04496, 2.62666,2.2072,1.79126,1.18381,0.778793 ,0.372693,0.352023)
FOOTPRINT_POINT_LONGITUDE = (223.193,222.863,222.44,222.436,222.432 ,222.428,222.425,222.421,222.417, 222.414,222.41,222.405,222.401,222.396, 222.39,222.384,222.378,222.372,222.366, 222.357,222.349,222.337,222.328,222.32, 222.311,222.302,222.288,222.279,222.27, 222.254,222.244,222.233,222.223,222.209 ,222.2,222.186,222.167,222.152,222.137, 222.121,222.103,222.084,222.064,222.012 ,221.987,221.965,221.942,221.918, 221.895,222.719,223.283,223.906,223.884 ,223.862,223.836,223.817,223.799, 223.782,223.765,223.75,223.728,223.714, 223.696,223.685,223.674,223.66,223.651, 223.644,223.636,223.628,223.62,223.608, 223.601,223.595,223.589,223.583,223.578 ,223.573,223.568,223.563,223.558, 223.554,223.549,223.545,223.542,223.538 ,223.533,223.53,223.527,223.525,223.522 ,223.52,223.518,223.516,223.514,223.512 ,223.51,223.508,223.507,223.193)
ORBIT_NUMBER = 2069
ORBITAL_ECCENTRICITY = 0.573
ORBITAL_INCLINATION = 86.62
ORBITAL_SEMIMAJOR_AXIS = 8629.03
PERIAPSIS_ALTITUDE = 289.33
PERIAPSIS_ARGUMENT_ANGLE = 354.76
PERIAPSIS_TIME = 2005-08-25T02:00:59.000Z
SPACECRAFT_ORIENTATION = (0.0,1.0,0.0)
^MEX_ORIENTATION_DESC = "MEX_ORIENTATION_DESC.TXT"
SPACECRAFT_POINTING_MODE = ACROSSTRACK
^MEX_POINTING_DESC = "MEX_POINTING_DESC.TXT"
RIGHT_ASCENSION = -1e+32
DECLINATION = -1e+32
OFFSET_ANGLE = 0.5
SPACECRAFT_SOLAR_DISTANCE = 2.08213e+08
TARGET_NAME = MARS
/* CAMERA DATA ELEMENTS */
DETECTOR_TEMPERATURE = 17.7588
FOCAL_PLANE_TEMPERATURE = 9.3989
INST_CMPRS_NAME = "DISCRETE COSINE TRANSFORMATION (DCT)"
INST_CMPRS_RATIO = 5.85306
INST_CMPRS_QUALITY = 0
INST_CMPRS_QUANTZ_TBL_ID = 0
INSTRUMENT_TEMPERATURE = 11.4379
LENS_TEMPERATURE = 9.8067
MACROPIXEL_SIZE = 2
MISSING_FRAMES = 1
PIXEL_SUBSAMPLING_FLAG = N
SIGNAL_CHAIN_ID = 1
/* RADIOMETRIC DATA ELEMENTS */
BANDWIDTH = 180.0
CENTER_FILTER_WAVELENGTH = 677.0
RADIANCE_OFFSET = 3.90127
RADIANCE_SCALING_FACTOR = 0.0320728
REFLECTANCE_SCALING_FACTOR = 0.00072543
MEX:REFLECTANCE_OFFSET = 0.0882398
/* IMAGE OBJECT DEFINITIONS */
OBJECT = IMAGE
  INTERCHANGE_FORMAT = BINARY
  LINES = 56849
  LINE_SAMPLES = 4110
  SAMPLE_TYPE = UNSIGNED_INTEGER
  SAMPLE_BITS = 8
  BANDS = 1
  BAND_STORAGE_TYPE = BAND_SEQUENTIAL
  MAXIMUM = 330
  MEAN = 192.781
  MINIMUM = 77
  STANDARD_DEVIATION = 21.7374
END_OBJECT = IMAGE
/* MAP OBJECT DEFINITIONS */
OBJECT = IMAGE_MAP_PROJECTION
  ^DATA_SET_MAP_PROJECTION_CATALOG= "DSMAP.CAT"
  A_AXIS_RADIUS = 3396.0
  B_AXIS_RADIUS = 3396.0
  C_AXIS_RADIUS = 3396.0
  CENTER_LATITUDE = 0.0
  CENTER_LONGITUDE = 223.0
  COORDINATE_SYSTEM_NAME = PLANETOGRAPHIC
  COORDINATE_SYSTEM_TYPE = "BODY-FIXED ROTATING"
  EASTERNMOST_LONGITUDE = 223.906
  FIRST_STANDARD_PARALLEL = "N/A"
  LINE_FIRST_PIXEL = 1
  LINE_LAST_PIXEL = 56849
  LINE_PROJECTION_OFFSET = 57706.75
  MAP_PROJECTION_ROTATION = 0.0
  MAP_PROJECTION_TYPE = SINUSOIDAL
  MAP_RESOLUTION = 2370.85521546667
  MAP_SCALE = 0.025
  MAXIMUM_LATITUDE = 24.3257
  MINIMUM_LATITUDE = 0.320743
  POSITIVE_LONGITUDE_DIRECTION = EAST
  REFERENCE_LATITUDE = "N/A"
  REFERENCE_LONGITUDE = "N/A"
  SAMPLE_FIRST_PIXEL = 1
  SAMPLE_LAST_PIXEL = 4110
  SAMPLE_PROJECTION_OFFSET = 2300.25
  SECOND_STANDARD_PARALLEL = "N/A"
  WESTERNMOST_LONGITUDE = 221.895
END_OBJECT = IMAGE_MAP_PROJECTION
/* The JPEG2000 image data file associated with this label. */
OBJECT = COMPRESSED_FILE
  FILE_NAME = "H2069_0000_S13.JP2"
  RECORD_TYPE = UNDEFINED
  FILE_RECORDS = UNK
  ENCODING_TYPE = "JP2"
  INTERCHANGE_FORMAT = BINARY
  UNCOMPRESSED_FILE_NAME = "H2069_0000_S13.IMG"
  REQUIRED_STORAGE_BYTES = "233674050"
  ^DESCRIPTION = "JP2INFO.TXT"
END_OBJECT = COMPRESSED_FILE
END
