PDS_VERSION_ID = PDS3
/* FILE DATA ELEMENTS */
RECORD_TYPE = STREAM
/* POINTERS TO DATA OBJECTS */
^COMPRESSED_FILE = "H2070_0000_GR3.JP2"
/* IDENTIFICATION DATA ELEMENTS */
DATA_SET_ID = "MEX-M-HRSC-5-REFDR-MAPPROJECTED-V3.0"
DATA_SET_NAME = "MARS EXPRESS HRSC MAP PROJECTED REFDR V3.0"
DETECTOR_ID = MEX_HRSC_GREEN
EVENT_TYPE = "MARS-REGIONAL-MAPPING-Te-Fl-Pf"
INSTRUMENT_HOST_ID = MEX
INSTRUMENT_HOST_NAME = "MARS EXPRESS"
INSTRUMENT_ID = HRSC
INSTRUMENT_NAME = "HIGH RESOLUTION STEREO CAMERA"
MISSION_NAME = "MARS EXPRESS"
MISSION_PHASE_NAME = MR_Phase_7
PROCESSING_LEVEL_ID = 3
PRODUCT_CREATION_TIME = 2016-03-10T10:27:20.000Z
PRODUCT_ID = "H2070_0000_GR3.JP2"
RELEASE_ID = 0026
REVISION_ID = 0000
/* QUALITY DATA ELEMENTS */
DATA_QUALITY_ID = 1
DATA_QUALITY_DESC = "Data calculated based on original SPICE kernels"
/* TIME DATA ELEMENTS */
SPACECRAFT_CLOCK_START_COUNT = "1/0073039415.56194"
SPACECRAFT_CLOCK_STOP_COUNT = "1/0073039720.38627"
START_TIME = 2005-08-25T08:44:13.021Z
STOP_TIME = 2005-08-25T08:48:18.915Z
/* ORBITAL DATA ELEMENTS */
ASCENDING_NODE_LONGITUDE = 184.85
MAXIMUM_RESOLUTION = 46.1
FOOTPRINT_POINT_LATITUDE = (-5.47583,-5.47692,-5.32125,-5.01383, -4.70611,-4.39856,-4.09141,-3.63075, -3.32296,-3.01586,-2.70923,-2.40381, -2.09617,-1.63656,-1.33016,-1.02393, -0.564507,-0.258804,0.049404,0.366314, 0.683642,0.999522,1.31632,1.63313, 1.94936,2.42385,2.74007,3.05594,3.37153 ,3.85861,4.18521,4.51129,4.83732, 5.16308,5.48853,5.81359,6.14669,6.48278 ,6.8183,7.15369,7.48859,7.82302,8.16665 ,8.51208,8.85679,9.20116,9.54513,10.076 ,10.4302,10.6164,10.6176,10.619,10.6187 ,10.2648,9.9105,9.55677,9.21309,8.86854 ,8.35113,8.00493,7.66763,7.33288, 6.99754,6.6619,6.3261,5.82484,5.49986, 5.17442,4.8488,4.52286,4.19656,3.87005, 3.38259,3.06698,2.75109,2.43511,2.1187, 1.80249,1.48549,1.16829,0.851283, 0.534367,0.218625,-0.0956198,-0.554869, -0.861205,-1.32112,-1.62752,-1.93341, -2.23985,-2.54656,-2.85345,-3.16043, -3.62146,-4.08213,-4.38948,-4.69733, -5.15876,-5.4664,-5.47583)
FOOTPRINT_POINT_LONGITUDE = (125.18,124.746,124.452,124.452,124.452 ,124.452,124.451,124.45,124.451,124.45, 124.448,124.443,124.444,124.441,124.439 ,124.437,124.435,124.432,124.43,124.427 ,124.425,124.419,124.416,124.414, 124.411,124.407,124.405,124.402,124.399 ,124.394,124.391,124.387,124.383,124.38 ,124.376,124.372,124.368,124.364, 124.359,124.355,124.35,124.345,124.34, 124.335,124.33,124.324,124.319,124.31, 124.304,124.44,124.729,125.155,125.536, 125.532,125.527,125.523,125.519,125.516 ,125.511,125.508,125.504,125.501, 125.499,125.496,125.494,125.49,125.488, 125.485,125.483,125.481,125.479,125.478 ,125.475,125.474,125.473,125.471,125.47 ,125.469,125.468,125.467,125.466, 125.465,125.463,125.462,125.461,125.461 ,125.461,125.46,125.459,125.459,125.458 ,125.458,125.458,125.458,125.458, 125.459,125.459,125.46,125.46,125.18)
ORBIT_NUMBER = 2070
ORBITAL_ECCENTRICITY = 0.573
ORBITAL_INCLINATION = 86.6
ORBITAL_SEMIMAJOR_AXIS = 8626.52
PERIAPSIS_ALTITUDE = 289.53
PERIAPSIS_ARGUMENT_ANGLE = 354.61
PERIAPSIS_TIME = 2005-08-25T08:44:10.000Z
SPACECRAFT_ORIENTATION = (0.0,1.0,0.0)
^MEX_ORIENTATION_DESC = "MEX_ORIENTATION_DESC.TXT"
SPACECRAFT_POINTING_MODE = ACROSSTRACK
^MEX_POINTING_DESC = "MEX_POINTING_DESC.TXT"
RIGHT_ASCENSION = -1e+32
DECLINATION = -1e+32
OFFSET_ANGLE = 0.25
SPACECRAFT_SOLAR_DISTANCE = 2.08235e+08
TARGET_NAME = MARS
/* CAMERA DATA ELEMENTS */
DETECTOR_TEMPERATURE = 18.5744
FOCAL_PLANE_TEMPERATURE = 10.2145
INST_CMPRS_NAME = "DISCRETE COSINE TRANSFORMATION (DCT)"
INST_CMPRS_RATIO = 9.30395
INST_CMPRS_QUALITY = 0
INST_CMPRS_QUANTZ_TBL_ID = 0
INSTRUMENT_TEMPERATURE = 11.6418
LENS_TEMPERATURE = 10.2145
MACROPIXEL_SIZE = 4
MISSING_FRAMES = 0
PIXEL_SUBSAMPLING_FLAG = N
SIGNAL_CHAIN_ID = 2
/* RADIOMETRIC DATA ELEMENTS */
BANDWIDTH = 88.0
CENTER_FILTER_WAVELENGTH = 538.0
RADIANCE_OFFSET = 1.81007
RADIANCE_SCALING_FACTOR = 0.00526648
REFLECTANCE_SCALING_FACTOR = 0.000196615
MEX:REFLECTANCE_OFFSET = 0.0675758
/* IMAGE OBJECT DEFINITIONS */
OBJECT = IMAGE
  INTERCHANGE_FORMAT = BINARY
  LINES = 19088
  LINE_SAMPLES = 1515
  SAMPLE_TYPE = UNSIGNED_INTEGER
  SAMPLE_BITS = 8
  BANDS = 1
  BAND_STORAGE_TYPE = BAND_SEQUENTIAL
  MAXIMUM = 232
  MEAN = 178.358
  MINIMUM = 116
  STANDARD_DEVIATION = 7.78362
END_OBJECT = IMAGE
/* MAP OBJECT DEFINITIONS */
OBJECT = IMAGE_MAP_PROJECTION
  ^DATA_SET_MAP_PROJECTION_CATALOG= "DSMAP.CAT"
  A_AXIS_RADIUS = 3396.0
  B_AXIS_RADIUS = 3396.0
  C_AXIS_RADIUS = 3396.0
  CENTER_LATITUDE = 0.0
  CENTER_LONGITUDE = 125.0
  COORDINATE_SYSTEM_NAME = PLANETOGRAPHIC
  COORDINATE_SYSTEM_TYPE = "BODY-FIXED ROTATING"
  EASTERNMOST_LONGITUDE = 125.536
  FIRST_STANDARD_PARALLEL = "N/A"
  LINE_FIRST_PIXEL = 1
  LINE_LAST_PIXEL = 19088
  LINE_PROJECTION_OFFSET = 12589.125
  MAP_PROJECTION_ROTATION = 0.0
  MAP_PROJECTION_TYPE = SINUSOIDAL
  MAP_RESOLUTION = 1185.42760773333
  MAP_SCALE = 0.05
  MAXIMUM_LATITUDE = 10.619
  MINIMUM_LATITUDE = -5.47692
  POSITIVE_LONGITUDE_DIRECTION = EAST
  REFERENCE_LATITUDE = "N/A"
  REFERENCE_LONGITUDE = "N/A"
  SAMPLE_FIRST_PIXEL = 1
  SAMPLE_LAST_PIXEL = 1515
  SAMPLE_PROJECTION_OFFSET = 871.125
  SECOND_STANDARD_PARALLEL = "N/A"
  WESTERNMOST_LONGITUDE = 124.304
END_OBJECT = IMAGE_MAP_PROJECTION
/* The JPEG2000 image data file associated with this label. */
OBJECT = COMPRESSED_FILE
  FILE_NAME = "H2070_0000_GR3.JP2"
  RECORD_TYPE = UNDEFINED
  FILE_RECORDS = UNK
  ENCODING_TYPE = "JP2"
  INTERCHANGE_FORMAT = BINARY
  UNCOMPRESSED_FILE_NAME = "H2070_0000_GR3.IMG"
  REQUIRED_STORAGE_BYTES = "28938015"
  ^DESCRIPTION = "JP2INFO.TXT"
END_OBJECT = COMPRESSED_FILE
END
