PDS_VERSION_ID = PDS3
/* FILE DATA ELEMENTS */
RECORD_TYPE = STREAM
/* POINTERS TO DATA OBJECTS */
^COMPRESSED_FILE = "H2070_0000_RE3.JP2"
/* IDENTIFICATION DATA ELEMENTS */
DATA_SET_ID = "MEX-M-HRSC-5-REFDR-MAPPROJECTED-V3.0"
DATA_SET_NAME = "MARS EXPRESS HRSC MAP PROJECTED REFDR V3.0"
DETECTOR_ID = MEX_HRSC_RED
EVENT_TYPE = "MARS-REGIONAL-MAPPING-Te-Fl-Pf"
INSTRUMENT_HOST_ID = MEX
INSTRUMENT_HOST_NAME = "MARS EXPRESS"
INSTRUMENT_ID = HRSC
INSTRUMENT_NAME = "HIGH RESOLUTION STEREO CAMERA"
MISSION_NAME = "MARS EXPRESS"
MISSION_PHASE_NAME = MR_Phase_7
PROCESSING_LEVEL_ID = 3
PRODUCT_CREATION_TIME = 2016-03-10T10:27:20.000Z
PRODUCT_ID = "H2070_0000_RE3.JP2"
RELEASE_ID = 0026
REVISION_ID = 0000
/* QUALITY DATA ELEMENTS */
DATA_QUALITY_ID = 1
DATA_QUALITY_DESC = "Data calculated based on original SPICE kernels"
/* TIME DATA ELEMENTS */
SPACECRAFT_CLOCK_START_COUNT = "1/0073039415.56194"
SPACECRAFT_CLOCK_STOP_COUNT = "1/0073039720.38627"
START_TIME = 2005-08-25T08:43:47.549Z
STOP_TIME = 2005-08-25T08:47:48.904Z
/* ORBITAL DATA ELEMENTS */
ASCENDING_NODE_LONGITUDE = 184.85
MAXIMUM_RESOLUTION = 48.1
FOOTPRINT_POINT_LATITUDE = (-5.48548,-5.48239,-5.47764,-5.47884, -5.1723,-4.86558,-4.55965,-4.252, -3.94388,-3.63513,-3.33021,-3.02241, -2.55346,-2.24143,-1.78047,-1.47219, -1.16235,-0.698683,-0.387668,-0.0779924 ,0.233387,0.542273,0.856213,1.32562, 1.63647,1.95611,2.27878,2.76052,3.08217 ,3.56546,3.88782,4.21004,4.53375, 4.85551,5.17846,5.50971,5.84401,6.34555 ,6.6806,7.18197,7.51656,7.85438,8.20089 ,8.71975,9.06619,9.41227,9.7583,10.114, 10.4716,10.651,10.6485,10.6441,10.6408, 10.6378,10.2802,10.1013,9.74535,9.39834 ,8.87939,8.53123,8.01615,7.66969, 7.33525,6.83511,6.5004,6.16516,5.83062, 5.49604,5.16452,4.84152,4.35729,4.03436 ,3.71156,3.38994,3.06779,2.58462, 2.10137,1.77878,1.46781,1.15988, 0.847242,0.537035,0.218773,-0.0919129, -0.401739,-0.709222,-1.17137,-1.4817, -1.79169,-2.1054,-2.41479,-2.7243, -3.03301,-3.34096,-3.64842,-3.95746, -4.41939,-4.87911,-5.18543,-5.48548)
FOOTPRINT_POINT_LONGITUDE = (125.321,125.104,124.809,124.447, 124.447,124.447,124.448,124.448,124.447 ,124.446,124.448,124.447,124.443,124.44 ,124.44,124.439,124.438,124.436,124.434 ,124.432,124.43,124.428,124.424,124.419 ,124.417,124.414,124.411,124.409, 124.406,124.402,124.4,124.397,124.393, 124.391,124.387,124.384,124.38,124.375, 124.371,124.365,124.361,124.356,124.351 ,124.345,124.34,124.335,124.33,124.325, 124.319,124.417,124.642,125.011,125.311 ,125.514,125.51,125.509,125.505,125.502 ,125.497,125.494,125.491,125.488, 125.485,125.482,125.48,125.478,125.476, 125.474,125.473,125.471,125.469,125.468 ,125.466,125.465,125.464,125.463, 125.462,125.461,125.461,125.46,125.459, 125.459,125.457,125.457,125.456,125.457 ,125.457,125.457,125.457,125.456, 125.456,125.456,125.456,125.457,125.457 ,125.458,125.459,125.46,125.461, 125.321)
ORBIT_NUMBER = 2070
ORBITAL_ECCENTRICITY = 0.573
ORBITAL_INCLINATION = 86.6
ORBITAL_SEMIMAJOR_AXIS = 8626.52
PERIAPSIS_ALTITUDE = 289.53
PERIAPSIS_ARGUMENT_ANGLE = 354.61
PERIAPSIS_TIME = 2005-08-25T08:44:10.000Z
SPACECRAFT_ORIENTATION = (0.0,1.0,0.0)
^MEX_ORIENTATION_DESC = "MEX_ORIENTATION_DESC.TXT"
SPACECRAFT_POINTING_MODE = ACROSSTRACK
^MEX_POINTING_DESC = "MEX_POINTING_DESC.TXT"
RIGHT_ASCENSION = -1e+32
DECLINATION = -1e+32
OFFSET_ANGLE = 0.25
SPACECRAFT_SOLAR_DISTANCE = 2.08235e+08
TARGET_NAME = MARS
/* CAMERA DATA ELEMENTS */
DETECTOR_TEMPERATURE = 18.9822
FOCAL_PLANE_TEMPERATURE = 10.2145
INST_CMPRS_NAME = "DISCRETE COSINE TRANSFORMATION (DCT)"
INST_CMPRS_RATIO = 10.0835
INST_CMPRS_QUALITY = 0
INST_CMPRS_QUANTZ_TBL_ID = 0
INSTRUMENT_TEMPERATURE = 11.6418
LENS_TEMPERATURE = 10.2145
MACROPIXEL_SIZE = 4
MISSING_FRAMES = 0
PIXEL_SUBSAMPLING_FLAG = N
SIGNAL_CHAIN_ID = 2
/* RADIOMETRIC DATA ELEMENTS */
BANDWIDTH = 48.0
CENTER_FILTER_WAVELENGTH = 748.0
RADIANCE_OFFSET = 1.41653
RADIANCE_SCALING_FACTOR = 0.00671
REFLECTANCE_SCALING_FACTOR = 0.000663986
MEX:REFLECTANCE_OFFSET = 0.140172
/* IMAGE OBJECT DEFINITIONS */
OBJECT = IMAGE
  INTERCHANGE_FORMAT = BINARY
  LINES = 19088
  LINE_SAMPLES = 1515
  SAMPLE_TYPE = UNSIGNED_INTEGER
  SAMPLE_BITS = 8
  BANDS = 1
  BAND_STORAGE_TYPE = BAND_SEQUENTIAL
  MAXIMUM = 235
  MEAN = 177.422
  MINIMUM = 94
  STANDARD_DEVIATION = 10.2141
END_OBJECT = IMAGE
/* MAP OBJECT DEFINITIONS */
OBJECT = IMAGE_MAP_PROJECTION
  ^DATA_SET_MAP_PROJECTION_CATALOG= "DSMAP.CAT"
  A_AXIS_RADIUS = 3396.0
  B_AXIS_RADIUS = 3396.0
  C_AXIS_RADIUS = 3396.0
  CENTER_LATITUDE = 0.0
  CENTER_LONGITUDE = 125.0
  COORDINATE_SYSTEM_NAME = PLANETOGRAPHIC
  COORDINATE_SYSTEM_TYPE = "BODY-FIXED ROTATING"
  EASTERNMOST_LONGITUDE = 125.514
  FIRST_STANDARD_PARALLEL = "N/A"
  LINE_FIRST_PIXEL = 1
  LINE_LAST_PIXEL = 19088
  LINE_PROJECTION_OFFSET = 12589.125
  MAP_PROJECTION_ROTATION = 0.0
  MAP_PROJECTION_TYPE = SINUSOIDAL
  MAP_RESOLUTION = 1185.42760773333
  MAP_SCALE = 0.05
  MAXIMUM_LATITUDE = 10.651
  MINIMUM_LATITUDE = -5.48548
  POSITIVE_LONGITUDE_DIRECTION = EAST
  REFERENCE_LATITUDE = "N/A"
  REFERENCE_LONGITUDE = "N/A"
  SAMPLE_FIRST_PIXEL = 1
  SAMPLE_LAST_PIXEL = 1515
  SAMPLE_PROJECTION_OFFSET = 871.125
  SECOND_STANDARD_PARALLEL = "N/A"
  WESTERNMOST_LONGITUDE = 124.319
END_OBJECT = IMAGE_MAP_PROJECTION
/* The JPEG2000 image data file associated with this label. */
OBJECT = COMPRESSED_FILE
  FILE_NAME = "H2070_0000_RE3.JP2"
  RECORD_TYPE = UNDEFINED
  FILE_RECORDS = UNK
  ENCODING_TYPE = "JP2"
  INTERCHANGE_FORMAT = BINARY
  UNCOMPRESSED_FILE_NAME = "H2070_0000_RE3.IMG"
  REQUIRED_STORAGE_BYTES = "28938015"
  ^DESCRIPTION = "JP2INFO.TXT"
END_OBJECT = COMPRESSED_FILE
END
