PDS_VERSION_ID = PDS3
/* FILE DATA ELEMENTS */
RECORD_TYPE = STREAM
/* POINTERS TO DATA OBJECTS */
^COMPRESSED_FILE = "H2070_0000_S23.JP2"
/* IDENTIFICATION DATA ELEMENTS */
DATA_SET_ID = "MEX-M-HRSC-5-REFDR-MAPPROJECTED-V3.0"
DATA_SET_NAME = "MARS EXPRESS HRSC MAP PROJECTED REFDR V3.0"
DETECTOR_ID = MEX_HRSC_S2
EVENT_TYPE = "MARS-REGIONAL-MAPPING-Te-Fl-Pf"
INSTRUMENT_HOST_ID = MEX
INSTRUMENT_HOST_NAME = "MARS EXPRESS"
INSTRUMENT_ID = HRSC
INSTRUMENT_NAME = "HIGH RESOLUTION STEREO CAMERA"
MISSION_NAME = "MARS EXPRESS"
MISSION_PHASE_NAME = MR_Phase_7
PROCESSING_LEVEL_ID = 3
PRODUCT_CREATION_TIME = 2016-03-10T10:27:20.000Z
PRODUCT_ID = "H2070_0000_S23.JP2"
RELEASE_ID = 0026
REVISION_ID = 0000
/* QUALITY DATA ELEMENTS */
DATA_QUALITY_ID = 1
DATA_QUALITY_DESC = "Data calculated based on original SPICE kernels"
/* TIME DATA ELEMENTS */
SPACECRAFT_CLOCK_START_COUNT = "1/0073039415.56194"
SPACECRAFT_CLOCK_STOP_COUNT = "1/0073039720.38627"
START_TIME = 2005-08-25T08:43:42.981Z
STOP_TIME = 2005-08-25T08:47:43.998Z
/* ORBITAL DATA ELEMENTS */
ASCENDING_NODE_LONGITUDE = 184.85
MAXIMUM_RESOLUTION = 24.5
FOOTPRINT_POINT_LATITUDE = (-5.49829,-5.49268,-5.4861,-5.18458, -4.87795,-4.57288,-4.11126,-3.80326, -3.34485,-2.88094,-2.57026,-2.25504, -1.79312,-1.32988,-1.01935,-0.710845, -0.399346,-0.0889857,0.222629,0.689904, 1.00986,1.31995,1.78736,2.26213,2.58407 ,3.06744,3.55209,3.87538,4.19854, 4.52338,4.84631,5.17056,5.49441,5.99523 ,6.33045,6.66708,7.17068,7.67584, 8.01225,8.35681,8.70497,9.05308,9.57523 ,9.92302,10.275,10.4551,10.6352,10.6579 ,10.6547,10.6521,10.6478,10.6443, 10.4644,10.2845,10.1054,9.75697,9.40796 ,8.88608,8.71094,8.53561,8.19554, 7.84758,7.51385,7.17712,6.8425,6.50625, 6.16942,5.8335,5.49984,5.1757,4.85104, 4.36544,4.04137,3.71752,3.39511,3.07193 ,2.7494,2.42563,2.10338,1.78841,1.48072 ,1.01613,0.703572,0.387985,-0.0846393, -0.394306,-0.702252,-1.1644,-1.47579, -1.94336,-2.25546,-2.56494,-3.0284, -3.33621,-3.64343,-3.95254,-4.41424, -4.87324,-5.17906,-5.49829)
FOOTPRINT_POINT_LONGITUDE = (125.327,125.011,124.692,124.443, 124.443,124.444,124.444,124.443,124.444 ,124.443,124.441,124.438,124.437, 124.436,124.434,124.433,124.431,124.429 ,124.427,124.424,124.418,124.416, 124.412,124.409,124.407,124.404,124.4, 124.398,124.395,124.391,124.389,124.385 ,124.382,124.376,124.373,124.369, 124.363,124.357,124.352,124.348,124.343 ,124.339,124.331,124.326,124.321, 124.318,124.315,124.583,124.781,124.967 ,125.267,125.512,125.51,125.509,125.507 ,125.504,125.5,125.496,125.494,125.493, 125.492,125.488,125.486,125.483,125.482 ,125.479,125.477,125.476,125.474, 125.472,125.471,125.469,125.467,125.466 ,125.465,125.464,125.463,125.462, 125.462,125.461,125.461,125.46,125.46, 125.459,125.457,125.457,125.457,125.458 ,125.457,125.457,125.457,125.457, 125.458,125.458,125.459,125.459,125.46, 125.461,125.462,125.327)
ORBIT_NUMBER = 2070
ORBITAL_ECCENTRICITY = 0.573
ORBITAL_INCLINATION = 86.6
ORBITAL_SEMIMAJOR_AXIS = 8626.52
PERIAPSIS_ALTITUDE = 289.53
PERIAPSIS_ARGUMENT_ANGLE = 354.61
PERIAPSIS_TIME = 2005-08-25T08:44:10.000Z
SPACECRAFT_ORIENTATION = (0.0,1.0,0.0)
^MEX_ORIENTATION_DESC = "MEX_ORIENTATION_DESC.TXT"
SPACECRAFT_POINTING_MODE = ACROSSTRACK
^MEX_POINTING_DESC = "MEX_POINTING_DESC.TXT"
RIGHT_ASCENSION = -1e+32
DECLINATION = -1e+32
OFFSET_ANGLE = 0.25
SPACECRAFT_SOLAR_DISTANCE = 2.08235e+08
TARGET_NAME = MARS
/* CAMERA DATA ELEMENTS */
DETECTOR_TEMPERATURE = 18.9822
FOCAL_PLANE_TEMPERATURE = 10.2145
INST_CMPRS_NAME = "DISCRETE COSINE TRANSFORMATION (DCT)"
INST_CMPRS_RATIO = 8.27762
INST_CMPRS_QUALITY = 0
INST_CMPRS_QUANTZ_TBL_ID = 0
INSTRUMENT_TEMPERATURE = 11.6418
LENS_TEMPERATURE = 10.2145
MACROPIXEL_SIZE = 2
MISSING_FRAMES = 0
PIXEL_SUBSAMPLING_FLAG = N
SIGNAL_CHAIN_ID = 1
/* RADIOMETRIC DATA ELEMENTS */
BANDWIDTH = 178.0
CENTER_FILTER_WAVELENGTH = 679.0
RADIANCE_OFFSET = 5.56916
RADIANCE_SCALING_FACTOR = 0.0228236
REFLECTANCE_SCALING_FACTOR = 0.000524111
MEX:REFLECTANCE_OFFSET = 0.127888
/* IMAGE OBJECT DEFINITIONS */
OBJECT = IMAGE
  INTERCHANGE_FORMAT = BINARY
  LINES = 38176
  LINE_SAMPLES = 3029
  SAMPLE_TYPE = UNSIGNED_INTEGER
  SAMPLE_BITS = 8
  BANDS = 1
  BAND_STORAGE_TYPE = BAND_SEQUENTIAL
  MAXIMUM = 254
  MEAN = 182.509
  MINIMUM = 103
  STANDARD_DEVIATION = 9.57567
END_OBJECT = IMAGE
/* MAP OBJECT DEFINITIONS */
OBJECT = IMAGE_MAP_PROJECTION
  ^DATA_SET_MAP_PROJECTION_CATALOG= "DSMAP.CAT"
  A_AXIS_RADIUS = 3396.0
  B_AXIS_RADIUS = 3396.0
  C_AXIS_RADIUS = 3396.0
  CENTER_LATITUDE = 0.0
  CENTER_LONGITUDE = 125.0
  COORDINATE_SYSTEM_NAME = PLANETOGRAPHIC
  COORDINATE_SYSTEM_TYPE = "BODY-FIXED ROTATING"
  EASTERNMOST_LONGITUDE = 125.512
  FIRST_STANDARD_PARALLEL = "N/A"
  LINE_FIRST_PIXEL = 1
  LINE_LAST_PIXEL = 38176
  LINE_PROJECTION_OFFSET = 25178.75
  MAP_PROJECTION_ROTATION = 0.0
  MAP_PROJECTION_TYPE = SINUSOIDAL
  MAP_RESOLUTION = 2370.85521546667
  MAP_SCALE = 0.025
  MAXIMUM_LATITUDE = 10.6579
  MINIMUM_LATITUDE = -5.49829
  POSITIVE_LONGITUDE_DIRECTION = EAST
  REFERENCE_LATITUDE = "N/A"
  REFERENCE_LONGITUDE = "N/A"
  SAMPLE_FIRST_PIXEL = 1
  SAMPLE_LAST_PIXEL = 3029
  SAMPLE_PROJECTION_OFFSET = 1742.75
  SECOND_STANDARD_PARALLEL = "N/A"
  WESTERNMOST_LONGITUDE = 124.315
END_OBJECT = IMAGE_MAP_PROJECTION
/* The JPEG2000 image data file associated with this label. */
OBJECT = COMPRESSED_FILE
  FILE_NAME = "H2070_0000_S23.JP2"
  RECORD_TYPE = UNDEFINED
  FILE_RECORDS = UNK
  ENCODING_TYPE = "JP2"
  INTERCHANGE_FORMAT = BINARY
  UNCOMPRESSED_FILE_NAME = "H2070_0000_S23.IMG"
  REQUIRED_STORAGE_BYTES = "115659336"
  ^DESCRIPTION = "JP2INFO.TXT"
END_OBJECT = COMPRESSED_FILE
END
