PDS_VERSION_ID = PDS3
/* FILE DATA ELEMENTS */
RECORD_TYPE = STREAM
/* POINTERS TO DATA OBJECTS */
^COMPRESSED_FILE = "H2074_0000_P13.JP2"
/* IDENTIFICATION DATA ELEMENTS */
DATA_SET_ID = "MEX-M-HRSC-5-REFDR-MAPPROJECTED-V3.0"
DATA_SET_NAME = "MARS EXPRESS HRSC MAP PROJECTED REFDR V3.0"
DETECTOR_ID = MEX_HRSC_P1
EVENT_TYPE = "MARS-REGIONAL-STEREO-Vo-Te-Pf"
INSTRUMENT_HOST_ID = MEX
INSTRUMENT_HOST_NAME = "MARS EXPRESS"
INSTRUMENT_ID = HRSC
INSTRUMENT_NAME = "HIGH RESOLUTION STEREO CAMERA"
MISSION_NAME = "MARS EXPRESS"
MISSION_PHASE_NAME = MR_Phase_7
PROCESSING_LEVEL_ID = 3
PRODUCT_CREATION_TIME = 2016-03-10T10:27:20.000Z
PRODUCT_ID = "H2074_0000_P13.JP2"
RELEASE_ID = 0026
REVISION_ID = 0000
/* QUALITY DATA ELEMENTS */
DATA_QUALITY_ID = 1
DATA_QUALITY_DESC = "Data calculated based on original SPICE kernels"
/* TIME DATA ELEMENTS */
SPACECRAFT_CLOCK_START_COUNT = "1/0073136284.57959"
SPACECRAFT_CLOCK_STOP_COUNT = "1/0073136457.24157"
START_TIME = 2005-08-26T11:38:55.553Z
STOP_TIME = 2005-08-26T11:40:51.417Z
/* ORBITAL DATA ELEMENTS */
ASCENDING_NODE_LONGITUDE = 184.77
MAXIMUM_RESOLUTION = 25.2
FOOTPRINT_POINT_LATITUDE = (1.94282,1.94233,1.94179,1.94098, 1.93945,2.00396,2.14279,2.2828,2.49816, 2.64186,2.7861,2.92721,3.06974,3.21091, 3.35449,3.49716,3.63818,3.78171,3.9244, 4.1378,4.28106,4.42404,4.56512,4.71222, 4.93303,5.08019,5.30041,5.44716,5.66731 ,5.81411,5.96085,6.10747,6.25397, 6.47353,6.70039,6.85151,7.07802,7.22889 ,7.37951,7.53009,7.68057,7.90616, 8.05645,8.2093,8.36429,8.59661,8.75125, 8.90575,9.06012,9.2916,9.31572,9.31663, 9.31748,9.31768,9.31777,9.16316,9.00886 ,8.77741,8.62284,8.46816,8.31326, 8.08205,7.93182,7.78151,7.63111,7.48059 ,7.32995,7.17923,7.02845,6.87737, 6.72623,6.57509,6.42578,6.27965,6.13334 ,5.98739,5.84078,5.69414,5.54747,5.402, 5.25516,5.10673,4.9599,4.73982,4.52042, 4.37807,4.23638,4.02403,3.88236,3.66923 ,3.52492,3.38118,3.23822,3.02433, 2.88463,2.66979,2.52592,2.38277,2.10584 ,1.94282)
FOOTPRINT_POINT_LONGITUDE = (92.61,92.4136,92.2377,92.0306,91.7302, 91.5683,91.5669,91.5655,91.5632,91.5617 ,91.5606,91.5578,91.5558,91.5532, 91.5518,91.5499,91.5473,91.5459,91.5441 ,91.5412,91.5397,91.5382,91.5357, 91.5337,91.5308,91.5288,91.5257,91.5236 ,91.5206,91.5186,91.5167,91.5146, 91.5126,91.5095,91.5063,91.5041,91.5008 ,91.4986,91.4963,91.494,91.4917,91.4883 ,91.4859,91.4835,91.481,91.4773,91.4748 ,91.4723,91.4697,91.4659,91.7423, 91.9347,92.2353,92.3916,92.6078,92.7064 ,92.7045,92.7017,92.6999,92.6981, 92.6964,92.6939,92.6923,92.6908,92.6892 ,92.6876,92.6861,92.6846,92.6831, 92.6817,92.6803,92.6789,92.6774,92.676, 92.6747,92.6731,92.6719,92.6706,92.6693 ,92.6675,92.6662,92.6656,92.6643, 92.6622,92.6607,92.6596,92.6582,92.656, 92.6546,92.6526,92.6523,92.6517,92.6507 ,92.649,92.6466,92.6452,92.6445,92.6436 ,92.64,92.61)
ORBIT_NUMBER = 2074
ORBITAL_ECCENTRICITY = 0.573
ORBITAL_INCLINATION = 86.62
ORBITAL_SEMIMAJOR_AXIS = 8628.35
PERIAPSIS_ALTITUDE = 288.3
PERIAPSIS_ARGUMENT_ANGLE = 353.87
PERIAPSIS_TIME = 2005-08-26T11:36:36.000Z
SPACECRAFT_ORIENTATION = (0.0,1.0,0.0)
^MEX_ORIENTATION_DESC = "MEX_ORIENTATION_DESC.TXT"
SPACECRAFT_POINTING_MODE = ACROSSTRACK
^MEX_POINTING_DESC = "MEX_POINTING_DESC.TXT"
RIGHT_ASCENSION = -1e+32
DECLINATION = -1e+32
OFFSET_ANGLE = 0.05
SPACECRAFT_SOLAR_DISTANCE = 2.08327e+08
TARGET_NAME = MARS
/* CAMERA DATA ELEMENTS */
DETECTOR_TEMPERATURE = 17.9627
FOCAL_PLANE_TEMPERATURE = 10.0106
INST_CMPRS_NAME = "DISCRETE COSINE TRANSFORMATION (DCT)"
INST_CMPRS_RATIO = 7.62499
INST_CMPRS_QUALITY = 0
INST_CMPRS_QUANTZ_TBL_ID = 0
INSTRUMENT_TEMPERATURE = 11.8457
LENS_TEMPERATURE = 10.4184
MACROPIXEL_SIZE = 2
MISSING_FRAMES = 0
PIXEL_SUBSAMPLING_FLAG = N
SIGNAL_CHAIN_ID = 3
/* RADIOMETRIC DATA ELEMENTS */
BANDWIDTH = 174.0
CENTER_FILTER_WAVELENGTH = 675.0
RADIANCE_OFFSET = 5.67245
RADIANCE_SCALING_FACTOR = 0.0171238
REFLECTANCE_SCALING_FACTOR = 0.000399739
MEX:REFLECTANCE_OFFSET = 0.132418
/* IMAGE OBJECT DEFINITIONS */
OBJECT = IMAGE
  INTERCHANGE_FORMAT = BINARY
  LINES = 17510
  LINE_SAMPLES = 2969
  SAMPLE_TYPE = UNSIGNED_INTEGER
  SAMPLE_BITS = 8
  BANDS = 1
  BAND_STORAGE_TYPE = BAND_SEQUENTIAL
  MAXIMUM = 254
  MEAN = 201.194
  MINIMUM = 133
  STANDARD_DEVIATION = 9.57135
END_OBJECT = IMAGE
/* MAP OBJECT DEFINITIONS */
OBJECT = IMAGE_MAP_PROJECTION
  ^DATA_SET_MAP_PROJECTION_CATALOG= "DSMAP.CAT"
  A_AXIS_RADIUS = 3396.0
  B_AXIS_RADIUS = 3396.0
  C_AXIS_RADIUS = 3396.0
  CENTER_LATITUDE = 0.0
  CENTER_LONGITUDE = 92.0
  COORDINATE_SYSTEM_NAME = PLANETOGRAPHIC
  COORDINATE_SYSTEM_TYPE = "BODY-FIXED ROTATING"
  EASTERNMOST_LONGITUDE = 92.7064
  FIRST_STANDARD_PARALLEL = "N/A"
  LINE_FIRST_PIXEL = 1
  LINE_LAST_PIXEL = 17510
  LINE_PROJECTION_OFFSET = 22147.75
  MAP_PROJECTION_ROTATION = 0.0
  MAP_PROJECTION_TYPE = SINUSOIDAL
  MAP_RESOLUTION = 2370.85521546667
  MAP_SCALE = 0.025
  MAXIMUM_LATITUDE = 9.317769999999999
  MINIMUM_LATITUDE = 1.93945
  POSITIVE_LONGITUDE_DIRECTION = EAST
  REFERENCE_LATITUDE = "N/A"
  REFERENCE_LONGITUDE = "N/A"
  SAMPLE_FIRST_PIXEL = 1
  SAMPLE_LAST_PIXEL = 2969
  SAMPLE_PROJECTION_OFFSET = 1283.75
  SECOND_STANDARD_PARALLEL = "N/A"
  WESTERNMOST_LONGITUDE = 91.4659
END_OBJECT = IMAGE_MAP_PROJECTION
/* The JPEG2000 image data file associated with this label. */
OBJECT = COMPRESSED_FILE
  FILE_NAME = "H2074_0000_P13.JP2"
  RECORD_TYPE = UNDEFINED
  FILE_RECORDS = UNK
  ENCODING_TYPE = "JP2"
  INTERCHANGE_FORMAT = BINARY
  UNCOMPRESSED_FILE_NAME = "H2074_0000_P13.IMG"
  REQUIRED_STORAGE_BYTES = "52010942"
  ^DESCRIPTION = "JP2INFO.TXT"
END_OBJECT = COMPRESSED_FILE
END
