PDS_VERSION_ID = PDS3
/* FILE DATA ELEMENTS */
RECORD_TYPE = STREAM
/* POINTERS TO DATA OBJECTS */
^COMPRESSED_FILE = "H2074_0006_SR3.JP2"
/* IDENTIFICATION DATA ELEMENTS */
DATA_SET_ID = "MEX-M-HRSC-5-REFDR-MAPPROJECTED-V3.0"
DATA_SET_NAME = "MARS EXPRESS HRSC MAP PROJECTED REFDR V3.0"
DETECTOR_ID = MEX_HRSC_SRC
EVENT_TYPE = "MARS-REGIONAL-STEREO-Vo-Te-Pf"
INSTRUMENT_HOST_ID = MEX
INSTRUMENT_HOST_NAME = "MARS EXPRESS"
INSTRUMENT_ID = HRSC
INSTRUMENT_NAME = "HIGH RESOLUTION STEREO CAMERA"
MISSION_NAME = "MARS EXPRESS"
MISSION_PHASE_NAME = MR_Phase_7
PROCESSING_LEVEL_ID = 3
PRODUCT_CREATION_TIME = 2016-03-10T10:27:20.000Z
PRODUCT_ID = "H2074_0006_SR3.JP2"
RELEASE_ID = 0026
REVISION_ID = 0000
/* QUALITY DATA ELEMENTS */
DATA_QUALITY_ID = 1
DATA_QUALITY_DESC = "Data calculated based on original SPICE kernels"
/* TIME DATA ELEMENTS */
SPACECRAFT_CLOCK_START_COUNT = "1/0073136284.57959"
SPACECRAFT_CLOCK_STOP_COUNT = "1/0073136457.24157"
IMAGE_TIME = 2005-08-26T11:40:02.361Z
START_TIME = 2005-08-26T11:40:02.359Z
STOP_TIME = 2005-08-26T11:40:02.364Z
/* ORBITAL DATA ELEMENTS */
ASCENDING_NODE_LONGITUDE = 184.77
MAXIMUM_RESOLUTION = 3.016
FOOTPRINT_POINT_LATITUDE = (7.43317,7.43449,7.43648,7.43852, 7.44061,7.44209,7.44367,7.44616,7.44764 ,7.44957,7.45263,7.45559,7.45722, 7.45905,7.46139,7.46328,7.46542,7.46674 ,7.46893,7.47138,7.47301,7.47545, 7.47734,7.47973,7.48187,7.48335,7.48402 ,7.48403,7.48403,7.48404,7.48404, 7.48405,7.48405,7.48406,7.48406,7.48407 ,7.48407,7.48408,7.48408,7.48409, 7.48409,7.4841,7.4841,7.48411,7.48411, 7.48412,7.48412,7.48413,7.48413,7.48414 ,7.48358,7.48109,7.47925,7.47691, 7.47543,7.47319,7.46978,7.46784,7.46489 ,7.46351,7.46158,7.45888,7.45684, 7.45424,7.45185,7.45022,7.44782,7.44629 ,7.44395,7.44161,7.43988,7.43835, 7.43631,7.43371,7.43284,7.43284,7.43283 ,7.43283,7.43282,7.43282,7.43281, 7.43281,7.4328,7.4328,7.43279,7.43278, 7.43278,7.43277,7.43277,7.43276,7.43276 ,7.43275,7.43275,7.43274,7.43274, 7.43273,7.43273,7.43272,7.43272, 7.43317)
FOOTPRINT_POINT_LONGITUDE = (92.0698,92.0698,92.0698,92.0698, 92.0698,92.0698,92.0698,92.0698,92.0698 ,92.0698,92.0698,92.0698,92.0698, 92.0698,92.0697,92.0697,92.0697,92.0697 ,92.0697,92.0697,92.0697,92.0697, 92.0697,92.0697,92.0697,92.0697,92.0723 ,92.0744,92.0764,92.0785,92.0805, 92.0826,92.0852,92.0872,92.0893,92.0913 ,92.0934,92.0954,92.0975,92.0995, 92.1016,92.1037,92.1057,92.1078,92.1098 ,92.1119,92.1139,92.116,92.118,92.1196, 92.1219,92.1219,92.122,92.122,92.122, 92.122,92.122,92.122,92.122,92.122, 92.122,92.122,92.122,92.122,92.122, 92.122,92.122,92.122,92.122,92.122, 92.1221,92.1221,92.1221,92.1221,92.1205 ,92.1184,92.1164,92.1143,92.1123, 92.1102,92.1081,92.1061,92.104,92.102, 92.0999,92.0979,92.0958,92.0938,92.0917 ,92.0897,92.0876,92.0855,92.0835, 92.0814,92.0794,92.0773,92.0758,92.0737 ,92.0717,92.0698)
ORBIT_NUMBER = 2074
ORBITAL_ECCENTRICITY = 0.573
ORBITAL_INCLINATION = 86.62
ORBITAL_SEMIMAJOR_AXIS = 8628.35
PERIAPSIS_ALTITUDE = 288.3
PERIAPSIS_ARGUMENT_ANGLE = 353.87
PERIAPSIS_TIME = 2005-08-26T11:36:36.000Z
SPACECRAFT_ORIENTATION = (0.0,1.0,0.0)
^MEX_ORIENTATION_DESC = "MEX_ORIENTATION_DESC.TXT"
SPACECRAFT_POINTING_MODE = ACROSSTRACK
^MEX_POINTING_DESC = "MEX_POINTING_DESC.TXT"
RIGHT_ASCENSION = -1e+32
DECLINATION = -1e+32
OFFSET_ANGLE = 0.05
SPACECRAFT_SOLAR_DISTANCE = 2.08327e+08
TARGET_NAME = MARS
/* CAMERA DATA ELEMENTS */
BUFFER_MODE_ID = BUFFER_8
EXPOSURE_DURATION = 5.04
INST_CMPRS_NAME = NONE
INST_CMPRS_RATIO = 1.0
INST_CMPRS_QUALITY = -2147483648
INST_CMPRS_QUANTZ_TBL_ID = -2147483648
INSTRUMENT_TEMPERATURE = 11.2121
MISSING_FRAMES = 0
START_BIT = 0
/* RADIOMETRIC DATA ELEMENTS */
BANDWIDTH = 250.0
CENTER_FILTER_WAVELENGTH = 600.0
RADIANCE_OFFSET = -9.99e+31
RADIANCE_SCALING_FACTOR = -9.99e+31
REFLECTANCE_SCALING_FACTOR = -9.99e+31
MEX:REFLECTANCE_OFFSET = -9.99e+31
/* IMAGE OBJECT DEFINITIONS */
OBJECT = IMAGE
  INTERCHANGE_FORMAT = BINARY
  LINES = 1261
  LINE_SAMPLES = 1273
  SAMPLE_TYPE = UNSIGNED_INTEGER
  SAMPLE_BITS = 8
  BANDS = 1
  BAND_STORAGE_TYPE = BAND_SEQUENTIAL
  MAXIMUM = 7198
  MEAN = 6663.09
  MINIMUM = 5759
  STANDARD_DEVIATION = 100.985
END_OBJECT = IMAGE
/* MAP OBJECT DEFINITIONS */
OBJECT = IMAGE_MAP_PROJECTION
  ^DATA_SET_MAP_PROJECTION_CATALOG= "DSMAP.CAT"
  A_AXIS_RADIUS = 3396.19
  B_AXIS_RADIUS = 3396.19
  C_AXIS_RADIUS = 3396.19
  CENTER_LATITUDE = 0.0
  CENTER_LONGITUDE = 92.0
  COORDINATE_SYSTEM_NAME = PLANETOGRAPHIC
  COORDINATE_SYSTEM_TYPE = "BODY-FIXED ROTATING"
  EASTERNMOST_LONGITUDE = 92.1221
  FIRST_STANDARD_PARALLEL = "N/A"
  LINE_FIRST_PIXEL = 1
  LINE_LAST_PIXEL = 1261
  LINE_PROJECTION_OFFSET = 177460.0
  MAP_PROJECTION_ROTATION = 0.0
  MAP_PROJECTION_TYPE = SINUSOIDAL
  MAP_RESOLUTION = 23709.8786048756
  MAP_SCALE = 0.0025
  MAXIMUM_LATITUDE = 7.48414
  MINIMUM_LATITUDE = 7.43272
  POSITIVE_LONGITUDE_DIRECTION = EAST
  REFERENCE_LATITUDE = "N/A"
  REFERENCE_LONGITUDE = "N/A"
  SAMPLE_FIRST_PIXEL = 1
  SAMPLE_LAST_PIXEL = 1273
  SAMPLE_PROJECTION_OFFSET = -1618.0
  SECOND_STANDARD_PARALLEL = "N/A"
  WESTERNMOST_LONGITUDE = 92.0697
END_OBJECT = IMAGE_MAP_PROJECTION
/* The JPEG2000 image data file associated with this label. */
OBJECT = COMPRESSED_FILE
  FILE_NAME = "H2074_0006_SR3.JP2"
  RECORD_TYPE = UNDEFINED
  FILE_RECORDS = UNK
  ENCODING_TYPE = "JP2"
  INTERCHANGE_FORMAT = BINARY
  UNCOMPRESSED_FILE_NAME = "H2074_0006_SR3.IMG"
  REQUIRED_STORAGE_BYTES = "1624348"
  ^DESCRIPTION = "JP2INFO.TXT"
END_OBJECT = COMPRESSED_FILE
END
