PDS_VERSION_ID = PDS3
/* FILE DATA ELEMENTS */
RECORD_TYPE = STREAM
/* POINTERS TO DATA OBJECTS */
^COMPRESSED_FILE = "H2074_0008_SR3.JP2"
/* IDENTIFICATION DATA ELEMENTS */
DATA_SET_ID = "MEX-M-HRSC-5-REFDR-MAPPROJECTED-V3.0"
DATA_SET_NAME = "MARS EXPRESS HRSC MAP PROJECTED REFDR V3.0"
DETECTOR_ID = MEX_HRSC_SRC
EVENT_TYPE = "MARS-REGIONAL-STEREO-Vo-Te-Pf"
INSTRUMENT_HOST_ID = MEX
INSTRUMENT_HOST_NAME = "MARS EXPRESS"
INSTRUMENT_ID = HRSC
INSTRUMENT_NAME = "HIGH RESOLUTION STEREO CAMERA"
MISSION_NAME = "MARS EXPRESS"
MISSION_PHASE_NAME = MR_Phase_7
PROCESSING_LEVEL_ID = 3
PRODUCT_CREATION_TIME = 2016-03-10T10:27:20.000Z
PRODUCT_ID = "H2074_0008_SR3.JP2"
RELEASE_ID = 0026
REVISION_ID = 0000
/* QUALITY DATA ELEMENTS */
DATA_QUALITY_ID = 1
DATA_QUALITY_DESC = "Data calculated based on original SPICE kernels"
/* TIME DATA ELEMENTS */
SPACECRAFT_CLOCK_START_COUNT = "1/0073136284.57959"
SPACECRAFT_CLOCK_STOP_COUNT = "1/0073136457.24157"
IMAGE_TIME = 2005-08-26T11:40:03.451Z
START_TIME = 2005-08-26T11:40:03.449Z
STOP_TIME = 2005-08-26T11:40:03.454Z
/* ORBITAL DATA ELEMENTS */
ASCENDING_NODE_LONGITUDE = 184.77
MAXIMUM_RESOLUTION = 3.02
FOOTPRINT_POINT_LATITUDE = (7.50382,7.50698,7.50902,7.51136, 7.51284,7.51478,7.51626,7.51866,7.5207, 7.52345,7.52509,7.52713,7.5285,7.53034, 7.53212,7.53371,7.53636,7.53855,7.54146 ,7.54324,7.54564,7.54865,7.55033, 7.55186,7.55416,7.55493,7.55494,7.55494 ,7.55495,7.55495,7.55496,7.55496, 7.55497,7.55497,7.55498,7.55498,7.55499 ,7.55499,7.555,7.555,7.55501,7.55501, 7.55502,7.55502,7.55503,7.55503,7.55504 ,7.55505,7.55505,7.5548,7.55286,7.55041 ,7.54837,7.54552,7.54358,7.54205, 7.54042,7.53853,7.53573,7.53312,7.53068 ,7.52909,7.52726,7.52496,7.52359,7.5218 ,7.51859,7.51634,7.51451,7.51191, 7.50961,7.50818,7.50645,7.5037,7.50369, 7.50369,7.50368,7.50368,7.50367,7.50367 ,7.50366,7.50365,7.50365,7.50364, 7.50364,7.50363,7.50363,7.50362,7.50362 ,7.50361,7.50361,7.5036,7.5036,7.50359, 7.50359,7.50358,7.50357,7.50357,7.50356 ,7.50382)
FOOTPRINT_POINT_LONGITUDE = (92.0696,92.0696,92.0696,92.0696, 92.0696,92.0696,92.0696,92.0696,92.0696 ,92.0696,92.0696,92.0696,92.0695, 92.0695,92.0695,92.0695,92.0695,92.0695 ,92.0695,92.0695,92.0695,92.0695, 92.0695,92.0695,92.0695,92.0721,92.0742 ,92.0762,92.0783,92.0803,92.0824, 92.0845,92.0865,92.0886,92.0906,92.0927 ,92.0947,92.0968,92.0989,92.1009,92.103 ,92.105,92.1071,92.1092,92.1112,92.1133 ,92.1153,92.1179,92.12,92.1218,92.1218, 92.1218,92.1218,92.1218,92.1218,92.1218 ,92.1218,92.1218,92.1219,92.1219, 92.1219,92.1219,92.1219,92.1219,92.1219 ,92.1219,92.1219,92.1219,92.1219, 92.1219,92.1219,92.1219,92.1219,92.1219 ,92.1198,92.1183,92.1162,92.1142, 92.1121,92.1101,92.108,92.1059,92.1039, 92.1018,92.0998,92.0977,92.0956,92.0936 ,92.0915,92.0895,92.0874,92.0854, 92.0833,92.0812,92.0792,92.0771,92.0751 ,92.073,92.071,92.0696)
ORBIT_NUMBER = 2074
ORBITAL_ECCENTRICITY = 0.573
ORBITAL_INCLINATION = 86.62
ORBITAL_SEMIMAJOR_AXIS = 8628.35
PERIAPSIS_ALTITUDE = 288.3
PERIAPSIS_ARGUMENT_ANGLE = 353.87
PERIAPSIS_TIME = 2005-08-26T11:36:36.000Z
SPACECRAFT_ORIENTATION = (0.0,1.0,0.0)
^MEX_ORIENTATION_DESC = "MEX_ORIENTATION_DESC.TXT"
SPACECRAFT_POINTING_MODE = ACROSSTRACK
^MEX_POINTING_DESC = "MEX_POINTING_DESC.TXT"
RIGHT_ASCENSION = -1e+32
DECLINATION = -1e+32
OFFSET_ANGLE = 0.05
SPACECRAFT_SOLAR_DISTANCE = 2.08327e+08
TARGET_NAME = MARS
/* CAMERA DATA ELEMENTS */
BUFFER_MODE_ID = BUFFER_8
EXPOSURE_DURATION = 5.04
INST_CMPRS_NAME = NONE
INST_CMPRS_RATIO = 1.0
INST_CMPRS_QUALITY = -2147483648
INST_CMPRS_QUANTZ_TBL_ID = -2147483648
INSTRUMENT_TEMPERATURE = 11.2121
MISSING_FRAMES = 0
START_BIT = 0
/* RADIOMETRIC DATA ELEMENTS */
BANDWIDTH = 250.0
CENTER_FILTER_WAVELENGTH = 600.0
RADIANCE_OFFSET = -9.99e+31
RADIANCE_SCALING_FACTOR = -9.99e+31
REFLECTANCE_SCALING_FACTOR = -9.99e+31
MEX:REFLECTANCE_OFFSET = -9.99e+31
/* IMAGE OBJECT DEFINITIONS */
OBJECT = IMAGE
  INTERCHANGE_FORMAT = BINARY
  LINES = 1263
  LINE_SAMPLES = 1274
  SAMPLE_TYPE = UNSIGNED_INTEGER
  SAMPLE_BITS = 8
  BANDS = 1
  BAND_STORAGE_TYPE = BAND_SEQUENTIAL
  MAXIMUM = 7216
  MEAN = 6664.18
  MINIMUM = 5695
  STANDARD_DEVIATION = 105.872
END_OBJECT = IMAGE
/* MAP OBJECT DEFINITIONS */
OBJECT = IMAGE_MAP_PROJECTION
  ^DATA_SET_MAP_PROJECTION_CATALOG= "DSMAP.CAT"
  A_AXIS_RADIUS = 3396.19
  B_AXIS_RADIUS = 3396.19
  C_AXIS_RADIUS = 3396.19
  CENTER_LATITUDE = 0.0
  CENTER_LONGITUDE = 92.0
  COORDINATE_SYSTEM_NAME = PLANETOGRAPHIC
  COORDINATE_SYSTEM_TYPE = "BODY-FIXED ROTATING"
  EASTERNMOST_LONGITUDE = 92.1219
  FIRST_STANDARD_PARALLEL = "N/A"
  LINE_FIRST_PIXEL = 1
  LINE_LAST_PIXEL = 1263
  LINE_PROJECTION_OFFSET = 179141.0
  MAP_PROJECTION_ROTATION = 0.0
  MAP_PROJECTION_TYPE = SINUSOIDAL
  MAP_RESOLUTION = 23709.8786048756
  MAP_SCALE = 0.0025
  MAXIMUM_LATITUDE = 7.55505
  MINIMUM_LATITUDE = 7.50356
  POSITIVE_LONGITUDE_DIRECTION = EAST
  REFERENCE_LATITUDE = "N/A"
  REFERENCE_LONGITUDE = "N/A"
  SAMPLE_FIRST_PIXEL = 1
  SAMPLE_LAST_PIXEL = 1274
  SAMPLE_PROJECTION_OFFSET = -1613.0
  SECOND_STANDARD_PARALLEL = "N/A"
  WESTERNMOST_LONGITUDE = 92.06950000000001
END_OBJECT = IMAGE_MAP_PROJECTION
/* The JPEG2000 image data file associated with this label. */
OBJECT = COMPRESSED_FILE
  FILE_NAME = "H2074_0008_SR3.JP2"
  RECORD_TYPE = UNDEFINED
  FILE_RECORDS = UNK
  ENCODING_TYPE = "JP2"
  INTERCHANGE_FORMAT = BINARY
  UNCOMPRESSED_FILE_NAME = "H2074_0008_SR3.IMG"
  REQUIRED_STORAGE_BYTES = "1628172"
  ^DESCRIPTION = "JP2INFO.TXT"
END_OBJECT = COMPRESSED_FILE
END
