PDS_VERSION_ID = PDS3
/* FILE DATA ELEMENTS */
RECORD_TYPE = STREAM
/* POINTERS TO DATA OBJECTS */
^COMPRESSED_FILE = "H2082_0005_SR3.JP2"
/* IDENTIFICATION DATA ELEMENTS */
DATA_SET_ID = "MEX-M-HRSC-5-REFDR-MAPPROJECTED-V3.0"
DATA_SET_NAME = "MARS EXPRESS HRSC MAP PROJECTED REFDR V3.0"
DETECTOR_ID = MEX_HRSC_SRC
EVENT_TYPE = "MARS-LOCAL-STEREO-Lc-La-At"
INSTRUMENT_HOST_ID = MEX
INSTRUMENT_HOST_NAME = "MARS EXPRESS"
INSTRUMENT_ID = HRSC
INSTRUMENT_NAME = "HIGH RESOLUTION STEREO CAMERA"
MISSION_NAME = "MARS EXPRESS"
MISSION_PHASE_NAME = MR_Phase_7
PROCESSING_LEVEL_ID = 3
PRODUCT_CREATION_TIME = 2016-03-10T10:27:20.000Z
PRODUCT_ID = "H2082_0005_SR3.JP2"
RELEASE_ID = 0026
REVISION_ID = 0000
/* QUALITY DATA ELEMENTS */
DATA_QUALITY_ID = 1
DATA_QUALITY_DESC = "Data calculated based on original SPICE kernels"
/* TIME DATA ELEMENTS */
SPACECRAFT_CLOCK_START_COUNT = "1/0073329728.57959"
SPACECRAFT_CLOCK_STOP_COUNT = "1/0073329904.17449"
IMAGE_TIME = 2005-08-28T17:23:35.836Z
START_TIME = 2005-08-28T17:23:35.834Z
STOP_TIME = 2005-08-28T17:23:35.839Z
/* ORBITAL DATA ELEMENTS */
ASCENDING_NODE_LONGITUDE = 184.6
MAXIMUM_RESOLUTION = 2.783
FOOTPRINT_POINT_LATITUDE = (1.53481,1.53636,1.53758,1.53936, 1.54185,1.5441,1.54631,1.54894,1.55157, 1.55424,1.55668,1.55828,1.56072,1.56227 ,1.56368,1.56556,1.56701,1.56875, 1.57002,1.57208,1.57391,1.57537,1.57748 ,1.57903,1.58044,1.58143,1.58143, 1.58144,1.58144,1.58145,1.58145,1.58146 ,1.58146,1.58147,1.58147,1.58147, 1.58148,1.58148,1.58149,1.58149,1.5815, 1.5815,1.58151,1.58151,1.58152,1.58152, 1.58153,1.58153,1.58154,1.58154,1.58154 ,1.58028,1.57793,1.57647,1.57436, 1.57267,1.57126,1.56957,1.56685,1.56469 ,1.56173,1.55929,1.55732,1.55554, 1.55305,1.55108,1.54948,1.54807,1.54653 ,1.54437,1.54221,1.53967,1.53808, 1.53681,1.53427,1.53427,1.53426,1.53426 ,1.53425,1.53425,1.53424,1.53424, 1.53423,1.53423,1.53422,1.53422,1.53421 ,1.53421,1.5342,1.5342,1.53419,1.53419, 1.53418,1.53418,1.53417,1.53417,1.53416 ,1.53416,1.53415,1.53481)
FOOTPRINT_POINT_LONGITUDE = (26.0335,26.0335,26.0335,26.0335, 26.0335,26.0335,26.0335,26.0335,26.0335 ,26.0335,26.0335,26.0335,26.0335, 26.0335,26.0335,26.0335,26.0335,26.0335 ,26.0335,26.0334,26.0334,26.0334, 26.0334,26.0334,26.0334,26.0344,26.0363 ,26.0382,26.04,26.0419,26.0438,26.0457, 26.0476,26.0494,26.0513,26.0532,26.0551 ,26.057,26.0588,26.0607,26.0626,26.0645 ,26.0663,26.0682,26.0701,26.072,26.0739 ,26.0757,26.0776,26.0795,26.0812, 26.0812,26.0812,26.0812,26.0812,26.0812 ,26.0812,26.0812,26.0812,26.0812, 26.0812,26.0812,26.0812,26.0813,26.0813 ,26.0813,26.0813,26.0813,26.0813, 26.0813,26.0813,26.0813,26.0813,26.0813 ,26.0808,26.0789,26.077,26.0752,26.0733 ,26.0714,26.0695,26.0676,26.0658, 26.0639,26.062,26.0601,26.0582,26.0564, 26.0545,26.0526,26.0507,26.0489,26.047, 26.0451,26.0432,26.0413,26.0395,26.0376 ,26.0357,26.0335)
ORBIT_NUMBER = 2082
ORBITAL_ECCENTRICITY = 0.573
ORBITAL_INCLINATION = 86.61
ORBITAL_SEMIMAJOR_AXIS = 8626.06
PERIAPSIS_ALTITUDE = 288.18
PERIAPSIS_ARGUMENT_ANGLE = 352.48
PERIAPSIS_TIME = 2005-08-28T17:21:19.000Z
SPACECRAFT_ORIENTATION = (0.0,1.0,0.0)
^MEX_ORIENTATION_DESC = "MEX_ORIENTATION_DESC.TXT"
SPACECRAFT_POINTING_MODE = ACROSSTRACK
^MEX_POINTING_DESC = "MEX_POINTING_DESC.TXT"
RIGHT_ASCENSION = -1e+32
DECLINATION = -1e+32
OFFSET_ANGLE = 0.07
SPACECRAFT_SOLAR_DISTANCE = 2.08518e+08
TARGET_NAME = MARS
/* CAMERA DATA ELEMENTS */
BUFFER_MODE_ID = BUFFER_8
EXPOSURE_DURATION = 5.04
INST_CMPRS_NAME = NONE
INST_CMPRS_RATIO = 1.0
INST_CMPRS_QUALITY = -2147483648
INST_CMPRS_QUANTZ_TBL_ID = -2147483648
INSTRUMENT_TEMPERATURE = 11.2121
MISSING_FRAMES = 0
START_BIT = 0
/* RADIOMETRIC DATA ELEMENTS */
BANDWIDTH = 250.0
CENTER_FILTER_WAVELENGTH = 600.0
RADIANCE_OFFSET = -9.99e+31
RADIANCE_SCALING_FACTOR = -9.99e+31
REFLECTANCE_SCALING_FACTOR = -9.99e+31
MEX:REFLECTANCE_OFFSET = -9.99e+31
/* IMAGE OBJECT DEFINITIONS */
OBJECT = IMAGE
  INTERCHANGE_FORMAT = BINARY
  LINES = 1164
  LINE_SAMPLES = 1175
  SAMPLE_TYPE = UNSIGNED_INTEGER
  SAMPLE_BITS = 8
  BANDS = 1
  BAND_STORAGE_TYPE = BAND_SEQUENTIAL
  MAXIMUM = 8891
  MEAN = 7726.97
  MINIMUM = 6472
  STANDARD_DEVIATION = 313.794
END_OBJECT = IMAGE
/* MAP OBJECT DEFINITIONS */
OBJECT = IMAGE_MAP_PROJECTION
  ^DATA_SET_MAP_PROJECTION_CATALOG= "DSMAP.CAT"
  A_AXIS_RADIUS = 3396.19
  B_AXIS_RADIUS = 3396.19
  C_AXIS_RADIUS = 3396.19
  CENTER_LATITUDE = 0.0
  CENTER_LONGITUDE = 26.0
  COORDINATE_SYSTEM_NAME = PLANETOGRAPHIC
  COORDINATE_SYSTEM_TYPE = "BODY-FIXED ROTATING"
  EASTERNMOST_LONGITUDE = 26.0813
  FIRST_STANDARD_PARALLEL = "N/A"
  LINE_FIRST_PIXEL = 1
  LINE_LAST_PIXEL = 1164
  LINE_PROJECTION_OFFSET = 37517.0
  MAP_PROJECTION_ROTATION = 0.0
  MAP_PROJECTION_TYPE = SINUSOIDAL
  MAP_RESOLUTION = 23709.8786048756
  MAP_SCALE = 0.0025
  MAXIMUM_LATITUDE = 1.58154
  MINIMUM_LATITUDE = 1.53415
  POSITIVE_LONGITUDE_DIRECTION = EAST
  REFERENCE_LATITUDE = "N/A"
  REFERENCE_LONGITUDE = "N/A"
  SAMPLE_FIRST_PIXEL = 1
  SAMPLE_LAST_PIXEL = 1175
  SAMPLE_PROJECTION_OFFSET = -774.0
  SECOND_STANDARD_PARALLEL = "N/A"
  WESTERNMOST_LONGITUDE = 26.0334
END_OBJECT = IMAGE_MAP_PROJECTION
/* The JPEG2000 image data file associated with this label. */
OBJECT = COMPRESSED_FILE
  FILE_NAME = "H2082_0005_SR3.JP2"
  RECORD_TYPE = UNDEFINED
  FILE_RECORDS = UNK
  ENCODING_TYPE = "JP2"
  INTERCHANGE_FORMAT = BINARY
  UNCOMPRESSED_FILE_NAME = "H2082_0005_SR3.IMG"
  REQUIRED_STORAGE_BYTES = "1386500"
  ^DESCRIPTION = "JP2INFO.TXT"
END_OBJECT = COMPRESSED_FILE
END
