PDS_VERSION_ID = PDS3
/* FILE DATA ELEMENTS */
RECORD_TYPE = STREAM
/* POINTERS TO DATA OBJECTS */
^COMPRESSED_FILE = "H2087_0000_GR3.JP2"
/* IDENTIFICATION DATA ELEMENTS */
DATA_SET_ID = "MEX-M-HRSC-5-REFDR-MAPPROJECTED-V3.0"
DATA_SET_NAME = "MARS EXPRESS HRSC MAP PROJECTED REFDR V3.0"
DETECTOR_ID = MEX_HRSC_GREEN
EVENT_TYPE = "MARS-REGIONAL-MAPPING-Vo-Te"
INSTRUMENT_HOST_ID = MEX
INSTRUMENT_HOST_NAME = "MARS EXPRESS"
INSTRUMENT_ID = HRSC
INSTRUMENT_NAME = "HIGH RESOLUTION STEREO CAMERA"
MISSION_NAME = "MARS EXPRESS"
MISSION_PHASE_NAME = MR_Phase_7
PROCESSING_LEVEL_ID = 3
PRODUCT_CREATION_TIME = 2016-03-10T10:27:20.000Z
PRODUCT_ID = "H2087_0000_GR3.JP2"
RELEASE_ID = 0026
REVISION_ID = 0000
/* QUALITY DATA ELEMENTS */
DATA_QUALITY_ID = 1
DATA_QUALITY_DESC = "Data calculated based on original SPICE kernels"
/* TIME DATA ELEMENTS */
SPACECRAFT_CLOCK_START_COUNT = "1/0073450358.57144"
SPACECRAFT_CLOCK_STOP_COUNT = "1/0073450706.14935"
START_TIME = 2005-08-30T02:53:22.008Z
STOP_TIME = 2005-08-30T02:58:31.347Z
/* ORBITAL DATA ELEMENTS */
ASCENDING_NODE_LONGITUDE = 184.49
MAXIMUM_RESOLUTION = 89.4
FOOTPRINT_POINT_LATITUDE = (-22.2528,-22.2513,-22.2436,-21.6367, -21.2316,-20.8258,-20.4199,-20.0137, -19.6073,-19.2003,-18.793,-18.3852, -17.9772,-17.5691,-17.1607,-16.7519, -16.3431,-15.934,-15.5248,-15.1152, -14.5004,-14.0903,-13.6801,-13.2697, -12.8593,-12.4487,-11.8325,-11.4217, -10.8054,-10.3945,-9.77818,-9.36732, -8.75287,-8.34083,-7.72389,-7.31329, -6.90278,-6.28745,-5.87731,-5.46774, -5.0585,-4.64885,-4.23966,-3.83087, -3.42221,-3.01378,-2.60549,-2.19747, -1.78975,-1.78426,-1.78064,-1.77958, -2.18757,-2.59572,-3.00418,-3.41277, -3.82152,-4.23069,-4.63996,-5.04963, -5.66388,-6.07485,-6.68939,-7.09999, -7.51087,-8.12735,-8.53825,-9.15489, -9.56596,-9.97703,-10.3881,-10.7992, -11.2104,-11.827,-12.2381,-12.6489, -13.2653,-13.676,-14.0867,-14.4971, -14.9072,-15.3172,-15.7269,-16.1364, -16.5457,-16.9548,-17.3637,-17.7723, -18.1807,-18.5888,-18.9966,-19.4042, -19.8112,-20.2181,-20.6245,-21.0306, -21.4363,-21.8417,-22.2466,-22.2528)
FOOTPRINT_POINT_LONGITUDE = (254.326,253.957,253.46,253.477,253.488 ,253.5,253.511,253.52,253.529,253.538, 253.547,253.556,253.564,253.572,253.579 ,253.586,253.592,253.598,253.603, 253.608,253.616,253.622,253.626,253.631 ,253.635,253.639,253.645,253.648, 253.653,253.656,253.659,253.661,253.655 ,253.662,253.668,253.669,253.67,253.669 ,253.669,253.667,253.664,253.664, 253.662,253.659,253.657,253.654,253.652 ,253.649,253.647,253.968,254.38,254.666 ,254.665,254.664,254.664,254.663, 254.662,254.662,254.661,254.661,254.661 ,254.66,254.66,254.66,254.66,254.659, 254.659,254.659,254.659,254.659,254.66, 254.66,254.66,254.66,254.661,254.661, 254.662,254.662,254.662,254.663,254.664 ,254.664,254.665,254.666,254.667, 254.667,254.668,254.669,254.67,254.671, 254.672,254.672,254.673,254.674,254.675 ,254.676,254.677,254.678,254.679, 254.326)
ORBIT_NUMBER = 2087
ORBITAL_ECCENTRICITY = 0.574
ORBITAL_INCLINATION = 86.61
ORBITAL_SEMIMAJOR_AXIS = 8636.05
PERIAPSIS_ALTITUDE = 286.98
PERIAPSIS_ARGUMENT_ANGLE = 351.57
PERIAPSIS_TIME = 2005-08-30T02:56:47.000Z
SPACECRAFT_ORIENTATION = (0.0,1.0,0.0)
^MEX_ORIENTATION_DESC = "MEX_ORIENTATION_DESC.TXT"
SPACECRAFT_POINTING_MODE = ACROSSTRACK
^MEX_POINTING_DESC = "MEX_POINTING_DESC.TXT"
RIGHT_ASCENSION = -1e+32
DECLINATION = -1e+32
OFFSET_ANGLE = 0.7
SPACECRAFT_SOLAR_DISTANCE = 2.08642e+08
TARGET_NAME = MARS
/* CAMERA DATA ELEMENTS */
DETECTOR_TEMPERATURE = 18.3705
FOCAL_PLANE_TEMPERATURE = 10.0106
INST_CMPRS_NAME = "DISCRETE COSINE TRANSFORMATION (DCT)"
INST_CMPRS_RATIO = 20.9852
INST_CMPRS_QUALITY = 0
INST_CMPRS_QUANTZ_TBL_ID = 0
INSTRUMENT_TEMPERATURE = 11.6418
LENS_TEMPERATURE = 10.2145
MACROPIXEL_SIZE = 8
MISSING_FRAMES = 0
PIXEL_SUBSAMPLING_FLAG = N
SIGNAL_CHAIN_ID = 2
/* RADIOMETRIC DATA ELEMENTS */
BANDWIDTH = 88.0
CENTER_FILTER_WAVELENGTH = 538.0
RADIANCE_OFFSET = 1.6742
RADIANCE_SCALING_FACTOR = 0.00963644
REFLECTANCE_SCALING_FACTOR = 0.00036117
MEX:REFLECTANCE_OFFSET = 0.0627483
/* IMAGE OBJECT DEFINITIONS */
OBJECT = IMAGE
  INTERCHANGE_FORMAT = BINARY
  LINES = 12138
  LINE_SAMPLES = 759
  SAMPLE_TYPE = UNSIGNED_INTEGER
  SAMPLE_BITS = 8
  BANDS = 1
  BAND_STORAGE_TYPE = BAND_SEQUENTIAL
  MAXIMUM = 156
  MEAN = 105.721
  MINIMUM = 51
  STANDARD_DEVIATION = 8.72915
END_OBJECT = IMAGE
/* MAP OBJECT DEFINITIONS */
OBJECT = IMAGE_MAP_PROJECTION
  ^DATA_SET_MAP_PROJECTION_CATALOG= "DSMAP.CAT"
  A_AXIS_RADIUS = 3396.0
  B_AXIS_RADIUS = 3396.0
  C_AXIS_RADIUS = 3396.0
  CENTER_LATITUDE = 0.0
  CENTER_LONGITUDE = 254.0
  COORDINATE_SYSTEM_NAME = PLANETOGRAPHIC
  COORDINATE_SYSTEM_TYPE = "BODY-FIXED ROTATING"
  EASTERNMOST_LONGITUDE = 254.679
  FIRST_STANDARD_PARALLEL = "N/A"
  LINE_FIRST_PIXEL = 1
  LINE_LAST_PIXEL = 12138
  LINE_PROJECTION_OFFSET = -1055.9375
  MAP_PROJECTION_ROTATION = 0.0
  MAP_PROJECTION_TYPE = SINUSOIDAL
  MAP_RESOLUTION = 592.713803866667
  MAP_SCALE = 0.1
  MAXIMUM_LATITUDE = -1.77958
  MINIMUM_LATITUDE = -22.2528
  POSITIVE_LONGITUDE_DIRECTION = EAST
  REFERENCE_LATITUDE = "N/A"
  REFERENCE_LONGITUDE = "N/A"
  SAMPLE_FIRST_PIXEL = 1
  SAMPLE_LAST_PIXEL = 759
  SAMPLE_PROJECTION_OFFSET = 366.1875
  SECOND_STANDARD_PARALLEL = "N/A"
  WESTERNMOST_LONGITUDE = 253.46
END_OBJECT = IMAGE_MAP_PROJECTION
/* The JPEG2000 image data file associated with this label. */
OBJECT = COMPRESSED_FILE
  FILE_NAME = "H2087_0000_GR3.JP2"
  RECORD_TYPE = UNDEFINED
  FILE_RECORDS = UNK
  ENCODING_TYPE = "JP2"
  INTERCHANGE_FORMAT = BINARY
  UNCOMPRESSED_FILE_NAME = "H2087_0000_GR3.IMG"
  REQUIRED_STORAGE_BYTES = "9230958"
  ^DESCRIPTION = "JP2INFO.TXT"
END_OBJECT = COMPRESSED_FILE
END
