PDS_VERSION_ID = PDS3
/* FILE DATA ELEMENTS */
RECORD_TYPE = STREAM
/* POINTERS TO DATA OBJECTS */
^COMPRESSED_FILE = "H2087_0000_S13.JP2"
/* IDENTIFICATION DATA ELEMENTS */
DATA_SET_ID = "MEX-M-HRSC-5-REFDR-MAPPROJECTED-V3.0"
DATA_SET_NAME = "MARS EXPRESS HRSC MAP PROJECTED REFDR V3.0"
DETECTOR_ID = MEX_HRSC_S1
EVENT_TYPE = "MARS-REGIONAL-MAPPING-Vo-Te"
INSTRUMENT_HOST_ID = MEX
INSTRUMENT_HOST_NAME = "MARS EXPRESS"
INSTRUMENT_ID = HRSC
INSTRUMENT_NAME = "HIGH RESOLUTION STEREO CAMERA"
MISSION_NAME = "MARS EXPRESS"
MISSION_PHASE_NAME = MR_Phase_7
PROCESSING_LEVEL_ID = 3
PRODUCT_CREATION_TIME = 2016-03-10T10:27:20.000Z
PRODUCT_ID = "H2087_0000_S13.JP2"
RELEASE_ID = 0026
REVISION_ID = 0000
/* QUALITY DATA ELEMENTS */
DATA_QUALITY_ID = 1
DATA_QUALITY_DESC = "Data calculated based on original SPICE kernels"
/* TIME DATA ELEMENTS */
SPACECRAFT_CLOCK_START_COUNT = "1/0073450358.57144"
SPACECRAFT_CLOCK_STOP_COUNT = "1/0073450706.14935"
START_TIME = 2005-08-30T02:53:45.898Z
STOP_TIME = 2005-08-30T02:58:53.859Z
/* ORBITAL DATA ELEMENTS */
ASCENDING_NODE_LONGITUDE = 184.49
MAXIMUM_RESOLUTION = 23.7
FOOTPRINT_POINT_LATITUDE = (-22.2188,-22.2322,-22.2285,-21.813, -21.3988,-20.9841,-20.7756,-20.3605, -20.1509,-19.737,-19.1163,-18.7013, -18.0786,-17.6649,-17.0445,-16.4246, -16.0125,-15.6007,-15.1883,-14.7812, -14.569,-14.1564,-13.538,-13.1263, -12.5091,-12.0977,-11.6867,-11.276, -10.8657,-10.2508,-9.84168,-9.22823, -8.6282,-8.41805,-8.00466,-7.59593, -7.18905,-6.78338,-6.38519,-5.9713, -5.57138,-5.16631,-4.56435,-4.16354, -3.76417,-3.16568,-2.56672,-2.16833, -1.77055,-1.74902,-1.73331,-1.72136, -1.70742,-2.10599,-2.50453,-2.90387, -3.3029,-3.70225,-4.10259,-4.70397, -5.10562,-5.7081,-6.12204,-6.52007, -6.92446,-7.33195,-7.94551,-8.35086, -8.96345,-9.372,-9.78098,-10.1902,-10.6 ,-11.0103,-11.4215,-11.8325,-12.244, -12.862,-13.2748,-13.6872,-14.1003, -14.5135,-14.9257,-15.3382,-15.7504, -16.1633,-16.7829,-17.403,-18.0238, -18.4378,-18.8519,-19.2666,-19.6805, -20.0954,-20.3054,-20.9272,-21.5495, -21.9644,-22.173,-22.2188)
FOOTPRINT_POINT_LONGITUDE = (254.338,253.961,253.455,253.467, 253.478,253.488,253.495,253.505,253.509 ,253.518,253.531,253.54,253.553,253.56, 253.571,253.58,253.585,253.59,253.595, 253.596,253.603,253.608,253.615,253.618 ,253.624,253.627,253.631,253.634, 253.636,253.64,253.642,253.644,253.637, 253.642,253.647,253.649,253.65,253.65, 253.642,253.649,253.645,253.645,253.641 ,253.639,253.635,253.63,253.626,253.623 ,253.62,253.86,254.158,254.381,254.673, 254.671,254.67,254.669,254.667,254.667, 254.666,254.664,254.664,254.663,254.661 ,254.661,254.661,254.66,254.659,254.659 ,254.658,254.658,254.658,254.658, 254.657,254.657,254.657,254.657,254.657 ,254.657,254.657,254.657,254.657, 254.657,254.657,254.657,254.658,254.658 ,254.659,254.659,254.66,254.66,254.661, 254.661,254.661,254.662,254.662,254.663 ,254.663,254.664,254.664,254.338)
ORBIT_NUMBER = 2087
ORBITAL_ECCENTRICITY = 0.574
ORBITAL_INCLINATION = 86.61
ORBITAL_SEMIMAJOR_AXIS = 8636.05
PERIAPSIS_ALTITUDE = 286.98
PERIAPSIS_ARGUMENT_ANGLE = 351.57
PERIAPSIS_TIME = 2005-08-30T02:56:47.000Z
SPACECRAFT_ORIENTATION = (0.0,1.0,0.0)
^MEX_ORIENTATION_DESC = "MEX_ORIENTATION_DESC.TXT"
SPACECRAFT_POINTING_MODE = ACROSSTRACK
^MEX_POINTING_DESC = "MEX_POINTING_DESC.TXT"
RIGHT_ASCENSION = -1e+32
DECLINATION = -1e+32
OFFSET_ANGLE = 0.7
SPACECRAFT_SOLAR_DISTANCE = 2.08642e+08
TARGET_NAME = MARS
/* CAMERA DATA ELEMENTS */
DETECTOR_TEMPERATURE = 19.1861
FOCAL_PLANE_TEMPERATURE = 10.0106
INST_CMPRS_NAME = "DISCRETE COSINE TRANSFORMATION (DCT)"
INST_CMPRS_RATIO = 9.2333
INST_CMPRS_QUALITY = 0
INST_CMPRS_QUANTZ_TBL_ID = 0
INSTRUMENT_TEMPERATURE = 11.6418
LENS_TEMPERATURE = 10.2145
MACROPIXEL_SIZE = 2
MISSING_FRAMES = 2
PIXEL_SUBSAMPLING_FLAG = N
SIGNAL_CHAIN_ID = 1
/* RADIOMETRIC DATA ELEMENTS */
BANDWIDTH = 180.0
CENTER_FILTER_WAVELENGTH = 677.0
RADIANCE_OFFSET = 5.60081
RADIANCE_SCALING_FACTOR = 0.0395351
REFLECTANCE_SCALING_FACTOR = 0.000897904
MEX:REFLECTANCE_OFFSET = 0.127203
/* IMAGE OBJECT DEFINITIONS */
OBJECT = IMAGE
  INTERCHANGE_FORMAT = BINARY
  LINES = 48552
  LINE_SAMPLES = 3034
  SAMPLE_TYPE = UNSIGNED_INTEGER
  SAMPLE_BITS = 8
  BANDS = 1
  BAND_STORAGE_TYPE = BAND_SEQUENTIAL
  MAXIMUM = 187
  MEAN = 119.032
  MINIMUM = 55
  STANDARD_DEVIATION = 14.9584
END_OBJECT = IMAGE
/* MAP OBJECT DEFINITIONS */
OBJECT = IMAGE_MAP_PROJECTION
  ^DATA_SET_MAP_PROJECTION_CATALOG= "DSMAP.CAT"
  A_AXIS_RADIUS = 3396.0
  B_AXIS_RADIUS = 3396.0
  C_AXIS_RADIUS = 3396.0
  CENTER_LATITUDE = 0.0
  CENTER_LONGITUDE = 254.0
  COORDINATE_SYSTEM_NAME = PLANETOGRAPHIC
  COORDINATE_SYSTEM_TYPE = "BODY-FIXED ROTATING"
  EASTERNMOST_LONGITUDE = 254.673
  FIRST_STANDARD_PARALLEL = "N/A"
  LINE_FIRST_PIXEL = 1
  LINE_LAST_PIXEL = 48552
  LINE_PROJECTION_OFFSET = -4222.25
  MAP_PROJECTION_ROTATION = 0.0
  MAP_PROJECTION_TYPE = SINUSOIDAL
  MAP_RESOLUTION = 2370.85521546667
  MAP_SCALE = 0.025
  MAXIMUM_LATITUDE = -1.70742
  MINIMUM_LATITUDE = -22.2322
  POSITIVE_LONGITUDE_DIRECTION = EAST
  REFERENCE_LATITUDE = "N/A"
  REFERENCE_LONGITUDE = "N/A"
  SAMPLE_FIRST_PIXEL = 1
  SAMPLE_LAST_PIXEL = 3034
  SAMPLE_PROJECTION_OFFSET = 1466.25
  SECOND_STANDARD_PARALLEL = "N/A"
  WESTERNMOST_LONGITUDE = 253.455
END_OBJECT = IMAGE_MAP_PROJECTION
/* The JPEG2000 image data file associated with this label. */
OBJECT = COMPRESSED_FILE
  FILE_NAME = "H2087_0000_S13.JP2"
  RECORD_TYPE = UNDEFINED
  FILE_RECORDS = UNK
  ENCODING_TYPE = "JP2"
  INTERCHANGE_FORMAT = BINARY
  UNCOMPRESSED_FILE_NAME = "H2087_0000_S13.IMG"
  REQUIRED_STORAGE_BYTES = "147331040"
  ^DESCRIPTION = "JP2INFO.TXT"
END_OBJECT = COMPRESSED_FILE
END
