PDS_VERSION_ID = PDS3
/* FILE DATA ELEMENTS */
RECORD_TYPE = STREAM
/* POINTERS TO DATA OBJECTS */
^COMPRESSED_FILE = "H2090_0000_ND3.JP2"
/* IDENTIFICATION DATA ELEMENTS */
DATA_SET_ID = "MEX-M-HRSC-5-REFDR-MAPPROJECTED-V3.0"
DATA_SET_NAME = "MARS EXPRESS HRSC MAP PROJECTED REFDR V3.0"
DETECTOR_ID = MEX_HRSC_NADIR
EVENT_TYPE = "MARS-REGIONAL-MAPPING-Fl-Mw-La"
INSTRUMENT_HOST_ID = MEX
INSTRUMENT_HOST_NAME = "MARS EXPRESS"
INSTRUMENT_ID = HRSC
INSTRUMENT_NAME = "HIGH RESOLUTION STEREO CAMERA"
MISSION_NAME = "MARS EXPRESS"
MISSION_PHASE_NAME = MR_Phase_7
PROCESSING_LEVEL_ID = 3
PRODUCT_CREATION_TIME = 2016-03-10T10:27:20.000Z
PRODUCT_ID = "H2090_0000_ND3.JP2"
RELEASE_ID = 0026
REVISION_ID = 0000
/* QUALITY DATA ELEMENTS */
DATA_QUALITY_ID = 1
DATA_QUALITY_DESC = "Data calculated based on original SPICE kernels"
/* TIME DATA ELEMENTS */
SPACECRAFT_CLOCK_START_COUNT = "1/0073522955.56184"
SPACECRAFT_CLOCK_STOP_COUNT = "1/0073523338.23357"
START_TIME = 2005-08-30T23:03:12.142Z
STOP_TIME = 2005-08-30T23:11:29.141Z
/* ORBITAL DATA ELEMENTS */
ASCENDING_NODE_LONGITUDE = 184.43
MAXIMUM_RESOLUTION = 11.5
FOOTPRINT_POINT_LATITUDE = (-19.9052,-19.9002,-19.2321,-18.235, -17.4322,-16.789,-16.1451,-15.5004, -14.855,-14.2091,-13.5858,-12.9627, -12.3396,-11.7161,-11.0922,-10.4681, -9.84375,-9.21937,-8.59475,-7.65803, -7.0338,-6.40958,-5.78553,-5.16168, -4.53815,-3.91497,-3.29221,-2.3343, -1.68894,-1.04423,-0.400188,0.24302, 1.23552,1.90029,2.56401,3.22663,3.88809 ,4.54833,5.20727,5.86486,6.52106, 7.17581,7.82907,8.48077,9.13073,9.77909 ,10.4257,11.0706,11.7136,12.3548,12.677 ,12.6789,12.0387,11.3965,10.7525, 10.1067,9.45906,8.80962,8.15864,7.50605 ,6.85191,6.19629,5.53922,4.88077, 4.22101,3.55998,2.89773,2.23433,1.56994 ,0.904453,0.244536,-0.398928,-1.04312, -1.68803,-2.33369,-3.29192,-3.91492, -4.53831,-5.1621,-5.78618,-6.41045, -7.03493,-7.65938,-8.59661,-9.22153, -10.1584,-10.7829,-11.4073,-12.0315, -12.6553,-13.2789,-13.9024,-14.8608, -15.5065,-16.1517,-16.7961,-17.4399, -18.2434,-19.2414,-19.9052)
FOOTPRINT_POINT_LONGITUDE = (320.165,319.434,319.002,319.021, 319.034,319.042,319.053,319.061,319.065 ,319.074,319.07,319.069,319.083,319.095 ,319.1,319.102,319.105,319.109,319.104, 319.104,319.112,319.113,319.111,319.108 ,319.105,319.101,319.097,319.091, 319.086,319.081,319.073,319.069,319.06, 319.052,319.044,319.035,319.026,319.016 ,319.006,318.996,318.985,318.973, 318.959,318.943,318.936,318.922,318.908 ,318.894,318.879,318.862,319.412, 320.256,320.247,320.238,320.23,320.222, 320.215,320.207,320.2,320.194,320.188, 320.183,320.178,320.173,320.168,320.164 ,320.16,320.156,320.153,320.15,320.148, 320.146,320.144,320.142,320.14,320.138, 320.137,320.136,320.136,320.135,320.135 ,320.135,320.136,320.136,320.136, 320.138,320.139,320.14,320.141,320.142, 320.144,320.145,320.148,320.149,320.152 ,320.154,320.156,320.159,320.163, 320.165)
ORBIT_NUMBER = 2090
ORBITAL_ECCENTRICITY = 0.573
ORBITAL_INCLINATION = 86.63
ORBITAL_SEMIMAJOR_AXIS = 8617.63
PERIAPSIS_ALTITUDE = 287.24
PERIAPSIS_ARGUMENT_ANGLE = 351.06
PERIAPSIS_TIME = 2005-08-30T23:05:59.000Z
SPACECRAFT_ORIENTATION = (0.0,1.0,0.0)
^MEX_ORIENTATION_DESC = "MEX_ORIENTATION_DESC.TXT"
SPACECRAFT_POINTING_MODE = ACROSSTRACK
^MEX_POINTING_DESC = "MEX_POINTING_DESC.TXT"
RIGHT_ASCENSION = -1e+32
DECLINATION = -1e+32
OFFSET_ANGLE = 0.48
SPACECRAFT_SOLAR_DISTANCE = 2.08719e+08
TARGET_NAME = MARS
/* CAMERA DATA ELEMENTS */
DETECTOR_TEMPERATURE = 18.3705
FOCAL_PLANE_TEMPERATURE = 9.6028
INST_CMPRS_NAME = "DISCRETE COSINE TRANSFORMATION (DCT)"
INST_CMPRS_RATIO = 6.49867
INST_CMPRS_QUALITY = 0
INST_CMPRS_QUANTZ_TBL_ID = 0
INSTRUMENT_TEMPERATURE = 11.4379
LENS_TEMPERATURE = 10.0106
MACROPIXEL_SIZE = 1
MISSING_FRAMES = 303
PIXEL_SUBSAMPLING_FLAG = N
SIGNAL_CHAIN_ID = 0
/* RADIOMETRIC DATA ELEMENTS */
BANDWIDTH = 177.0
CENTER_FILTER_WAVELENGTH = 677.5
RADIANCE_OFFSET = 3.72106
RADIANCE_SCALING_FACTOR = 0.0261447
REFLECTANCE_SCALING_FACTOR = 0.000605049
MEX:REFLECTANCE_OFFSET = 0.0861139
/* IMAGE OBJECT DEFINITIONS */
OBJECT = IMAGE
  INTERCHANGE_FORMAT = BINARY
  LINES = 154503
  LINE_SAMPLES = 6777
  SAMPLE_TYPE = UNSIGNED_INTEGER
  SAMPLE_BITS = 8
  BANDS = 1
  BAND_STORAGE_TYPE = BAND_SEQUENTIAL
  MAXIMUM = 161
  MEAN = 87.1173
  MINIMUM = 39
  STANDARD_DEVIATION = 15.2484
END_OBJECT = IMAGE
/* MAP OBJECT DEFINITIONS */
OBJECT = IMAGE_MAP_PROJECTION
  ^DATA_SET_MAP_PROJECTION_CATALOG= "DSMAP.CAT"
  A_AXIS_RADIUS = 3396.0
  B_AXIS_RADIUS = 3396.0
  C_AXIS_RADIUS = 3396.0
  CENTER_LATITUDE = 0.0
  CENTER_LONGITUDE = 320.0
  COORDINATE_SYSTEM_NAME = PLANETOGRAPHIC
  COORDINATE_SYSTEM_TYPE = "BODY-FIXED ROTATING"
  EASTERNMOST_LONGITUDE = 320.256
  FIRST_STANDARD_PARALLEL = "N/A"
  LINE_FIRST_PIXEL = 1
  LINE_LAST_PIXEL = 154503
  LINE_PROJECTION_OFFSET = 60117.0
  MAP_PROJECTION_ROTATION = 0.0
  MAP_PROJECTION_TYPE = SINUSOIDAL
  MAP_RESOLUTION = 4741.71043093333
  MAP_SCALE = 0.0125
  MAXIMUM_LATITUDE = 12.6789
  MINIMUM_LATITUDE = -19.9052
  POSITIVE_LONGITUDE_DIRECTION = EAST
  REFERENCE_LATITUDE = "N/A"
  REFERENCE_LONGITUDE = "N/A"
  SAMPLE_FIRST_PIXEL = 1
  SAMPLE_LAST_PIXEL = 6777
  SAMPLE_PROJECTION_OFFSET = 5555.0
  SECOND_STANDARD_PARALLEL = "N/A"
  WESTERNMOST_LONGITUDE = 318.862
END_OBJECT = IMAGE_MAP_PROJECTION
/* The JPEG2000 image data file associated with this label. */
OBJECT = COMPRESSED_FILE
  FILE_NAME = "H2090_0000_ND3.JP2"
  RECORD_TYPE = UNDEFINED
  FILE_RECORDS = UNK
  ENCODING_TYPE = "JP2"
  INTERCHANGE_FORMAT = BINARY
  UNCOMPRESSED_FILE_NAME = "H2090_0000_ND3.IMG"
  REQUIRED_STORAGE_BYTES = "1047100716"
  ^DESCRIPTION = "JP2INFO.TXT"
END_OBJECT = COMPRESSED_FILE
END
