PDS_VERSION_ID = PDS3
/* FILE DATA ELEMENTS */
RECORD_TYPE = STREAM
/* POINTERS TO DATA OBJECTS */
^COMPRESSED_FILE = "H2096_0000_P23.JP2"
/* IDENTIFICATION DATA ELEMENTS */
DATA_SET_ID = "MEX-M-HRSC-5-REFDR-MAPPROJECTED-V3.0"
DATA_SET_NAME = "MARS EXPRESS HRSC MAP PROJECTED REFDR V3.0"
DETECTOR_ID = MEX_HRSC_P2
EVENT_TYPE = "MARS-REGIONAL-MAPPING-Vo-Fl"
INSTRUMENT_HOST_ID = MEX
INSTRUMENT_HOST_NAME = "MARS EXPRESS"
INSTRUMENT_ID = HRSC
INSTRUMENT_NAME = "HIGH RESOLUTION STEREO CAMERA"
MISSION_NAME = "MARS EXPRESS"
MISSION_PHASE_NAME = MR_Phase_7
PROCESSING_LEVEL_ID = 3
PRODUCT_CREATION_TIME = 2016-03-10T10:27:20.000Z
PRODUCT_ID = "H2096_0000_P23.JP2"
RELEASE_ID = 0026
REVISION_ID = 0000
/* QUALITY DATA ELEMENTS */
DATA_QUALITY_ID = 1
DATA_QUALITY_DESC = "Data calculated based on original SPICE kernels"
/* TIME DATA ELEMENTS */
SPACECRAFT_CLOCK_START_COUNT = "1/0073667879.56191"
SPACECRAFT_CLOCK_STOP_COUNT = "1/0073668141.06643"
START_TIME = 2005-09-01T15:18:21.293Z
STOP_TIME = 2005-09-01T15:21:41.204Z
/* ORBITAL DATA ELEMENTS */
ASCENDING_NODE_LONGITUDE = 184.3
MAXIMUM_RESOLUTION = 51.4
FOOTPRINT_POINT_LATITUDE = (-32.5304,-32.528,-32.5236,-32.5194, -32.5146,-32.4752,-32.1972,-31.7854, -31.5153,-31.2418,-30.9722,-30.6944, -30.4221,-30.143,-29.7303,-29.4535, -29.0378,-28.7605,-28.4827,-28.2044, -28.0646,-27.8,-27.5658,-27.3306, -26.9766,-26.7404,-26.5046,-26.2681, -26.0307,-25.6747,-25.3181,-25.0798, -24.8427,-24.6048,-24.248,-24.0089, -23.7734,-23.5412,-23.3084,-23.0752, -22.8423,-22.4925,-22.26,-22.0333, -21.6925,-21.466,-21.2384,-20.8969, -20.6686,-20.4406,-20.2195,-20.0874, -20.0894,-20.091,-20.0915,-20.0938, -20.2056,-20.4269,-20.6497,-20.8774, -21.1093,-21.4533,-21.7936,-22.1358, -22.3592,-22.5928,-22.8303,-23.0637, -23.2961,-23.645,-23.8774,-24.2356, -24.4754,-24.835,-25.0734,-25.3115, -25.6674,-25.9037,-26.2569,-26.612, -26.8487,-27.0846,-27.3201,-27.5553, -27.7907,-28.0511,-28.3306,-28.6105, -28.8913,-29.1684,-29.5841,-29.9991, -30.4131,-30.6876,-31.0987,-31.5091, -31.7817,-32.1938,-32.4726,-32.5304)
FOOTPRINT_POINT_LONGITUDE = (91.0814,90.7989,90.4379,90.1713, 89.9203,89.5712,89.5853,89.6058,89.62, 89.6325,89.647,89.6575,89.6708,89.6808, 89.6987,89.71,89.7267,89.7378,89.7487, 89.7594,89.7644,89.774,89.7825,89.7906, 89.8023,89.81,89.818,89.8256,89.8328, 89.8438,89.8545,89.8615,89.869,89.8761, 89.8869,89.8936,89.8996,89.9057,89.9115 ,89.9172,89.923,89.9316,89.9368,89.9418 ,89.9489,89.954,89.9586,89.9655,89.9698 ,89.9741,89.9779,90.1093,90.3147, 90.5198,90.7467,90.9082,91.1393,91.1409 ,91.145,91.1473,91.1474,91.1493,91.1528 ,91.1551,91.1595,91.162,91.1626,91.1649 ,91.1678,91.1716,91.1741,91.1779, 91.1804,91.1839,91.1868,91.1896,91.1943 ,91.1976,91.2032,91.2074,91.21,91.2129, 91.2159,91.2189,91.2216,91.2248,91.2283 ,91.2315,91.2339,91.2381,91.2438, 91.2494,91.2549,91.2591,91.2653,91.2713 ,91.2755,91.2818,91.2861,91.0814)
ORBIT_NUMBER = 2096
ORBITAL_ECCENTRICITY = 0.573
ORBITAL_INCLINATION = 86.63
ORBITAL_SEMIMAJOR_AXIS = 8626.35
PERIAPSIS_ALTITUDE = 285.96
PERIAPSIS_ARGUMENT_ANGLE = 349.95
PERIAPSIS_TIME = 2005-09-01T15:24:32.000Z
SPACECRAFT_ORIENTATION = (0.0,1.0,0.0)
^MEX_ORIENTATION_DESC = "MEX_ORIENTATION_DESC.TXT"
SPACECRAFT_POINTING_MODE = NADIR
^MEX_POINTING_DESC = "MEX_POINTING_DESC.TXT"
RIGHT_ASCENSION = -1e+32
DECLINATION = -1e+32
OFFSET_ANGLE = -1e+32
SPACECRAFT_SOLAR_DISTANCE = 2.08875e+08
TARGET_NAME = MARS
/* CAMERA DATA ELEMENTS */
DETECTOR_TEMPERATURE = 19.7978
FOCAL_PLANE_TEMPERATURE = 10.0106
INST_CMPRS_NAME = "DISCRETE COSINE TRANSFORMATION (DCT)"
INST_CMPRS_RATIO = 8.42367
INST_CMPRS_QUALITY = 0
INST_CMPRS_QUANTZ_TBL_ID = 0
INSTRUMENT_TEMPERATURE = 11.4379
LENS_TEMPERATURE = 10.0106
MACROPIXEL_SIZE = 4
MISSING_FRAMES = 0
PIXEL_SUBSAMPLING_FLAG = N
SIGNAL_CHAIN_ID = 3
/* RADIOMETRIC DATA ELEMENTS */
BANDWIDTH = 177.0
CENTER_FILTER_WAVELENGTH = 676.5
RADIANCE_OFFSET = 6.76922
RADIANCE_SCALING_FACTOR = 0.0126093
REFLECTANCE_SCALING_FACTOR = 0.00029169
MEX:REFLECTANCE_OFFSET = 0.156592
/* IMAGE OBJECT DEFINITIONS */
OBJECT = IMAGE
  INTERCHANGE_FORMAT = BINARY
  LINES = 14738
  LINE_SAMPLES = 1697
  SAMPLE_TYPE = UNSIGNED_INTEGER
  SAMPLE_BITS = 8
  BANDS = 1
  BAND_STORAGE_TYPE = BAND_SEQUENTIAL
  MAXIMUM = 305
  MEAN = 256.176
  MINIMUM = 177
  STANDARD_DEVIATION = 9.92962
END_OBJECT = IMAGE
/* MAP OBJECT DEFINITIONS */
OBJECT = IMAGE_MAP_PROJECTION
  ^DATA_SET_MAP_PROJECTION_CATALOG= "DSMAP.CAT"
  A_AXIS_RADIUS = 3396.0
  B_AXIS_RADIUS = 3396.0
  C_AXIS_RADIUS = 3396.0
  CENTER_LATITUDE = 0.0
  CENTER_LONGITUDE = 91.0
  COORDINATE_SYSTEM_NAME = PLANETOGRAPHIC
  COORDINATE_SYSTEM_TYPE = "BODY-FIXED ROTATING"
  EASTERNMOST_LONGITUDE = 91.2861
  FIRST_STANDARD_PARALLEL = "N/A"
  LINE_FIRST_PIXEL = 1
  LINE_LAST_PIXEL = 14738
  LINE_PROJECTION_OFFSET = -23794.125
  MAP_PROJECTION_ROTATION = 0.0
  MAP_PROJECTION_TYPE = SINUSOIDAL
  MAP_RESOLUTION = 1185.42760773333
  MAP_SCALE = 0.05
  MAXIMUM_LATITUDE = -20.0874
  MINIMUM_LATITUDE = -32.5304
  POSITIVE_LONGITUDE_DIRECTION = EAST
  REFERENCE_LATITUDE = "N/A"
  REFERENCE_LONGITUDE = "N/A"
  SAMPLE_FIRST_PIXEL = 1
  SAMPLE_LAST_PIXEL = 1697
  SAMPLE_PROJECTION_OFFSET = 1415.625
  SECOND_STANDARD_PARALLEL = "N/A"
  WESTERNMOST_LONGITUDE = 89.5712
END_OBJECT = IMAGE_MAP_PROJECTION
/* The JPEG2000 image data file associated with this label. */
OBJECT = COMPRESSED_FILE
  FILE_NAME = "H2096_0000_P23.JP2"
  RECORD_TYPE = UNDEFINED
  FILE_RECORDS = UNK
  ENCODING_TYPE = "JP2"
  INTERCHANGE_FORMAT = BINARY
  UNCOMPRESSED_FILE_NAME = "H2096_0000_P23.IMG"
  REQUIRED_STORAGE_BYTES = "25030750"
  ^DESCRIPTION = "JP2INFO.TXT"
END_OBJECT = COMPRESSED_FILE
END
