PDS_VERSION_ID = PDS3
/* FILE DATA ELEMENTS */
RECORD_TYPE = STREAM
/* POINTERS TO DATA OBJECTS */
^COMPRESSED_FILE = "H2096_0003_SR3.JP2"
/* IDENTIFICATION DATA ELEMENTS */
DATA_SET_ID = "MEX-M-HRSC-5-REFDR-MAPPROJECTED-V3.0"
DATA_SET_NAME = "MARS EXPRESS HRSC MAP PROJECTED REFDR V3.0"
DETECTOR_ID = MEX_HRSC_SRC
EVENT_TYPE = "MARS-LOCAL-MAPPING-Eo-Ot"
INSTRUMENT_HOST_ID = MEX
INSTRUMENT_HOST_NAME = "MARS EXPRESS"
INSTRUMENT_ID = HRSC
INSTRUMENT_NAME = "HIGH RESOLUTION STEREO CAMERA"
MISSION_NAME = "MARS EXPRESS"
MISSION_PHASE_NAME = MR_Phase_7
PROCESSING_LEVEL_ID = 3
PRODUCT_CREATION_TIME = 2016-03-10T10:27:20.000Z
PRODUCT_ID = "H2096_0003_SR3.JP2"
RELEASE_ID = 0026
REVISION_ID = 0000
/* QUALITY DATA ELEMENTS */
DATA_QUALITY_ID = 1
DATA_QUALITY_DESC = "Data calculated based on original SPICE kernels"
/* TIME DATA ELEMENTS */
SPACECRAFT_CLOCK_START_COUNT = "1/0073668496.57951"
SPACECRAFT_CLOCK_STOP_COUNT = "1/0073668747.47240"
IMAGE_TIME = 2005-09-01T15:30:02.377Z
START_TIME = 2005-09-01T15:30:02.375Z
STOP_TIME = 2005-09-01T15:30:02.380Z
/* ORBITAL DATA ELEMENTS */
ASCENDING_NODE_LONGITUDE = 184.3
MAXIMUM_RESOLUTION = 3.529
FOOTPRINT_POINT_LATITUDE = (11.5388,11.5403,11.5437,11.5467, 11.5493,11.5509,11.5531,11.5556,11.5572 ,11.559,11.5613,11.563,11.5646,11.5664, 11.5683,11.5714,11.5745,11.5767,11.5798 ,11.5828,11.5853,11.5871,11.59,11.593, 11.5951,11.5981,11.5985,11.5985,11.5985 ,11.5985,11.5985,11.5985,11.5985, 11.5985,11.5986,11.5986,11.5986,11.5986 ,11.5986,11.5986,11.5986,11.5986, 11.5986,11.5986,11.5986,11.5986,11.5986 ,11.5986,11.5986,11.5987,11.5975, 11.5943,11.5924,11.5896,11.5869,11.5841 ,11.5819,11.5794,11.5764,11.5742, 11.5717,11.5691,11.5673,11.5646,11.5629 ,11.5604,11.5581,11.5549,11.5526,11.549 ,11.547,11.5451,11.5423,11.5404,11.5386 ,11.5386,11.5386,11.5386,11.5386, 11.5386,11.5386,11.5386,11.5386,11.5386 ,11.5386,11.5385,11.5385,11.5385, 11.5385,11.5385,11.5385,11.5385,11.5385 ,11.5385,11.5385,11.5385,11.5385, 11.5385,11.5385,11.5388)
FOOTPRINT_POINT_LONGITUDE = (90.4976,90.4975,90.4975,90.4975, 90.4975,90.4975,90.4975,90.4975,90.4975 ,90.4975,90.4975,90.4975,90.4975, 90.4975,90.4975,90.4975,90.4974,90.4974 ,90.4974,90.4974,90.4974,90.4974, 90.4974,90.4974,90.4974,90.4974,90.4993 ,90.5023,90.5047,90.5078,90.5108, 90.5133,90.5157,90.5181,90.5206,90.5236 ,90.5254,90.5279,90.5297,90.5321, 90.5346,90.537,90.5394,90.5419,90.5443, 90.5473,90.5498,90.5522,90.5546,90.5571 ,90.5593,90.5593,90.5593,90.5593, 90.5593,90.5593,90.5593,90.5593,90.5593 ,90.5593,90.5593,90.5593,90.5593, 90.5594,90.5594,90.5594,90.5594,90.5594 ,90.5594,90.5594,90.5594,90.5594, 90.5594,90.5594,90.5575,90.5551,90.5527 ,90.5502,90.5478,90.5448,90.5417, 90.5393,90.5369,90.5344,90.532,90.5289, 90.5265,90.5241,90.521,90.5186,90.5162, 90.5137,90.5119,90.5095,90.507,90.5052, 90.5034,90.501,90.4991,90.4976)
ORBIT_NUMBER = 2096
ORBITAL_ECCENTRICITY = 0.573
ORBITAL_INCLINATION = 86.63
ORBITAL_SEMIMAJOR_AXIS = 8626.35
PERIAPSIS_ALTITUDE = 285.96
PERIAPSIS_ARGUMENT_ANGLE = 349.95
PERIAPSIS_TIME = 2005-09-01T15:24:32.000Z
SPACECRAFT_ORIENTATION = (0.0,1.0,0.0)
^MEX_ORIENTATION_DESC = "MEX_ORIENTATION_DESC.TXT"
SPACECRAFT_POINTING_MODE = NADIR
^MEX_POINTING_DESC = "MEX_POINTING_DESC.TXT"
RIGHT_ASCENSION = -1e+32
DECLINATION = -1e+32
OFFSET_ANGLE = -1e+32
SPACECRAFT_SOLAR_DISTANCE = 2.08875e+08
TARGET_NAME = MARS
/* CAMERA DATA ELEMENTS */
BUFFER_MODE_ID = BUFFER_8
EXPOSURE_DURATION = 5.04
INST_CMPRS_NAME = NONE
INST_CMPRS_RATIO = 1.0
INST_CMPRS_QUALITY = -2147483648
INST_CMPRS_QUANTZ_TBL_ID = -2147483648
INSTRUMENT_TEMPERATURE = 11.2121
MISSING_FRAMES = 0
START_BIT = 0
/* RADIOMETRIC DATA ELEMENTS */
BANDWIDTH = 250.0
CENTER_FILTER_WAVELENGTH = 600.0
RADIANCE_OFFSET = -9.99e+31
RADIANCE_SCALING_FACTOR = -9.99e+31
REFLECTANCE_SCALING_FACTOR = -9.99e+31
MEX:REFLECTANCE_OFFSET = -9.99e+31
/* IMAGE OBJECT DEFINITIONS */
OBJECT = IMAGE
  INTERCHANGE_FORMAT = BINARY
  LINES = 1470
  LINE_SAMPLES = 1483
  SAMPLE_TYPE = UNSIGNED_INTEGER
  SAMPLE_BITS = 8
  BANDS = 1
  BAND_STORAGE_TYPE = BAND_SEQUENTIAL
  MAXIMUM = 7403
  MEAN = 6873.28
  MINIMUM = 5809
  STANDARD_DEVIATION = 101.282
END_OBJECT = IMAGE
/* MAP OBJECT DEFINITIONS */
OBJECT = IMAGE_MAP_PROJECTION
  ^DATA_SET_MAP_PROJECTION_CATALOG= "DSMAP.CAT"
  A_AXIS_RADIUS = 3396.19
  B_AXIS_RADIUS = 3396.19
  C_AXIS_RADIUS = 3396.19
  CENTER_LATITUDE = 0.0
  CENTER_LONGITUDE = 91.0
  COORDINATE_SYSTEM_NAME = PLANETOGRAPHIC
  COORDINATE_SYSTEM_TYPE = "BODY-FIXED ROTATING"
  EASTERNMOST_LONGITUDE = 90.5594
  FIRST_STANDARD_PARALLEL = "N/A"
  LINE_FIRST_PIXEL = 1
  LINE_LAST_PIXEL = 1470
  LINE_PROJECTION_OFFSET = 274998.0
  MAP_PROJECTION_ROTATION = 0.0
  MAP_PROJECTION_TYPE = SINUSOIDAL
  MAP_RESOLUTION = 23709.8786048756
  MAP_SCALE = 0.0025
  MAXIMUM_LATITUDE = 11.5987
  MINIMUM_LATITUDE = 11.5385
  POSITIVE_LONGITUDE_DIRECTION = EAST
  REFERENCE_LATITUDE = "N/A"
  REFERENCE_LONGITUDE = "N/A"
  SAMPLE_FIRST_PIXEL = 1
  SAMPLE_LAST_PIXEL = 1483
  SAMPLE_PROJECTION_OFFSET = 11692.0
  SECOND_STANDARD_PARALLEL = "N/A"
  WESTERNMOST_LONGITUDE = 90.4974
END_OBJECT = IMAGE_MAP_PROJECTION
/* The JPEG2000 image data file associated with this label. */
OBJECT = COMPRESSED_FILE
  FILE_NAME = "H2096_0003_SR3.JP2"
  RECORD_TYPE = UNDEFINED
  FILE_RECORDS = UNK
  ENCODING_TYPE = "JP2"
  INTERCHANGE_FORMAT = BINARY
  UNCOMPRESSED_FILE_NAME = "H2096_0003_SR3.IMG"
  REQUIRED_STORAGE_BYTES = "2199289"
  ^DESCRIPTION = "JP2INFO.TXT"
END_OBJECT = COMPRESSED_FILE
END
