PDS_VERSION_ID = PDS3
/* FILE DATA ELEMENTS */
RECORD_TYPE = STREAM
/* POINTERS TO DATA OBJECTS */
^COMPRESSED_FILE = "H2097_0000_P23.JP2"
/* IDENTIFICATION DATA ELEMENTS */
DATA_SET_ID = "MEX-M-HRSC-5-REFDR-MAPPROJECTED-V3.0"
DATA_SET_NAME = "MARS EXPRESS HRSC MAP PROJECTED REFDR V3.0"
DETECTOR_ID = MEX_HRSC_P2
EVENT_TYPE = "MARS-REGIONAL-MAPPING-Lc-La"
INSTRUMENT_HOST_ID = MEX
INSTRUMENT_HOST_NAME = "MARS EXPRESS"
INSTRUMENT_ID = HRSC
INSTRUMENT_NAME = "HIGH RESOLUTION STEREO CAMERA"
MISSION_NAME = "MARS EXPRESS"
MISSION_PHASE_NAME = MR_Phase_7
PROCESSING_LEVEL_ID = 3
PRODUCT_CREATION_TIME = 2016-03-10T10:27:20.000Z
PRODUCT_ID = "H2097_0000_P23.JP2"
RELEASE_ID = 0026
REVISION_ID = 0000
/* QUALITY DATA ELEMENTS */
DATA_QUALITY_ID = 1
DATA_QUALITY_DESC = "Data calculated based on original SPICE kernels"
/* TIME DATA ELEMENTS */
SPACECRAFT_CLOCK_START_COUNT = "1/0073692482.57145"
SPACECRAFT_CLOCK_STOP_COUNT = "1/0073692694.24179"
START_TIME = 2005-09-01T22:08:18.638Z
STOP_TIME = 2005-09-01T22:10:50.533Z
/* ORBITAL DATA ELEMENTS */
ASCENDING_NODE_LONGITUDE = 184.29
MAXIMUM_RESOLUTION = 47.8
FOOTPRINT_POINT_LATITUDE = (-6.21415,-6.21293,-6.21193,-6.21079, -6.19973,-6.00453,-5.80923,-5.61399, -5.3209,-4.92999,-4.73453,-4.5389, -4.3433,-4.14755,-3.95219,-3.65928, -3.36581,-3.17003,-2.97532,-2.77669, -2.48122,-2.28501,-2.08657,-1.88396, -1.68064,-1.37573,-1.17214,-0.969039, -0.765686,-0.461075,-0.257993,0.0462162 ,0.249443,0.452972,0.655921,0.858687, 1.06553,1.27558,1.48628,1.69682,2.01261 ,2.3279,2.53845,2.74818,2.95826,3.16869 ,3.38193,3.59977,3.92625,3.93683, 3.93607,3.93541,3.93465,3.93426,3.93328 ,3.71508,3.49727,3.27994,3.07009, 2.75535,2.54481,2.22907,1.91403,1.70393 ,1.49286,1.17831,0.864956,0.558815, 0.35494,0.152278,-0.0504687,-0.253325, -0.456465,-0.659547,-0.964187,-1.16758, -1.37119,-1.57446,-1.8795,-2.0826, -2.28456,-2.4801,-2.77332,-2.9689, -3.16427,-3.35935,-3.55513,-3.75102, -4.04615,-4.2444,-4.53701,-4.73235, -5.02503,-5.21992,-5.41554,-5.611, -5.80596,-6.00167,-6.197,-6.21415)
FOOTPRINT_POINT_LONGITUDE = (352.451,352.216,352.065,351.913, 351.688,351.687,351.687,351.686,351.685 ,351.684,351.683,351.682,351.681,351.68 ,351.679,351.678,351.676,351.675, 351.674,351.672,351.669,351.667,351.667 ,351.666,351.665,351.662,351.661, 351.659,351.657,351.655,351.653,351.65, 351.648,351.646,351.644,351.642,351.641 ,351.639,351.636,351.634,351.631, 351.627,351.624,351.622,351.62,351.617, 351.614,351.611,351.607,351.755,351.935 ,352.114,352.43,352.588,352.739,352.737 ,352.736,352.734,352.733,352.731,352.73 ,352.728,352.727,352.726,352.725, 352.724,352.722,352.721,352.72,352.719, 352.718,352.718,352.717,352.716,352.716 ,352.715,352.714,352.714,352.713, 352.712,352.712,352.712,352.711,352.711 ,352.711,352.711,352.71,352.71,352.709, 352.708,352.708,352.708,352.708,352.708 ,352.708,352.708,352.708,352.708, 352.708,352.451)
ORBIT_NUMBER = 2097
ORBITAL_ECCENTRICITY = 0.573
ORBITAL_INCLINATION = 86.62
ORBITAL_SEMIMAJOR_AXIS = 8619.37
PERIAPSIS_ALTITUDE = 286.93
PERIAPSIS_ARGUMENT_ANGLE = 349.78
PERIAPSIS_TIME = 2005-09-01T22:07:36.000Z
SPACECRAFT_ORIENTATION = (0.0,1.0,0.0)
^MEX_ORIENTATION_DESC = "MEX_ORIENTATION_DESC.TXT"
SPACECRAFT_POINTING_MODE = ACROSSTRACK
^MEX_POINTING_DESC = "MEX_POINTING_DESC.TXT"
RIGHT_ASCENSION = -1e+32
DECLINATION = -1e+32
OFFSET_ANGLE = 0.13
SPACECRAFT_SOLAR_DISTANCE = 2.08902e+08
TARGET_NAME = MARS
/* CAMERA DATA ELEMENTS */
DETECTOR_TEMPERATURE = 18.9822
FOCAL_PLANE_TEMPERATURE = 10.2145
INST_CMPRS_NAME = "DISCRETE COSINE TRANSFORMATION (DCT)"
INST_CMPRS_RATIO = 7.91265
INST_CMPRS_QUALITY = 0
INST_CMPRS_QUANTZ_TBL_ID = 0
INSTRUMENT_TEMPERATURE = 11.8457
LENS_TEMPERATURE = 11.4379
MACROPIXEL_SIZE = 4
MISSING_FRAMES = 0
PIXEL_SUBSAMPLING_FLAG = N
SIGNAL_CHAIN_ID = 3
/* RADIOMETRIC DATA ELEMENTS */
BANDWIDTH = 177.0
CENTER_FILTER_WAVELENGTH = 676.5
RADIANCE_OFFSET = 5.09543
RADIANCE_SCALING_FACTOR = 0.0215061
REFLECTANCE_SCALING_FACTOR = 0.000497629
MEX:REFLECTANCE_OFFSET = 0.117903
/* IMAGE OBJECT DEFINITIONS */
OBJECT = IMAGE
  INTERCHANGE_FORMAT = BINARY
  LINES = 12010
  LINE_SAMPLES = 1444
  SAMPLE_TYPE = UNSIGNED_INTEGER
  SAMPLE_BITS = 8
  BANDS = 1
  BAND_STORAGE_TYPE = BAND_SEQUENTIAL
  MAXIMUM = 249
  MEAN = 191.288
  MINIMUM = 114
  STANDARD_DEVIATION = 23.8888
END_OBJECT = IMAGE
/* MAP OBJECT DEFINITIONS */
OBJECT = IMAGE_MAP_PROJECTION
  ^DATA_SET_MAP_PROJECTION_CATALOG= "DSMAP.CAT"
  A_AXIS_RADIUS = 3396.0
  B_AXIS_RADIUS = 3396.0
  C_AXIS_RADIUS = 3396.0
  CENTER_LATITUDE = 0.0
  CENTER_LONGITUDE = 352.0
  COORDINATE_SYSTEM_NAME = PLANETOGRAPHIC
  COORDINATE_SYSTEM_TYPE = "BODY-FIXED ROTATING"
  EASTERNMOST_LONGITUDE = 352.739
  FIRST_STANDARD_PARALLEL = "N/A"
  LINE_FIRST_PIXEL = 1
  LINE_LAST_PIXEL = 12010
  LINE_PROJECTION_OFFSET = 4644.125
  MAP_PROJECTION_ROTATION = 0.0
  MAP_PROJECTION_TYPE = SINUSOIDAL
  MAP_RESOLUTION = 1185.42760773333
  MAP_SCALE = 0.05
  MAXIMUM_LATITUDE = 3.93683
  MINIMUM_LATITUDE = -6.21415
  POSITIVE_LONGITUDE_DIRECTION = EAST
  REFERENCE_LATITUDE = "N/A"
  REFERENCE_LONGITUDE = "N/A"
  SAMPLE_FIRST_PIXEL = 1
  SAMPLE_LAST_PIXEL = 1444
  SAMPLE_PROJECTION_OFFSET = 527.375
  SECOND_STANDARD_PARALLEL = "N/A"
  WESTERNMOST_LONGITUDE = 351.607
END_OBJECT = IMAGE_MAP_PROJECTION
/* The JPEG2000 image data file associated with this label. */
OBJECT = COMPRESSED_FILE
  FILE_NAME = "H2097_0000_P23.JP2"
  RECORD_TYPE = UNDEFINED
  FILE_RECORDS = UNK
  ENCODING_TYPE = "JP2"
  INTERCHANGE_FORMAT = BINARY
  UNCOMPRESSED_FILE_NAME = "H2097_0000_P23.IMG"
  REQUIRED_STORAGE_BYTES = "17361212"
  ^DESCRIPTION = "JP2INFO.TXT"
END_OBJECT = COMPRESSED_FILE
END
