PDS_VERSION_ID = PDS3
/* FILE DATA ELEMENTS */
RECORD_TYPE = STREAM
/* POINTERS TO DATA OBJECTS */
^COMPRESSED_FILE = "H2099_0000_ND3.JP2"
/* IDENTIFICATION DATA ELEMENTS */
DATA_SET_ID = "MEX-M-HRSC-5-REFDR-MAPPROJECTED-V3.0"
DATA_SET_NAME = "MARS EXPRESS HRSC MAP PROJECTED REFDR V3.0"
DETECTOR_ID = MEX_HRSC_NADIR
EVENT_TYPE = "MARS-LOCAL-MAPPING-Vo-Gl-Eo"
INSTRUMENT_HOST_ID = MEX
INSTRUMENT_HOST_NAME = "MARS EXPRESS"
INSTRUMENT_ID = HRSC
INSTRUMENT_NAME = "HIGH RESOLUTION STEREO CAMERA"
MISSION_NAME = "MARS EXPRESS"
MISSION_PHASE_NAME = MR_Phase_7
PROCESSING_LEVEL_ID = 3
PRODUCT_CREATION_TIME = 2016-03-10T10:27:20.000Z
PRODUCT_ID = "H2099_0000_ND3.JP2"
RELEASE_ID = 0026
REVISION_ID = 0000
/* QUALITY DATA ELEMENTS */
DATA_QUALITY_ID = 1
DATA_QUALITY_DESC = "Data calculated based on original SPICE kernels"
/* TIME DATA ELEMENTS */
SPACECRAFT_CLOCK_START_COUNT = "1/0073740889.57325"
SPACECRAFT_CLOCK_STOP_COUNT = "1/0073741230.54462"
START_TIME = 2005-09-02T11:35:22.645Z
STOP_TIME = 2005-09-02T11:39:55.644Z
/* ORBITAL DATA ELEMENTS */
ASCENDING_NODE_LONGITUDE = 184.23
MAXIMUM_RESOLUTION = 11.9
FOOTPRINT_POINT_LATITUDE = (-4.31652,-4.31717,-4.16293,-3.53838, -3.2183,-2.89838,-2.57859,-2.25903, -1.93962,-1.62041,-1.30139,-0.98258, -0.663969,-0.336706,-0.00676176,0.32289 ,0.652331,0.981497,1.31039,1.639,2.1456 ,2.48517,2.82441,3.16332,3.50189,3.8469 ,4.19639,4.54548,4.89418,5.24246, 5.77901,6.13778,6.49607,6.85389,7.21122 ,7.56805,7.92437,8.28017,8.63547, 8.99022,9.34443,9.74999,10.1713,10.5917 ,11.0114,11.4302,11.8482,12.2653, 12.6815,13.0969,13.3282,13.3289,13.1212 ,12.706,12.2899,11.8729,11.455,11.0363, 10.6168,10.1964,9.77524,9.36612,9.01196 ,8.65726,8.30202,7.94626,7.58997, 7.23318,6.87588,6.51809,6.15982,5.80107 ,5.26392,4.91565,4.56696,4.21786, 3.86837,3.52274,3.18417,2.84524,2.50598 ,2.16639,1.65913,1.3305,1.00158, 0.672383,0.342926,0.0132121,-0.316764, -0.644679,-0.963319,-1.28216,-1.60122, -1.92047,-2.23993,-2.55957,-2.87938, -3.1994,-3.83625,-4.31652)
FOOTPRINT_POINT_LONGITUDE = (156.19,155.814,155.41,155.406,155.403, 155.401,155.398,155.396,155.393,155.39, 155.387,155.384,155.381,155.377,155.374 ,155.371,155.367,155.363,155.359, 155.355,155.349,155.345,155.34,155.336, 155.331,155.326,155.321,155.316,155.311 ,155.306,155.297,155.291,155.285, 155.279,155.273,155.267,155.26,155.254, 155.247,155.24,155.234,155.226,155.217, 155.209,155.2,155.191,155.182,155.173, 155.163,155.154,155.681,156.144,156.611 ,156.603,156.596,156.588,156.581, 156.575,156.568,156.562,156.556,156.55, 156.545,156.541,156.536,156.532,156.528 ,156.524,156.519,156.516,156.512, 156.508,156.503,156.5,156.497,156.494, 156.491,156.488,156.486,156.483,156.481 ,156.479,156.475,156.473,156.471,156.47 ,156.468,156.466,156.465,156.463, 156.462,156.461,156.46,156.459,156.458, 156.457,156.456,156.454,156.453,156.19)
ORBIT_NUMBER = 2099
ORBITAL_ECCENTRICITY = 0.573
ORBITAL_INCLINATION = 86.62
ORBITAL_SEMIMAJOR_AXIS = 8618.94
PERIAPSIS_ALTITUDE = 286.94
PERIAPSIS_ARGUMENT_ANGLE = 349.47
PERIAPSIS_TIME = 2005-09-02T11:33:50.000Z
SPACECRAFT_ORIENTATION = (0.0,1.0,0.0)
^MEX_ORIENTATION_DESC = "MEX_ORIENTATION_DESC.TXT"
SPACECRAFT_POINTING_MODE = ACROSSTRACK
^MEX_POINTING_DESC = "MEX_POINTING_DESC.TXT"
RIGHT_ASCENSION = -1e+32
DECLINATION = -1e+32
OFFSET_ANGLE = -0.13
SPACECRAFT_SOLAR_DISTANCE = 2.08956e+08
TARGET_NAME = MARS
/* CAMERA DATA ELEMENTS */
DETECTOR_TEMPERATURE = 18.3705
FOCAL_PLANE_TEMPERATURE = 10.2145
INST_CMPRS_NAME = "DISCRETE COSINE TRANSFORMATION (DCT)"
INST_CMPRS_RATIO = 5.76793
INST_CMPRS_QUALITY = 0
INST_CMPRS_QUANTZ_TBL_ID = 0
INSTRUMENT_TEMPERATURE = 11.6418
LENS_TEMPERATURE = 10.0106
MACROPIXEL_SIZE = 1
MISSING_FRAMES = 0
PIXEL_SUBSAMPLING_FLAG = N
SIGNAL_CHAIN_ID = 0
/* RADIOMETRIC DATA ELEMENTS */
BANDWIDTH = 177.0
CENTER_FILTER_WAVELENGTH = 677.5
RADIANCE_OFFSET = 4.83513
RADIANCE_SCALING_FACTOR = 0.0267354
REFLECTANCE_SCALING_FACTOR = 0.000620129
MEX:REFLECTANCE_OFFSET = 0.112151
/* IMAGE OBJECT DEFINITIONS */
OBJECT = IMAGE
  INTERCHANGE_FORMAT = BINARY
  LINES = 83673
  LINE_SAMPLES = 7046
  SAMPLE_TYPE = UNSIGNED_INTEGER
  SAMPLE_BITS = 8
  BANDS = 1
  BAND_STORAGE_TYPE = BAND_SEQUENTIAL
  MAXIMUM = 281
  MEAN = 198.346
  MINIMUM = 95
  STANDARD_DEVIATION = 19.3985
END_OBJECT = IMAGE
/* MAP OBJECT DEFINITIONS */
OBJECT = IMAGE_MAP_PROJECTION
  ^DATA_SET_MAP_PROJECTION_CATALOG= "DSMAP.CAT"
  A_AXIS_RADIUS = 3396.0
  B_AXIS_RADIUS = 3396.0
  C_AXIS_RADIUS = 3396.0
  CENTER_LATITUDE = 0.0
  CENTER_LONGITUDE = 156.0
  COORDINATE_SYSTEM_NAME = PLANETOGRAPHIC
  COORDINATE_SYSTEM_TYPE = "BODY-FIXED ROTATING"
  EASTERNMOST_LONGITUDE = 156.611
  FIRST_STANDARD_PARALLEL = "N/A"
  LINE_FIRST_PIXEL = 1
  LINE_LAST_PIXEL = 83673
  LINE_PROJECTION_OFFSET = 63198.0
  MAP_PROJECTION_ROTATION = 0.0
  MAP_PROJECTION_TYPE = SINUSOIDAL
  MAP_RESOLUTION = 4741.71043093333
  MAP_SCALE = 0.0125
  MAXIMUM_LATITUDE = 13.3289
  MINIMUM_LATITUDE = -4.31717
  POSITIVE_LONGITUDE_DIRECTION = EAST
  REFERENCE_LATITUDE = "N/A"
  REFERENCE_LONGITUDE = "N/A"
  SAMPLE_FIRST_PIXEL = 1
  SAMPLE_LAST_PIXEL = 7046
  SAMPLE_PROJECTION_OFFSET = 4035.0
  SECOND_STANDARD_PARALLEL = "N/A"
  WESTERNMOST_LONGITUDE = 155.154
END_OBJECT = IMAGE_MAP_PROJECTION
/* The JPEG2000 image data file associated with this label. */
OBJECT = COMPRESSED_FILE
  FILE_NAME = "H2099_0000_ND3.JP2"
  RECORD_TYPE = UNDEFINED
  FILE_RECORDS = UNK
  ENCODING_TYPE = "JP2"
  INTERCHANGE_FORMAT = BINARY
  UNCOMPRESSED_FILE_NAME = "H2099_0000_ND3.IMG"
  REQUIRED_STORAGE_BYTES = "589588142"
  ^DESCRIPTION = "JP2INFO.TXT"
END_OBJECT = COMPRESSED_FILE
END
