PDS_VERSION_ID = PDS3
/* FILE DATA ELEMENTS */
RECORD_TYPE = STREAM
/* POINTERS TO DATA OBJECTS */
^COMPRESSED_FILE = "H2101_0000_S13.JP2"
/* IDENTIFICATION DATA ELEMENTS */
DATA_SET_ID = "MEX-M-HRSC-5-REFDR-MAPPROJECTED-V3.0"
DATA_SET_NAME = "MARS EXPRESS HRSC MAP PROJECTED REFDR V3.0"
DETECTOR_ID = MEX_HRSC_S1
EVENT_TYPE = "MARS-REGIONAL-MAPPING-Fl-Mw-La"
INSTRUMENT_HOST_ID = MEX
INSTRUMENT_HOST_NAME = "MARS EXPRESS"
INSTRUMENT_ID = HRSC
INSTRUMENT_NAME = "HIGH RESOLUTION STEREO CAMERA"
MISSION_NAME = "MARS EXPRESS"
MISSION_PHASE_NAME = MR_Phase_7
PROCESSING_LEVEL_ID = 3
PRODUCT_CREATION_TIME = 2016-03-14T11:38:04.000Z
PRODUCT_ID = "H2101_0000_S13.JP2"
RELEASE_ID = 0027
REVISION_ID = 0000
/* QUALITY DATA ELEMENTS */
DATA_QUALITY_ID = 1
DATA_QUALITY_DESC = "Data calculated based on original SPICE kernels"
/* TIME DATA ELEMENTS */
SPACECRAFT_CLOCK_START_COUNT = "1/0073789024.57947"
SPACECRAFT_CLOCK_STOP_COUNT = "1/0073789407.13631"
START_TIME = 2005-09-03T00:58:06.680Z
STOP_TIME = 2005-09-03T01:06:39.391Z
/* ORBITAL DATA ELEMENTS */
ASCENDING_NODE_LONGITUDE = 184.2
MAXIMUM_RESOLUTION = 24.4
FOOTPRINT_POINT_LATITUDE = (-19.8573,-19.8821,-19.2065,-18.5319, -17.5427,-16.5699,-15.9475,-14.9597, -14.0088,-13.3647,-13.0246,-12.0497, -11.4042,-10.4451,-9.80793,-8.85692, -8.24693,-7.58284,-6.9488,-5.98794, -5.33345,-4.68819,-4.03699,-3.39362, -2.40097,-1.73735,-0.744729,-0.401688, -0.0590888,0.284,0.960253,1.30299, 1.6437,2.31765,2.989,3.65634,4.65316, 5.31448,5.97155,6.6267,7.26382,7.9133, 8.56579,9.2101,9.84503,10.484,11.1146, 11.7378,12.3663,12.7249,12.7362,12.7502 ,12.1274,11.1848,10.5539,9.60801, 8.96861,8.00299,7.35486,6.37619,5.71921 ,5.05899,4.3957,3.73063,3.05999,2.39123 ,1.71732,1.37633,1.03736,0.698562, 0.356749,0.0145087,-0.330904,-0.670708, -1.33171,-1.99587,-2.66333,-3.64387, -4.29094,-4.94211,-5.59097,-6.56232, -7.19649,-7.85915,-8.48708,-9.42055, -10.3839,-11.3405,-12.0014,-12.6527, -13.2961,-13.9126,-14.5611,-15.5265, -16.502,-17.4722,-18.1304,-18.8051, -19.8175,-19.8573)
FOOTPRINT_POINT_LONGITUDE = (318.608,318.145,318.157,318.168, 318.179,318.192,318.183,318.204,318.201 ,318.206,318.22,318.232,318.237,318.239 ,318.239,318.236,318.219,318.237, 318.236,318.234,318.231,318.222,318.218 ,318.211,318.203,318.195,318.182, 318.179,318.175,318.172,318.161,318.158 ,318.152,318.142,318.13,318.118,318.099 ,318.086,318.072,318.058,318.035,318.02 ,318.009,317.994,317.975,317.96,317.942 ,317.921,317.905,318.447,318.948, 319.465,319.453,319.436,319.426,319.41, 319.401,319.387,319.379,319.367,319.36, 319.353,319.346,319.34,319.334,319.328, 319.323,319.321,319.318,319.316,319.314 ,319.311,319.309,319.307,319.304,319.3, 319.297,319.293,319.29,319.288,319.286, 319.283,319.281,319.279,319.278,319.277 ,319.275,319.274,319.273,319.272, 319.272,319.273,319.272,319.272,319.272 ,319.273,319.273,319.273,319.274, 318.608)
ORBIT_NUMBER = 2101
ORBITAL_ECCENTRICITY = 0.573
ORBITAL_INCLINATION = 86.63
ORBITAL_SEMIMAJOR_AXIS = 8616.86
PERIAPSIS_ALTITUDE = 286.67
PERIAPSIS_ARGUMENT_ANGLE = 349.1
PERIAPSIS_TIME = 2005-09-03T00:59:56.000Z
SPACECRAFT_ORIENTATION = (0.0,1.0,0.0)
^MEX_ORIENTATION_DESC = "MEX_ORIENTATION_DESC.TXT"
SPACECRAFT_POINTING_MODE = ACROSSTRACK
^MEX_POINTING_DESC = "MEX_POINTING_DESC.TXT"
RIGHT_ASCENSION = -1e+32
DECLINATION = -1e+32
OFFSET_ANGLE = 0.54
SPACECRAFT_SOLAR_DISTANCE = 2.0901e+08
TARGET_NAME = MARS
/* CAMERA DATA ELEMENTS */
DETECTOR_TEMPERATURE = 17.9627
FOCAL_PLANE_TEMPERATURE = 10.4184
INST_CMPRS_NAME = "DISCRETE COSINE TRANSFORMATION (DCT)"
INST_CMPRS_RATIO = 8.74725
INST_CMPRS_QUALITY = 0
INST_CMPRS_QUANTZ_TBL_ID = 0
INSTRUMENT_TEMPERATURE = 13.0691
LENS_TEMPERATURE = 10.2145
MACROPIXEL_SIZE = 2
MISSING_FRAMES = 2
PIXEL_SUBSAMPLING_FLAG = N
SIGNAL_CHAIN_ID = 1
/* RADIOMETRIC DATA ELEMENTS */
BANDWIDTH = 180.0
CENTER_FILTER_WAVELENGTH = 677.0
RADIANCE_OFFSET = 4.63529
RADIANCE_SCALING_FACTOR = 0.0276859
REFLECTANCE_SCALING_FACTOR = 0.000631006
MEX:REFLECTANCE_OFFSET = 0.105646
/* IMAGE OBJECT DEFINITIONS */
OBJECT = IMAGE
  INTERCHANGE_FORMAT = BINARY
  LINES = 77377
  LINE_SAMPLES = 3534
  SAMPLE_TYPE = UNSIGNED_INTEGER
  SAMPLE_BITS = 8
  BANDS = 1
  BAND_STORAGE_TYPE = BAND_SEQUENTIAL
  MAXIMUM = 170
  MEAN = 112.643
  MINIMUM = 58
  STANDARD_DEVIATION = 18.5422
END_OBJECT = IMAGE
/* MAP OBJECT DEFINITIONS */
OBJECT = IMAGE_MAP_PROJECTION
  ^DATA_SET_MAP_PROJECTION_CATALOG= "DSMAP.CAT"
  A_AXIS_RADIUS = 3396.0
  B_AXIS_RADIUS = 3396.0
  C_AXIS_RADIUS = 3396.0
  CENTER_LATITUDE = 0.0
  CENTER_LONGITUDE = 319.0
  COORDINATE_SYSTEM_NAME = PLANETOGRAPHIC
  COORDINATE_SYSTEM_TYPE = "BODY-FIXED ROTATING"
  EASTERNMOST_LONGITUDE = 319.465
  FIRST_STANDARD_PARALLEL = "N/A"
  LINE_FIRST_PIXEL = 1
  LINE_LAST_PIXEL = 77377
  LINE_PROJECTION_OFFSET = 30268.75
  MAP_PROJECTION_ROTATION = 0.0
  MAP_PROJECTION_TYPE = SINUSOIDAL
  MAP_RESOLUTION = 2370.85521546667
  MAP_SCALE = 0.025
  MAXIMUM_LATITUDE = 12.7502
  MINIMUM_LATITUDE = -19.8821
  POSITIVE_LONGITUDE_DIRECTION = EAST
  REFERENCE_LATITUDE = "N/A"
  REFERENCE_LONGITUDE = "N/A"
  SAMPLE_FIRST_PIXEL = 1
  SAMPLE_LAST_PIXEL = 3534
  SAMPLE_PROJECTION_OFFSET = 2554.25
  SECOND_STANDARD_PARALLEL = "N/A"
  WESTERNMOST_LONGITUDE = 317.905
END_OBJECT = IMAGE_MAP_PROJECTION
/* The JPEG2000 image data file associated with this label. */
OBJECT = COMPRESSED_FILE
  FILE_NAME = "H2101_0000_S13.JP2"
  RECORD_TYPE = UNDEFINED
  FILE_RECORDS = UNK
  ENCODING_TYPE = "JP2"
  INTERCHANGE_FORMAT = BINARY
  UNCOMPRESSED_FILE_NAME = "H2101_0000_S13.IMG"
  REQUIRED_STORAGE_BYTES = "273471522"
  ^DESCRIPTION = "JP2INFO.TXT"
END_OBJECT = COMPRESSED_FILE
END
