PDS_VERSION_ID = PDS3
/* FILE DATA ELEMENTS */
RECORD_TYPE = STREAM
/* POINTERS TO DATA OBJECTS */
^COMPRESSED_FILE = "H2107_0000_P13.JP2"
/* IDENTIFICATION DATA ELEMENTS */
DATA_SET_ID = "MEX-M-HRSC-5-REFDR-MAPPROJECTED-V3.0"
DATA_SET_NAME = "MARS EXPRESS HRSC MAP PROJECTED REFDR V3.0"
DETECTOR_ID = MEX_HRSC_P1
EVENT_TYPE = "MARS-REGIONAL-MAPPING-Vo-Fl"
INSTRUMENT_HOST_ID = MEX
INSTRUMENT_HOST_NAME = "MARS EXPRESS"
INSTRUMENT_ID = HRSC
INSTRUMENT_NAME = "HIGH RESOLUTION STEREO CAMERA"
MISSION_NAME = "MARS EXPRESS"
MISSION_PHASE_NAME = MR_Phase_7
PROCESSING_LEVEL_ID = 3
PRODUCT_CREATION_TIME = 2016-03-14T11:38:04.000Z
PRODUCT_ID = "H2107_0000_P13.JP2"
RELEASE_ID = 0027
REVISION_ID = 0000
/* QUALITY DATA ELEMENTS */
DATA_QUALITY_ID = 1
DATA_QUALITY_DESC = "Data calculated based on original SPICE kernels"
/* TIME DATA ELEMENTS */
SPACECRAFT_CLOCK_START_COUNT = "1/0073933930.57145"
SPACECRAFT_CLOCK_STOP_COUNT = "1/0073934215.06919"
START_TIME = 2005-09-04T17:13:20.291Z
STOP_TIME = 2005-09-04T17:16:51.398Z
/* ORBITAL DATA ELEMENTS */
ASCENDING_NODE_LONGITUDE = 184.07
MAXIMUM_RESOLUTION = 48.3
FOOTPRINT_POINT_LATITUDE = (-33.8647,-33.8629,-33.8609,-33.8585, -33.8559,-33.8821,-33.5927,-33.3011, -33.0093,-32.7176,-32.4253,-32.1331, -31.6966,-31.401,-31.1088,-30.8152, -30.5219,-30.228,-29.9344,-29.6404, -29.3454,-29.0515,-28.7565,-28.4613, -28.1692,-27.7408,-27.4514,-27.1682, -26.8789,-26.5939,-26.3184,-25.9034, -25.6262,-25.3497,-25.0719,-24.6559, -24.3877,-24.1186,-23.7192,-23.3123, -23.0451,-22.777,-22.5086,-22.2447, -21.9859,-21.599,-21.2093,-20.951, -20.6915,-20.4324,-20.174,-19.9155, -19.8601,-19.8592,-19.8577,-20.1164, -20.3749,-20.6337,-21.0222,-21.2812, -21.5397,-21.7991,-22.1873,-22.5843, -22.8528,-23.1217,-23.3899,-23.6586, -23.9271,-24.2007,-24.4639,-24.7367, -25.0157,-25.2936,-25.5711,-25.8491, -26.1264,-26.4026,-26.8262,-27.1121, -27.3984,-27.6844,-27.9709,-28.2565, -28.5516,-28.8471,-29.2892,-29.7307, -30.1716,-30.4653,-30.9056,-31.2015, -31.4949,-31.7891,-32.2304,-32.6691, -32.9619,-33.4005,-33.6928,-33.8647)
FOOTPRINT_POINT_LONGITUDE = (89.7846,89.5525,89.3199,89.0868, 88.8532,88.5172,88.531,88.5459,88.5606, 88.5747,88.5888,88.6024,88.6206,88.6358 ,88.6478,88.6605,88.6726,88.6848, 88.6963,88.7078,88.7196,88.7302,88.7413 ,88.7522,88.7623,88.7768,88.789,88.7963 ,88.8077,88.8157,88.8229,88.8349, 88.8429,88.8501,88.8581,88.8693,88.8764 ,88.8839,88.8918,88.9047,88.9101, 88.9159,88.9218,88.9273,88.9326,88.9393 ,88.9477,88.9521,88.9572,88.9618, 88.9657,88.9697,89.3082,89.5323,89.8769 ,90.0625,90.063,90.0637,90.0647,90.0654 ,90.066,90.0669,90.068,90.0694,90.0703, 90.0713,90.0721,90.0731,90.0741,90.0767 ,90.0761,90.0777,90.0792,90.0802, 90.0813,90.0825,90.0836,90.0843,90.086, 90.0869,90.088,90.0891,90.0903,90.0913, 90.0924,90.0937,90.0954,90.097,90.0985, 90.0995,90.1011,90.103,90.1042,90.1057, 90.1081,90.1098,90.1111,90.113,90.1143, 89.7846)
ORBIT_NUMBER = 2107
ORBITAL_ECCENTRICITY = 0.573
ORBITAL_INCLINATION = 86.63
ORBITAL_SEMIMAJOR_AXIS = 8625.18
PERIAPSIS_ALTITUDE = 285.18
PERIAPSIS_ARGUMENT_ANGLE = 348.0
PERIAPSIS_TIME = 2005-09-04T17:18:34.000Z
SPACECRAFT_ORIENTATION = (0.0,1.0,0.0)
^MEX_ORIENTATION_DESC = "MEX_ORIENTATION_DESC.TXT"
SPACECRAFT_POINTING_MODE = ACROSSTRACK
^MEX_POINTING_DESC = "MEX_POINTING_DESC.TXT"
RIGHT_ASCENSION = -1e+32
DECLINATION = -1e+32
OFFSET_ANGLE = 0.21
SPACECRAFT_SOLAR_DISTANCE = 2.09176e+08
TARGET_NAME = MARS
/* CAMERA DATA ELEMENTS */
DETECTOR_TEMPERATURE = 17.7588
FOCAL_PLANE_TEMPERATURE = 8.9911
INST_CMPRS_NAME = "DISCRETE COSINE TRANSFORMATION (DCT)"
INST_CMPRS_RATIO = 13.1789
INST_CMPRS_QUALITY = 0
INST_CMPRS_QUANTZ_TBL_ID = 0
INSTRUMENT_TEMPERATURE = 11.234
LENS_TEMPERATURE = 9.195
MACROPIXEL_SIZE = 4
MISSING_FRAMES = 0
PIXEL_SUBSAMPLING_FLAG = N
SIGNAL_CHAIN_ID = 3
/* RADIOMETRIC DATA ELEMENTS */
BANDWIDTH = 174.0
CENTER_FILTER_WAVELENGTH = 675.0
RADIANCE_OFFSET = 6.65234
RADIANCE_SCALING_FACTOR = 0.0139592
REFLECTANCE_SCALING_FACTOR = 0.000328524
MEX:REFLECTANCE_OFFSET = 0.156561
/* IMAGE OBJECT DEFINITIONS */
OBJECT = IMAGE
  INTERCHANGE_FORMAT = BINARY
  LINES = 16648
  LINE_SAMPLES = 1745
  SAMPLE_TYPE = UNSIGNED_INTEGER
  SAMPLE_BITS = 8
  BANDS = 1
  BAND_STORAGE_TYPE = BAND_SEQUENTIAL
  MAXIMUM = 178
  MEAN = 150.934
  MINIMUM = 110
  STANDARD_DEVIATION = 6.45479
END_OBJECT = IMAGE
/* MAP OBJECT DEFINITIONS */
OBJECT = IMAGE_MAP_PROJECTION
  ^DATA_SET_MAP_PROJECTION_CATALOG= "DSMAP.CAT"
  A_AXIS_RADIUS = 3396.0
  B_AXIS_RADIUS = 3396.0
  C_AXIS_RADIUS = 3396.0
  CENTER_LATITUDE = 0.0
  CENTER_LONGITUDE = 89.0
  COORDINATE_SYSTEM_NAME = PLANETOGRAPHIC
  COORDINATE_SYSTEM_TYPE = "BODY-FIXED ROTATING"
  EASTERNMOST_LONGITUDE = 90.1143
  FIRST_STANDARD_PARALLEL = "N/A"
  LINE_FIRST_PIXEL = 1
  LINE_LAST_PIXEL = 16648
  LINE_PROJECTION_OFFSET = -23554.125
  MAP_PROJECTION_ROTATION = 0.0
  MAP_PROJECTION_TYPE = SINUSOIDAL
  MAP_RESOLUTION = 1185.42760773333
  MAP_SCALE = 0.05
  MAXIMUM_LATITUDE = -19.8577
  MINIMUM_LATITUDE = -33.8821
  POSITIVE_LONGITUDE_DIRECTION = EAST
  REFERENCE_LATITUDE = "N/A"
  REFERENCE_LONGITUDE = "N/A"
  SAMPLE_FIRST_PIXEL = 1
  SAMPLE_LAST_PIXEL = 1745
  SAMPLE_PROJECTION_OFFSET = 525.125
  SECOND_STANDARD_PARALLEL = "N/A"
  WESTERNMOST_LONGITUDE = 88.5172
END_OBJECT = IMAGE_MAP_PROJECTION
/* The JPEG2000 image data file associated with this label. */
OBJECT = COMPRESSED_FILE
  FILE_NAME = "H2107_0000_P13.JP2"
  RECORD_TYPE = UNDEFINED
  FILE_RECORDS = UNK
  ENCODING_TYPE = "JP2"
  INTERCHANGE_FORMAT = BINARY
  UNCOMPRESSED_FILE_NAME = "H2107_0000_P13.IMG"
  REQUIRED_STORAGE_BYTES = "29071700"
  ^DESCRIPTION = "JP2INFO.TXT"
END_OBJECT = COMPRESSED_FILE
END
