PDS_VERSION_ID = PDS3
/* FILE DATA ELEMENTS */
RECORD_TYPE = STREAM
/* POINTERS TO DATA OBJECTS */
^COMPRESSED_FILE = "H2107_0000_RE3.JP2"
/* IDENTIFICATION DATA ELEMENTS */
DATA_SET_ID = "MEX-M-HRSC-5-REFDR-MAPPROJECTED-V3.0"
DATA_SET_NAME = "MARS EXPRESS HRSC MAP PROJECTED REFDR V3.0"
DETECTOR_ID = MEX_HRSC_RED
EVENT_TYPE = "MARS-REGIONAL-MAPPING-Vo-Fl"
INSTRUMENT_HOST_ID = MEX
INSTRUMENT_HOST_NAME = "MARS EXPRESS"
INSTRUMENT_ID = HRSC
INSTRUMENT_NAME = "HIGH RESOLUTION STEREO CAMERA"
MISSION_NAME = "MARS EXPRESS"
MISSION_PHASE_NAME = MR_Phase_7
PROCESSING_LEVEL_ID = 3
PRODUCT_CREATION_TIME = 2016-03-14T11:38:04.000Z
PRODUCT_ID = "H2107_0000_RE3.JP2"
RELEASE_ID = 0027
REVISION_ID = 0000
/* QUALITY DATA ELEMENTS */
DATA_QUALITY_ID = 1
DATA_QUALITY_DESC = "Data calculated based on original SPICE kernels"
/* TIME DATA ELEMENTS */
SPACECRAFT_CLOCK_START_COUNT = "1/0073933930.57145"
SPACECRAFT_CLOCK_STOP_COUNT = "1/0073934215.06919"
START_TIME = 2005-09-04T17:12:25.364Z
STOP_TIME = 2005-09-04T17:16:11.857Z
/* ORBITAL DATA ELEMENTS */
ASCENDING_NODE_LONGITUDE = 184.07
MAXIMUM_RESOLUTION = 101.6
FOOTPRINT_POINT_LATITUDE = (-33.9515,-33.9441,-33.9383,-33.933, -33.9257,-33.9175,-33.8607,-33.447, -33.172,-32.896,-32.6195,-32.3427, -32.0652,-31.6458,-31.227,-30.8059, -30.385,-29.9615,-29.5371,-29.2544, -28.9692,-28.6853,-28.4003,-28.1146, -27.6873,-27.4018,-27.1103,-26.826, -26.5355,-26.0988,-25.809,-25.5182, -25.2296,-24.9482,-24.6656,-24.2415, -23.9599,-23.6737,-23.4044,-23.128, -22.7136,-22.2983,-21.8842,-21.6135, -21.3475,-21.0779,-20.8082,-20.5393, -20.2685,-19.8655,-19.871,-19.875, -19.88,-19.8857,-19.8902,-20.1611, -20.4324,-20.7031,-20.9719,-21.2428, -21.5123,-21.9151,-22.1918,-22.6072, -22.8842,-23.1602,-23.4362,-23.7117, -23.9935,-24.2718,-24.5601,-24.8413, -25.2628,-25.552,-25.8424,-26.1326, -26.424,-26.7135,-27.0032,-27.292, -27.5803,-27.8676,-28.1546,-28.4415, -28.87,-29.1554,-29.4396,-29.7249, -30.0091,-30.434,-30.8576,-31.2764, -31.5565,-31.8347,-32.2516,-32.8076, -33.222,-33.4979,-33.7727,-33.9515)
FOOTPRINT_POINT_LONGITUDE = (90.1742,89.7941,89.5402,89.3335, 89.0788,88.8236,88.4575,88.4799,88.4953 ,88.5104,88.5251,88.5398,88.5542, 88.5744,88.595,88.6145,88.6343,88.653, 88.6713,88.6836,88.6949,88.7068,88.7182 ,88.7294,88.7468,88.7582,88.7666, 88.7787,88.7877,88.8009,88.8104,88.8195 ,88.8279,88.8368,88.8452,88.8577, 88.8667,88.8718,88.882,88.8887,88.8989, 88.9088,88.9184,88.9231,88.9302,88.9356 ,88.9409,88.9467,88.9516,88.9589, 89.1697,89.3388,89.6543,89.8847,90.0797 ,90.081,90.0822,90.0835,90.0852,90.0864 ,90.0878,90.0901,90.0916,90.0942, 90.0959,90.0977,90.0995,90.1013,90.1031 ,90.1065,90.1072,90.1097,90.1134, 90.1152,90.1175,90.1197,90.1215,90.1237 ,90.1258,90.1279,90.1301,90.1324, 90.1347,90.137,90.1405,90.1428,90.1453, 90.1474,90.1496,90.1531,90.1567,90.1613 ,90.164,90.167,90.1715,90.1768,90.1812, 90.184,90.187,90.1742)
ORBIT_NUMBER = 2107
ORBITAL_ECCENTRICITY = 0.573
ORBITAL_INCLINATION = 86.63
ORBITAL_SEMIMAJOR_AXIS = 8625.18
PERIAPSIS_ALTITUDE = 285.18
PERIAPSIS_ARGUMENT_ANGLE = 348.0
PERIAPSIS_TIME = 2005-09-04T17:18:34.000Z
SPACECRAFT_ORIENTATION = (0.0,1.0,0.0)
^MEX_ORIENTATION_DESC = "MEX_ORIENTATION_DESC.TXT"
SPACECRAFT_POINTING_MODE = ACROSSTRACK
^MEX_POINTING_DESC = "MEX_POINTING_DESC.TXT"
RIGHT_ASCENSION = -1e+32
DECLINATION = -1e+32
OFFSET_ANGLE = 0.21
SPACECRAFT_SOLAR_DISTANCE = 2.09176e+08
TARGET_NAME = MARS
/* CAMERA DATA ELEMENTS */
DETECTOR_TEMPERATURE = 18.7783
FOCAL_PLANE_TEMPERATURE = 8.9911
INST_CMPRS_NAME = "DISCRETE COSINE TRANSFORMATION (DCT)"
INST_CMPRS_RATIO = 20.1989
INST_CMPRS_QUALITY = 0
INST_CMPRS_QUANTZ_TBL_ID = 0
INSTRUMENT_TEMPERATURE = 11.234
LENS_TEMPERATURE = 9.195
MACROPIXEL_SIZE = 8
MISSING_FRAMES = 0
PIXEL_SUBSAMPLING_FLAG = N
SIGNAL_CHAIN_ID = 2
/* RADIOMETRIC DATA ELEMENTS */
BANDWIDTH = 48.0
CENTER_FILTER_WAVELENGTH = 748.0
RADIANCE_OFFSET = 1.7884
RADIANCE_SCALING_FACTOR = 0.00419275
REFLECTANCE_SCALING_FACTOR = 0.000418647
MEX:REFLECTANCE_OFFSET = 0.178572
/* IMAGE OBJECT DEFINITIONS */
OBJECT = IMAGE
  INTERCHANGE_FORMAT = BINARY
  LINES = 8324
  LINE_SAMPLES = 873
  SAMPLE_TYPE = UNSIGNED_INTEGER
  SAMPLE_BITS = 8
  BANDS = 1
  BAND_STORAGE_TYPE = BAND_SEQUENTIAL
  MAXIMUM = 150
  MEAN = 126.37
  MINIMUM = 90
  STANDARD_DEVIATION = 5.11006
END_OBJECT = IMAGE
/* MAP OBJECT DEFINITIONS */
OBJECT = IMAGE_MAP_PROJECTION
  ^DATA_SET_MAP_PROJECTION_CATALOG= "DSMAP.CAT"
  A_AXIS_RADIUS = 3396.0
  B_AXIS_RADIUS = 3396.0
  C_AXIS_RADIUS = 3396.0
  CENTER_LATITUDE = 0.0
  CENTER_LONGITUDE = 89.0
  COORDINATE_SYSTEM_NAME = PLANETOGRAPHIC
  COORDINATE_SYSTEM_TYPE = "BODY-FIXED ROTATING"
  EASTERNMOST_LONGITUDE = 90.187
  FIRST_STANDARD_PARALLEL = "N/A"
  LINE_FIRST_PIXEL = 1
  LINE_LAST_PIXEL = 8324
  LINE_PROJECTION_OFFSET = -11777.3125
  MAP_PROJECTION_ROTATION = 0.0
  MAP_PROJECTION_TYPE = SINUSOIDAL
  MAP_RESOLUTION = 592.713803866667
  MAP_SCALE = 0.1
  MAXIMUM_LATITUDE = -19.8655
  MINIMUM_LATITUDE = -33.9515
  POSITIVE_LONGITUDE_DIRECTION = EAST
  REFERENCE_LATITUDE = "N/A"
  REFERENCE_LONGITUDE = "N/A"
  SAMPLE_FIRST_PIXEL = 1
  SAMPLE_LAST_PIXEL = 873
  SAMPLE_PROJECTION_OFFSET = 262.3125
  SECOND_STANDARD_PARALLEL = "N/A"
  WESTERNMOST_LONGITUDE = 88.4575
END_OBJECT = IMAGE_MAP_PROJECTION
/* The JPEG2000 image data file associated with this label. */
OBJECT = COMPRESSED_FILE
  FILE_NAME = "H2107_0000_RE3.JP2"
  RECORD_TYPE = UNDEFINED
  FILE_RECORDS = UNK
  ENCODING_TYPE = "JP2"
  INTERCHANGE_FORMAT = BINARY
  UNCOMPRESSED_FILE_NAME = "H2107_0000_RE3.IMG"
  REQUIRED_STORAGE_BYTES = "7285185"
  ^DESCRIPTION = "JP2INFO.TXT"
END_OBJECT = COMPRESSED_FILE
END
