PDS_VERSION_ID = PDS3
/* FILE DATA ELEMENTS */
RECORD_TYPE = STREAM
/* POINTERS TO DATA OBJECTS */
^COMPRESSED_FILE = "H2107_0001_P23.JP2"
/* IDENTIFICATION DATA ELEMENTS */
DATA_SET_ID = "MEX-M-HRSC-5-REFDR-MAPPROJECTED-V3.0"
DATA_SET_NAME = "MARS EXPRESS HRSC MAP PROJECTED REFDR V3.0"
DETECTOR_ID = MEX_HRSC_P2
EVENT_TYPE = "MARS-LOCAL-MAPPING-Eo-Ot"
INSTRUMENT_HOST_ID = MEX
INSTRUMENT_HOST_NAME = "MARS EXPRESS"
INSTRUMENT_ID = HRSC
INSTRUMENT_NAME = "HIGH RESOLUTION STEREO CAMERA"
MISSION_NAME = "MARS EXPRESS"
MISSION_PHASE_NAME = MR_Phase_7
PROCESSING_LEVEL_ID = 3
PRODUCT_CREATION_TIME = 2016-03-14T11:38:04.000Z
PRODUCT_ID = "H2107_0001_P23.JP2"
RELEASE_ID = 0027
REVISION_ID = 0000
/* QUALITY DATA ELEMENTS */
DATA_QUALITY_ID = 1
DATA_QUALITY_DESC = "Data calculated based on original SPICE kernels"
/* TIME DATA ELEMENTS */
SPACECRAFT_CLOCK_START_COUNT = "1/0073934579.56186"
SPACECRAFT_CLOCK_STOP_COUNT = "1/0073934826.53365"
START_TIME = 2005-09-04T17:23:17.647Z
STOP_TIME = 2005-09-04T17:25:53.224Z
/* ORBITAL DATA ELEMENTS */
ASCENDING_NODE_LONGITUDE = 184.07
MAXIMUM_RESOLUTION = 59.4
FOOTPRINT_POINT_LATITUDE = (8.06323,8.06399,8.06483,8.06575, 8.06679,8.0679,8.1752,8.35129,8.52739, 8.87911,9.31841,9.66963,9.95755,10.1668 ,10.3755,10.6891,11.0025,11.2114, 11.4199,11.6284,11.8366,12.0445,12.3565 ,12.5643,12.7723,13.0835,13.2908, 13.4978,13.8084,14.0151,14.2218,14.4283 ,14.6346,14.8407,15.0467,15.2526, 15.4583,15.6639,15.8692,16.0744,16.2797 ,16.4846,16.7918,16.9963,17.2007, 17.4048,17.6089,17.8127,18.0163,18.1921 ,18.191,18.1903,18.1892,18.188,18.1867, 17.88,17.6762,17.4724,17.2684,17.0641, 16.8598,16.6553,16.4506,16.2457,16.0406 ,15.8353,15.6298,15.4243,15.2185, 15.0123,14.8063,14.6002,14.3939,14.1873 ,13.8771,13.6703,13.4633,13.2562,13.049 ,12.8414,12.6338,12.4259,12.218,12.0099 ,11.8017,11.4889,11.2805,11.072,10.7587 ,10.5498,10.3407,10.1315,9.92206, 9.72672,9.46378,9.11231,8.8485,8.58459, 8.23243,8.06323)
FOOTPRINT_POINT_LONGITUDE = (90.0233,89.8365,89.6494,89.4617, 89.2736,89.085,88.857,88.8536,88.8501, 88.8432,88.8344,88.8271,88.8209,88.8165 ,88.8122,88.8052,88.7982,88.7934, 88.7886,88.7838,88.779,88.7743,88.7669, 88.7619,88.7567,88.7491,88.744,88.7389, 88.731,88.7257,88.7204,88.715,88.7097, 88.7043,88.6988,88.6933,88.6877,88.6821 ,88.6765,88.6708,88.6649,88.6591, 88.6503,88.6444,88.6384,88.6324,88.6264 ,88.6203,88.6142,88.7823,89.0516, 89.2882,89.6348,89.8861,90.1683,90.2921 ,90.2875,90.283,90.2785,90.2742,90.2698 ,90.2656,90.2614,90.2572,90.2531,90.249 ,90.245,90.2411,90.2371,90.2332,90.2295 ,90.2257,90.2221,90.2184,90.213,90.2096 ,90.2061,90.2027,90.1994,90.1961, 90.1928,90.1896,90.1864,90.1833,90.1802 ,90.1756,90.1727,90.1698,90.1656, 90.1628,90.16,90.1573,90.1546,90.1522, 90.1491,90.1449,90.1418,90.1388,90.135, 90.0233)
ORBIT_NUMBER = 2107
ORBITAL_ECCENTRICITY = 0.573
ORBITAL_INCLINATION = 86.63
ORBITAL_SEMIMAJOR_AXIS = 8625.18
PERIAPSIS_ALTITUDE = 285.18
PERIAPSIS_ARGUMENT_ANGLE = 348.0
PERIAPSIS_TIME = 2005-09-04T17:18:34.000Z
SPACECRAFT_ORIENTATION = (0.0,1.0,0.0)
^MEX_ORIENTATION_DESC = "MEX_ORIENTATION_DESC.TXT"
SPACECRAFT_POINTING_MODE = ACROSSTRACK
^MEX_POINTING_DESC = "MEX_POINTING_DESC.TXT"
RIGHT_ASCENSION = -1e+32
DECLINATION = -1e+32
OFFSET_ANGLE = 0.21
SPACECRAFT_SOLAR_DISTANCE = 2.09176e+08
TARGET_NAME = MARS
/* CAMERA DATA ELEMENTS */
DETECTOR_TEMPERATURE = 21.0212
FOCAL_PLANE_TEMPERATURE = 9.3989
INST_CMPRS_NAME = "DISCRETE COSINE TRANSFORMATION (DCT)"
INST_CMPRS_RATIO = 9.02863
INST_CMPRS_QUALITY = 0
INST_CMPRS_QUANTZ_TBL_ID = 0
INSTRUMENT_TEMPERATURE = 13.6808
LENS_TEMPERATURE = 9.8067
MACROPIXEL_SIZE = 4
MISSING_FRAMES = 0
PIXEL_SUBSAMPLING_FLAG = N
SIGNAL_CHAIN_ID = 3
/* RADIOMETRIC DATA ELEMENTS */
BANDWIDTH = 177.0
CENTER_FILTER_WAVELENGTH = 676.5
RADIANCE_OFFSET = 6.42742
RADIANCE_SCALING_FACTOR = 0.012979
REFLECTANCE_SCALING_FACTOR = 0.000301108
MEX:REFLECTANCE_OFFSET = 0.149114
/* IMAGE OBJECT DEFINITIONS */
OBJECT = IMAGE
  INTERCHANGE_FORMAT = BINARY
  LINES = 11988
  LINE_SAMPLES = 2057
  SAMPLE_TYPE = UNSIGNED_INTEGER
  SAMPLE_BITS = 8
  BANDS = 1
  BAND_STORAGE_TYPE = BAND_SEQUENTIAL
  MAXIMUM = 206
  MEAN = 175.669
  MINIMUM = 129
  STANDARD_DEVIATION = 7.24299
END_OBJECT = IMAGE
/* MAP OBJECT DEFINITIONS */
OBJECT = IMAGE_MAP_PROJECTION
  ^DATA_SET_MAP_PROJECTION_CATALOG= "DSMAP.CAT"
  A_AXIS_RADIUS = 3396.0
  B_AXIS_RADIUS = 3396.0
  C_AXIS_RADIUS = 3396.0
  CENTER_LATITUDE = 0.0
  CENTER_LONGITUDE = 89.0
  COORDINATE_SYSTEM_NAME = PLANETOGRAPHIC
  COORDINATE_SYSTEM_TYPE = "BODY-FIXED ROTATING"
  EASTERNMOST_LONGITUDE = 90.2921
  FIRST_STANDARD_PARALLEL = "N/A"
  LINE_FIRST_PIXEL = 1
  LINE_LAST_PIXEL = 11988
  LINE_PROJECTION_OFFSET = 21532.125
  MAP_PROJECTION_ROTATION = 0.0
  MAP_PROJECTION_TYPE = SINUSOIDAL
  MAP_RESOLUTION = 1185.42760773333
  MAP_SCALE = 0.05
  MAXIMUM_LATITUDE = 18.1921
  MINIMUM_LATITUDE = 8.063230000000001
  POSITIVE_LONGITUDE_DIRECTION = EAST
  REFERENCE_LATITUDE = "N/A"
  REFERENCE_LONGITUDE = "N/A"
  SAMPLE_FIRST_PIXEL = 1
  SAMPLE_LAST_PIXEL = 2057
  SAMPLE_PROJECTION_OFFSET = 524.875
  SECOND_STANDARD_PARALLEL = "N/A"
  WESTERNMOST_LONGITUDE = 88.6142
END_OBJECT = IMAGE_MAP_PROJECTION
/* The JPEG2000 image data file associated with this label. */
OBJECT = COMPRESSED_FILE
  FILE_NAME = "H2107_0001_P23.JP2"
  RECORD_TYPE = UNDEFINED
  FILE_RECORDS = UNK
  ENCODING_TYPE = "JP2"
  INTERCHANGE_FORMAT = BINARY
  UNCOMPRESSED_FILE_NAME = "H2107_0001_P23.IMG"
  REQUIRED_STORAGE_BYTES = "24679886"
  ^DESCRIPTION = "JP2INFO.TXT"
END_OBJECT = COMPRESSED_FILE
END
