PDS_VERSION_ID = PDS3
/* FILE DATA ELEMENTS */
RECORD_TYPE = STREAM
/* POINTERS TO DATA OBJECTS */
^COMPRESSED_FILE = "H2123_0000_S13.JP2"
/* IDENTIFICATION DATA ELEMENTS */
DATA_SET_ID = "MEX-M-HRSC-5-REFDR-MAPPROJECTED-V3.0"
DATA_SET_NAME = "MARS EXPRESS HRSC MAP PROJECTED REFDR V3.0"
DETECTOR_ID = MEX_HRSC_S1
EVENT_TYPE = "MARS-REGIONAL-MAPPING-Fl-Mw-La"
INSTRUMENT_HOST_ID = MEX
INSTRUMENT_HOST_NAME = "MARS EXPRESS"
INSTRUMENT_ID = HRSC
INSTRUMENT_NAME = "HIGH RESOLUTION STEREO CAMERA"
MISSION_NAME = "MARS EXPRESS"
MISSION_PHASE_NAME = MR_Phase_7
PROCESSING_LEVEL_ID = 3
PRODUCT_CREATION_TIME = 2016-03-14T11:38:04.000Z
PRODUCT_ID = "H2123_0000_S13.JP2"
RELEASE_ID = 0027
REVISION_ID = 0000
/* QUALITY DATA ELEMENTS */
DATA_QUALITY_ID = 1
DATA_QUALITY_DESC = "Data calculated based on original SPICE kernels"
/* TIME DATA ELEMENTS */
SPACECRAFT_CLOCK_START_COUNT = "1/0074321180.57968"
SPACECRAFT_CLOCK_STOP_COUNT = "1/0074321569.07030"
START_TIME = 2005-09-09T04:47:19.907Z
STOP_TIME = 2005-09-09T04:56:09.867Z
/* ORBITAL DATA ELEMENTS */
ASCENDING_NODE_LONGITUDE = 183.73
MAXIMUM_RESOLUTION = 24.2
FOOTPRINT_POINT_LATITUDE = (-19.6738,-19.7,-19.0576,-18.4159, -17.7769,-16.8145,-16.2029,-15.5641, -14.9277,-13.9699,-13.3178,-12.6719, -12.0511,-11.4221,-10.7815,-10.1649, -9.52759,-8.90712,-7.92572,-7.26639, -6.62438,-5.63672,-4.97645,-4.31946, -3.64281,-2.96716,-2.29267,-1.60225, -0.91105,-0.206451,0.501809,0.855752, 1.53858,2.25102,2.94625,3.62528,4.32462 ,5.00381,5.68646,6.36376,7.02891, 8.03594,9.0224,10.0063,10.6556,11.3005, 11.9416,12.5775,13.2112,13.2484,13.2643 ,13.28,13.2943,12.6582,11.7007,11.0619, 10.4141,9.76196,9.10668,8.44736,7.78311 ,7.11261,6.10377,5.42686,4.74508, 4.05972,3.36499,2.67658,1.97968,1.28105 ,0.577425,-0.130097,-0.486655,-0.842975 ,-1.52582,-2.22278,-2.89214,-3.57016, -4.57934,-5.23171,-5.8929,-6.553, -7.19522,-8.16947,-8.83919,-9.46451, -10.4024,-11.0285,-11.6608,-12.6085, -13.2497,-13.9063,-14.8633,-15.5017, -16.1385,-16.7516,-17.7102,-18.673, -19.3155,-19.6738)
FOOTPRINT_POINT_LONGITUDE = (316.813,316.373,316.383,316.392, 316.399,316.409,316.395,316.402,316.406 ,316.415,316.432,316.443,316.437, 316.437,316.446,316.438,316.443,316.422 ,316.427,316.434,316.431,316.423, 316.417,316.41,316.403,316.395,316.386, 316.374,316.364,316.354,316.343,316.337 ,316.312,316.307,316.293,316.27,316.261 ,316.242,316.227,316.21,316.187,316.162 ,316.129,316.099,316.077,316.054, 316.031,316.007,315.984,316.403,316.802 ,317.266,317.765,317.751,317.731, 317.718,317.706,317.694,317.683,317.672 ,317.661,317.651,317.637,317.628, 317.619,317.61,317.603,317.595,317.588, 317.581,317.574,317.568,317.565,317.561 ,317.556,317.55,317.546,317.541,317.534 ,317.53,317.526,317.523,317.519,317.513 ,317.508,317.507,317.503,317.501, 317.498,317.494,317.49,317.486,317.481, 317.479,317.477,317.477,317.474,317.47, 317.468,316.813)
ORBIT_NUMBER = 2123
ORBITAL_ECCENTRICITY = 0.573
ORBITAL_INCLINATION = 86.63
ORBITAL_SEMIMAJOR_AXIS = 8614.45
PERIAPSIS_ALTITUDE = 284.88
PERIAPSIS_ARGUMENT_ANGLE = 345.19
PERIAPSIS_TIME = 2005-09-09T04:48:09.000Z
SPACECRAFT_ORIENTATION = (0.0,1.0,0.0)
^MEX_ORIENTATION_DESC = "MEX_ORIENTATION_DESC.TXT"
SPACECRAFT_POINTING_MODE = ACROSSTRACK
^MEX_POINTING_DESC = "MEX_POINTING_DESC.TXT"
RIGHT_ASCENSION = -1e+32
DECLINATION = -1e+32
OFFSET_ANGLE = 0.65
SPACECRAFT_SOLAR_DISTANCE = 2.09644e+08
TARGET_NAME = MARS
/* CAMERA DATA ELEMENTS */
DETECTOR_TEMPERATURE = 17.7588
FOCAL_PLANE_TEMPERATURE = 9.3989
INST_CMPRS_NAME = "DISCRETE COSINE TRANSFORMATION (DCT)"
INST_CMPRS_RATIO = 8.6123
INST_CMPRS_QUALITY = 0
INST_CMPRS_QUANTZ_TBL_ID = 0
INSTRUMENT_TEMPERATURE = 11.6418
LENS_TEMPERATURE = 9.8067
MACROPIXEL_SIZE = 2
MISSING_FRAMES = 2
PIXEL_SUBSAMPLING_FLAG = N
SIGNAL_CHAIN_ID = 1
/* RADIOMETRIC DATA ELEMENTS */
BANDWIDTH = 180.0
CENTER_FILTER_WAVELENGTH = 677.0
RADIANCE_OFFSET = 5.00339
RADIANCE_SCALING_FACTOR = 0.0300858
REFLECTANCE_SCALING_FACTOR = 0.000689874
MEX:REFLECTANCE_OFFSET = 0.114729
/* IMAGE OBJECT DEFINITIONS */
OBJECT = IMAGE
  INTERCHANGE_FORMAT = BINARY
  LINES = 78269
  LINE_SAMPLES = 3933
  SAMPLE_TYPE = UNSIGNED_INTEGER
  SAMPLE_BITS = 8
  BANDS = 1
  BAND_STORAGE_TYPE = BAND_SEQUENTIAL
  MAXIMUM = 197
  MEAN = 127.637
  MINIMUM = 63
  STANDARD_DEVIATION = 21.2963
END_OBJECT = IMAGE
/* MAP OBJECT DEFINITIONS */
OBJECT = IMAGE_MAP_PROJECTION
  ^DATA_SET_MAP_PROJECTION_CATALOG= "DSMAP.CAT"
  A_AXIS_RADIUS = 3396.0
  B_AXIS_RADIUS = 3396.0
  C_AXIS_RADIUS = 3396.0
  CENTER_LATITUDE = 0.0
  CENTER_LONGITUDE = 317.0
  COORDINATE_SYSTEM_NAME = PLANETOGRAPHIC
  COORDINATE_SYSTEM_TYPE = "BODY-FIXED ROTATING"
  EASTERNMOST_LONGITUDE = 317.765
  FIRST_STANDARD_PARALLEL = "N/A"
  LINE_FIRST_PIXEL = 1
  LINE_LAST_PIXEL = 78269
  LINE_PROJECTION_OFFSET = 31611.75
  MAP_PROJECTION_ROTATION = 0.0
  MAP_PROJECTION_TYPE = SINUSOIDAL
  MAP_RESOLUTION = 2370.85521546667
  MAP_SCALE = 0.025
  MAXIMUM_LATITUDE = 13.2943
  MINIMUM_LATITUDE = -19.7
  POSITIVE_LONGITUDE_DIRECTION = EAST
  REFERENCE_LATITUDE = "N/A"
  REFERENCE_LONGITUDE = "N/A"
  SAMPLE_FIRST_PIXEL = 1
  SAMPLE_LAST_PIXEL = 3933
  SAMPLE_PROJECTION_OFFSET = 2307.75
  SECOND_STANDARD_PARALLEL = "N/A"
  WESTERNMOST_LONGITUDE = 315.984
END_OBJECT = IMAGE_MAP_PROJECTION
/* The JPEG2000 image data file associated with this label. */
OBJECT = COMPRESSED_FILE
  FILE_NAME = "H2123_0000_S13.JP2"
  RECORD_TYPE = UNDEFINED
  FILE_RECORDS = UNK
  ENCODING_TYPE = "JP2"
  INTERCHANGE_FORMAT = BINARY
  UNCOMPRESSED_FILE_NAME = "H2123_0000_S13.IMG"
  REQUIRED_STORAGE_BYTES = "307855575"
  ^DESCRIPTION = "JP2INFO.TXT"
END_OBJECT = COMPRESSED_FILE
END
