PDS_VERSION_ID = PDS3
/* FILE DATA ELEMENTS */
RECORD_TYPE = STREAM
/* POINTERS TO DATA OBJECTS */
^COMPRESSED_FILE = "H2128_0000_IR3.JP2"
/* IDENTIFICATION DATA ELEMENTS */
DATA_SET_ID = "MEX-M-HRSC-5-REFDR-MAPPROJECTED-V3.0"
DATA_SET_NAME = "MARS EXPRESS HRSC MAP PROJECTED REFDR V3.0"
DETECTOR_ID = MEX_HRSC_IR
EVENT_TYPE = "MARS-REGIONAL-MAPPING-Vo-Te-Mw"
INSTRUMENT_HOST_ID = MEX
INSTRUMENT_HOST_NAME = "MARS EXPRESS"
INSTRUMENT_ID = HRSC
INSTRUMENT_NAME = "HIGH RESOLUTION STEREO CAMERA"
MISSION_NAME = "MARS EXPRESS"
MISSION_PHASE_NAME = MR_Phase_7
PROCESSING_LEVEL_ID = 3
PRODUCT_CREATION_TIME = 2016-03-14T11:38:04.000Z
PRODUCT_ID = "H2128_0000_IR3.JP2"
RELEASE_ID = 0027
REVISION_ID = 0000
/* QUALITY DATA ELEMENTS */
DATA_QUALITY_ID = 1
DATA_QUALITY_DESC = "Data calculated based on original SPICE kernels"
/* TIME DATA ELEMENTS */
SPACECRAFT_CLOCK_START_COUNT = "1/0074442199.56189"
SPACECRAFT_CLOCK_STOP_COUNT = "1/0074442542.54892"
START_TIME = 2005-09-10T14:24:12.674Z
STOP_TIME = 2005-09-10T14:29:02.137Z
/* ORBITAL DATA ELEMENTS */
ASCENDING_NODE_LONGITUDE = 183.62
MAXIMUM_RESOLUTION = 95.2
FOOTPRINT_POINT_LATITUDE = (-15.0891,-14.9272,-14.5904,-14.2568, -13.7612,-13.2594,-12.9269,-12.5963, -12.2671,-11.9376,-11.6065,-11.1117, -10.7825,-10.4494,-9.94987,-9.62007, -9.29274,-8.95298,-8.61224,-8.10108, -7.76069,-7.42098,-7.08193,-6.74332, -6.40518,-6.05442,-5.70713,-5.35769, -5.00953,-4.66231,-4.31547,-3.95969, -3.60133,-3.24417,-2.84172,-2.30338, -1.75449,-1.38873,-1.02347,-0.65171, -0.187289,0.373256,0.932215,1.30322, 2.03404,2.40465,2.77156,3.13649,3.37131 ,3.37629,3.3818,3.01569,2.4637,2.09571, 1.36465,0.993575,0.620879,0.247665, -0.126853,-0.590532,-0.963206,-1.32827, -1.69391,-2.05954,-2.42807,-2.78409, -3.18672,-3.72203,-4.25854,-4.60571, -5.12616,-5.47391,-5.82305,-6.17201, -6.51889,-6.85584,-7.36094,-7.70046, -8.04274,-8.55576,-8.89984,-9.24387, -9.57326,-9.903,-10.233,-10.5634, -10.8936,-11.2249,-11.5525,-11.887, -12.2194,-12.5389,-12.8705,-13.3712, -13.7052,-14.0395,-14.373,-14.7081, -15.0434,-15.0891)
FOOTPRINT_POINT_LONGITUDE = (186.124,185.646,185.648,185.649, 185.647,185.649,185.648,185.647,185.646 ,185.644,185.643,185.641,185.64,185.64, 185.641,185.64,185.637,185.635,185.634, 185.631,185.629,185.627,185.624,185.622 ,185.619,185.617,185.612,185.609, 185.606,185.602,185.598,185.594,185.59, 185.586,185.58,185.573,185.564,185.559, 185.553,185.548,185.54,185.53,185.52, 185.513,185.499,185.493,185.485,185.476 ,185.717,186.076,186.519,186.781, 186.775,186.77,186.762,186.758,186.754, 186.751,186.747,186.743,186.739,186.736 ,186.733,186.73,186.727,186.725,186.722 ,186.718,186.714,186.712,186.708, 186.706,186.704,186.702,186.701,186.699 ,186.695,186.694,186.693,186.691,186.69 ,186.69,186.688,186.687,186.686,186.685 ,186.684,186.682,186.68,186.68,186.679, 186.675,186.674,186.673,186.672,186.671 ,186.67,186.67,186.669,186.124)
ORBIT_NUMBER = 2128
ORBITAL_ECCENTRICITY = 0.573
ORBITAL_INCLINATION = 86.63
ORBITAL_SEMIMAJOR_AXIS = 8613.4
PERIAPSIS_ALTITUDE = 284.59
PERIAPSIS_ARGUMENT_ANGLE = 344.29
PERIAPSIS_TIME = 2005-09-10T14:23:43.000Z
SPACECRAFT_ORIENTATION = (0.0,1.0,0.0)
^MEX_ORIENTATION_DESC = "MEX_ORIENTATION_DESC.TXT"
SPACECRAFT_POINTING_MODE = ACROSSTRACK
^MEX_POINTING_DESC = "MEX_POINTING_DESC.TXT"
RIGHT_ASCENSION = -1e+32
DECLINATION = -1e+32
OFFSET_ANGLE = 0.17
SPACECRAFT_SOLAR_DISTANCE = 2.09798e+08
TARGET_NAME = MARS
/* CAMERA DATA ELEMENTS */
DETECTOR_TEMPERATURE = 17.5549
FOCAL_PLANE_TEMPERATURE = 9.8067
INST_CMPRS_NAME = "DISCRETE COSINE TRANSFORMATION (DCT)"
INST_CMPRS_RATIO = 9.00775
INST_CMPRS_QUALITY = 0
INST_CMPRS_QUANTZ_TBL_ID = 0
INSTRUMENT_TEMPERATURE = 11.4379
LENS_TEMPERATURE = 10.2145
MACROPIXEL_SIZE = 8
MISSING_FRAMES = 81
PIXEL_SUBSAMPLING_FLAG = N
SIGNAL_CHAIN_ID = 2
/* RADIOMETRIC DATA ELEMENTS */
BANDWIDTH = 81.0
CENTER_FILTER_WAVELENGTH = 955.5
RADIANCE_OFFSET = 1.97784
RADIANCE_SCALING_FACTOR = 0.00669858
REFLECTANCE_SCALING_FACTOR = 0.000636083
MEX:REFLECTANCE_OFFSET = 0.187812
/* IMAGE OBJECT DEFINITIONS */
OBJECT = IMAGE
  INTERCHANGE_FORMAT = BINARY
  LINES = 10969
  LINE_SAMPLES = 785
  SAMPLE_TYPE = UNSIGNED_INTEGER
  SAMPLE_BITS = 8
  BANDS = 1
  BAND_STORAGE_TYPE = BAND_SEQUENTIAL
  MAXIMUM = 215
  MEAN = 170.696
  MINIMUM = 104
  STANDARD_DEVIATION = 8.20636
END_OBJECT = IMAGE
/* MAP OBJECT DEFINITIONS */
OBJECT = IMAGE_MAP_PROJECTION
  ^DATA_SET_MAP_PROJECTION_CATALOG= "DSMAP.CAT"
  A_AXIS_RADIUS = 3396.0
  B_AXIS_RADIUS = 3396.0
  C_AXIS_RADIUS = 3396.0
  CENTER_LATITUDE = 0.0
  CENTER_LONGITUDE = 186.0
  COORDINATE_SYSTEM_NAME = PLANETOGRAPHIC
  COORDINATE_SYSTEM_TYPE = "BODY-FIXED ROTATING"
  EASTERNMOST_LONGITUDE = 186.781
  FIRST_STANDARD_PARALLEL = "N/A"
  LINE_FIRST_PIXEL = 1
  LINE_LAST_PIXEL = 10969
  LINE_PROJECTION_OFFSET = 2020.8125
  MAP_PROJECTION_ROTATION = 0.0
  MAP_PROJECTION_TYPE = SINUSOIDAL
  MAP_RESOLUTION = 592.713803866667
  MAP_SCALE = 0.1
  MAXIMUM_LATITUDE = 3.3818
  MINIMUM_LATITUDE = -15.0891
  POSITIVE_LONGITUDE_DIRECTION = EAST
  REFERENCE_LATITUDE = "N/A"
  REFERENCE_LONGITUDE = "N/A"
  SAMPLE_FIRST_PIXEL = 1
  SAMPLE_LAST_PIXEL = 785
  SAMPLE_PROJECTION_OFFSET = 322.9375
  SECOND_STANDARD_PARALLEL = "N/A"
  WESTERNMOST_LONGITUDE = 185.476
END_OBJECT = IMAGE_MAP_PROJECTION
/* The JPEG2000 image data file associated with this label. */
OBJECT = COMPRESSED_FILE
  FILE_NAME = "H2128_0000_IR3.JP2"
  RECORD_TYPE = UNDEFINED
  FILE_RECORDS = UNK
  ENCODING_TYPE = "JP2"
  INTERCHANGE_FORMAT = BINARY
  UNCOMPRESSED_FILE_NAME = "H2128_0000_IR3.IMG"
  REQUIRED_STORAGE_BYTES = "8628720"
  ^DESCRIPTION = "JP2INFO.TXT"
END_OBJECT = COMPRESSED_FILE
END
