PDS_VERSION_ID = PDS3
/* FILE DATA ELEMENTS */
RECORD_TYPE = STREAM
/* POINTERS TO DATA OBJECTS */
^COMPRESSED_FILE = "H2131_0000_ND3.JP2"
/* IDENTIFICATION DATA ELEMENTS */
DATA_SET_ID = "MEX-M-HRSC-5-REFDR-MAPPROJECTED-V3.0"
DATA_SET_NAME = "MARS EXPRESS HRSC MAP PROJECTED REFDR V3.0"
DETECTOR_ID = MEX_HRSC_NADIR
EVENT_TYPE = "MARS-REGIONAL-MAPPING-Vo-Te"
INSTRUMENT_HOST_ID = MEX
INSTRUMENT_HOST_NAME = "MARS EXPRESS"
INSTRUMENT_ID = HRSC
INSTRUMENT_NAME = "HIGH RESOLUTION STEREO CAMERA"
MISSION_NAME = "MARS EXPRESS"
MISSION_PHASE_NAME = MR_Phase_7
PROCESSING_LEVEL_ID = 3
PRODUCT_CREATION_TIME = 2016-03-14T11:38:04.000Z
PRODUCT_ID = "H2131_0000_ND3.JP2"
RELEASE_ID = 0027
REVISION_ID = 0000
/* QUALITY DATA ELEMENTS */
DATA_QUALITY_ID = 1
DATA_QUALITY_DESC = "Data calculated based on original SPICE kernels"
/* TIME DATA ELEMENTS */
SPACECRAFT_CLOCK_START_COUNT = "1/0074514659.56189"
SPACECRAFT_CLOCK_STOP_COUNT = "1/0074515009.12742"
START_TIME = 2005-09-11T10:31:33.101Z
STOP_TIME = 2005-09-11T10:36:41.105Z
/* ORBITAL DATA ELEMENTS */
ASCENDING_NODE_LONGITUDE = 183.56
MAXIMUM_RESOLUTION = 11
FOOTPRINT_POINT_LATITUDE = (-22.0931,-21.888,-21.4822,-21.0817, -20.6809,-20.28,-19.8789,-19.4776, -19.0762,-18.6747,-18.2731,-17.8714, -17.4695,-17.0677,-16.6658,-16.0628, -15.4599,-15.0579,-14.656,-14.2541, -13.8523,-13.4506,-13.0489,-12.6474, -12.246,-11.8447,-11.4435,-11.0425, -10.4726,-10.0721,-9.67178,-9.27167, -8.87179,-8.47215,-8.07281,-7.67368, -7.27493,-6.87643,-6.47826,-6.08042, -5.68294,-5.28581,-4.88907,-4.49271, -4.09675,-3.70121,-3.30609,-2.91141, -2.5172,-1.73016,-1.71336,-1.90829, -2.69606,-3.09064,-3.48567,-3.88114, -4.27705,-4.67334,-5.07004,-5.46714, -5.8646,-6.26241,-6.66056,-7.059, -7.45784,-7.85694,-8.25632,-8.65597, -9.0559,-9.45604,-9.85645,-10.4574, -11.0276,-11.4288,-11.8301,-12.2316, -12.6332,-13.035,-13.4368,-13.8388, -14.2408,-14.6429,-15.045,-15.4472, -16.0505,-16.4527,-16.8549,-17.2571, -17.6592,-18.0612,-18.4631,-18.8649, -19.2667,-19.6684,-20.0698,-20.6719, -21.073,-21.4739,-22.0804,-22.0931)
FOOTPRINT_POINT_LONGITUDE = (251.491,250.936,250.943,250.951, 250.957,250.963,250.969,250.975,250.98, 250.984,250.989,250.993,250.995,250.998 ,251.001,251.005,251.007,251.008, 251.009,251.011,251.012,251.013,251.014 ,251.014,251.014,251.014,251.015, 251.014,251.013,251.012,251.012,251.011 ,251.009,251.007,251.006,251.002, 251.001,250.998,250.994,250.991,250.988 ,250.984,250.98,250.976,250.972,250.967 ,250.963,250.958,250.953,250.943, 251.391,252.051,252.046,252.044,252.041 ,252.039,252.036,252.034,252.032,252.03 ,252.028,252.026,252.024,252.024, 252.021,252.02,252.019,252.018,252.016, 252.016,252.015,252.014,252.013,252.012 ,252.012,252.011,252.01,252.01,252.01, 252.009,252.009,252.009,252.008,252.008 ,252.007,252.007,252.006,252.005, 252.005,252.006,252.007,252.008,252.008 ,252.008,252.009,252.008,252.008, 252.009,252.011,251.491)
ORBIT_NUMBER = 2131
ORBITAL_ECCENTRICITY = 0.574
ORBITAL_INCLINATION = 86.62
ORBITAL_SEMIMAJOR_AXIS = 8628.81
PERIAPSIS_ALTITUDE = 283.79
PERIAPSIS_ARGUMENT_ANGLE = 343.73
PERIAPSIS_TIME = 2005-09-11T10:33:02.000Z
SPACECRAFT_ORIENTATION = (0.0,1.0,0.0)
^MEX_ORIENTATION_DESC = "MEX_ORIENTATION_DESC.TXT"
SPACECRAFT_POINTING_MODE = ACROSSTRACK
^MEX_POINTING_DESC = "MEX_POINTING_DESC.TXT"
RIGHT_ASCENSION = -1e+32
DECLINATION = -1e+32
OFFSET_ANGLE = 0.05
SPACECRAFT_SOLAR_DISTANCE = 2.09892e+08
TARGET_NAME = MARS
/* CAMERA DATA ELEMENTS */
DETECTOR_TEMPERATURE = 18.5744
FOCAL_PLANE_TEMPERATURE = 9.6028
INST_CMPRS_NAME = "DISCRETE COSINE TRANSFORMATION (DCT)"
INST_CMPRS_RATIO = 7.0861
INST_CMPRS_QUALITY = 0
INST_CMPRS_QUANTZ_TBL_ID = 0
INSTRUMENT_TEMPERATURE = 11.6418
LENS_TEMPERATURE = 10.0106
MACROPIXEL_SIZE = 1
MISSING_FRAMES = 276
PIXEL_SUBSAMPLING_FLAG = N
SIGNAL_CHAIN_ID = 0
/* RADIOMETRIC DATA ELEMENTS */
BANDWIDTH = 177.0
CENTER_FILTER_WAVELENGTH = 677.5
RADIANCE_OFFSET = 5.69774
RADIANCE_SCALING_FACTOR = 0.0361761
REFLECTANCE_SCALING_FACTOR = 0.000846636
MEX:REFLECTANCE_OFFSET = 0.133345
/* IMAGE OBJECT DEFINITIONS */
OBJECT = IMAGE
  INTERCHANGE_FORMAT = BINARY
  LINES = 96661
  LINE_SAMPLES = 5757
  SAMPLE_TYPE = UNSIGNED_INTEGER
  SAMPLE_BITS = 8
  BANDS = 1
  BAND_STORAGE_TYPE = BAND_SEQUENTIAL
  MAXIMUM = 257
  MEAN = 117.729
  MINIMUM = 48
  STANDARD_DEVIATION = 14.4497
END_OBJECT = IMAGE
/* MAP OBJECT DEFINITIONS */
OBJECT = IMAGE_MAP_PROJECTION
  ^DATA_SET_MAP_PROJECTION_CATALOG= "DSMAP.CAT"
  A_AXIS_RADIUS = 3396.0
  B_AXIS_RADIUS = 3396.0
  C_AXIS_RADIUS = 3396.0
  CENTER_LATITUDE = 0.0
  CENTER_LONGITUDE = 252.0
  COORDINATE_SYSTEM_NAME = PLANETOGRAPHIC
  COORDINATE_SYSTEM_TYPE = "BODY-FIXED ROTATING"
  EASTERNMOST_LONGITUDE = 252.051
  FIRST_STANDARD_PARALLEL = "N/A"
  LINE_FIRST_PIXEL = 1
  LINE_LAST_PIXEL = 96661
  LINE_PROJECTION_OFFSET = -8114.0
  MAP_PROJECTION_ROTATION = 0.0
  MAP_PROJECTION_TYPE = SINUSOIDAL
  MAP_RESOLUTION = 4741.71043093333
  MAP_SCALE = 0.0125
  MAXIMUM_LATITUDE = -1.71336
  MINIMUM_LATITUDE = -22.0931
  POSITIVE_LONGITUDE_DIRECTION = EAST
  REFERENCE_LATITUDE = "N/A"
  REFERENCE_LONGITUDE = "N/A"
  SAMPLE_FIRST_PIXEL = 1
  SAMPLE_LAST_PIXEL = 5757
  SAMPLE_PROJECTION_OFFSET = 5278.0
  SECOND_STANDARD_PARALLEL = "N/A"
  WESTERNMOST_LONGITUDE = 250.936
END_OBJECT = IMAGE_MAP_PROJECTION
/* The JPEG2000 image data file associated with this label. */
OBJECT = COMPRESSED_FILE
  FILE_NAME = "H2131_0000_ND3.JP2"
  RECORD_TYPE = UNDEFINED
  FILE_RECORDS = UNK
  ENCODING_TYPE = "JP2"
  INTERCHANGE_FORMAT = BINARY
  UNCOMPRESSED_FILE_NAME = "H2131_0000_ND3.IMG"
  REQUIRED_STORAGE_BYTES = "556506162"
  ^DESCRIPTION = "JP2INFO.TXT"
END_OBJECT = COMPRESSED_FILE
END
