PDS_VERSION_ID = PDS3
/* FILE DATA ELEMENTS */
RECORD_TYPE = STREAM
/* POINTERS TO DATA OBJECTS */
^COMPRESSED_FILE = "H2133_0000_BL3.JP2"
/* IDENTIFICATION DATA ELEMENTS */
DATA_SET_ID = "MEX-M-HRSC-5-REFDR-MAPPROJECTED-V3.0"
DATA_SET_NAME = "MARS EXPRESS HRSC MAP PROJECTED REFDR V3.0"
DETECTOR_ID = MEX_HRSC_BLUE
EVENT_TYPE = "MARS-REGIONAL-MAPPING-Vo-Im"
INSTRUMENT_HOST_ID = MEX
INSTRUMENT_HOST_NAME = "MARS EXPRESS"
INSTRUMENT_ID = HRSC
INSTRUMENT_NAME = "HIGH RESOLUTION STEREO CAMERA"
MISSION_NAME = "MARS EXPRESS"
MISSION_PHASE_NAME = MR_Phase_7
PROCESSING_LEVEL_ID = 3
PRODUCT_CREATION_TIME = 2016-03-14T11:38:04.000Z
PRODUCT_ID = "H2133_0000_BL3.JP2"
RELEASE_ID = 0027
REVISION_ID = 0000
/* QUALITY DATA ELEMENTS */
DATA_QUALITY_ID = 1
DATA_QUALITY_DESC = "Data calculated based on original SPICE kernels"
/* TIME DATA ELEMENTS */
SPACECRAFT_CLOCK_START_COUNT = "1/0074562184.57968"
SPACECRAFT_CLOCK_STOP_COUNT = "1/0074562658.39181"
START_TIME = 2005-09-11T23:45:01.035Z
STOP_TIME = 2005-09-11T23:50:04.112Z
/* ORBITAL DATA ELEMENTS */
ASCENDING_NODE_LONGITUDE = 183.51
MAXIMUM_RESOLUTION = 89.3
FOOTPRINT_POINT_LATITUDE = (-66.9248,-66.8939,-66.8599,-66.8257, -66.7729,-66.7117,-66.6094,-66.2318, -65.9176,-65.6017,-65.2842,-64.9649, -64.644,-64.3216,-63.9979,-63.6728, -63.3463,-63.0183,-62.6888,-62.3578, -62.0254,-61.6914,-61.356,-61.0196, -60.6815,-60.3413,-60.0027,-59.6669, -59.3334,-59.0023,-58.6739,-58.3473, -58.0233,-57.7013,-57.3829,-56.908, -56.5943,-56.2825,-55.9733,-55.6666, -55.3614,-55.0592,-54.6091,-54.1638, -53.8692,-53.5773,-53.1415,-52.8552, -52.5703,-52.0053,-51.4473,-51.0342, -50.8426,-50.8709,-50.886,-50.9006, -50.914,-51.3357,-51.8951,-52.4622, -52.7496,-53.1831,-53.4741,-53.7684, -54.2126,-54.511,-54.8127,-55.2686, -55.7295,-56.1957,-56.6666,-57.1433, -57.4636,-57.7869,-58.1127,-58.4404, -58.7706,-59.1042,-59.4403,-59.7788, -60.1199,-60.6368,-60.9827,-61.3271, -61.6701,-62.0119,-62.3526,-62.6918, -63.0296,-63.3663,-63.7018,-64.0361, -64.3689,-64.7004,-65.0308,-65.3595, -65.6872,-66.0138,-66.3387,-66.9248)
FOOTPRINT_POINT_LONGITUDE = (55.2579,54.1159,53.1204,52.27,51.1406, 50.0174,48.4095,47.9479,48.1185,48.2843 ,48.4454,48.602,48.7543,48.9027,49.0481 ,49.1902,49.329,49.4644,49.5962,49.7252 ,49.851,49.9735,50.0933,50.2113,50.3258 ,50.4362,50.5435,50.6482,50.7494, 50.8469,50.9398,51.0289,51.1159,51.2004 ,51.2822,51.399,51.473,51.5451,51.6151, 51.6831,51.7492,51.8136,51.9059,51.9943 ,52.0513,52.1068,52.1837,52.2392, 52.2886,52.3848,52.4755,52.5407,53.028, 53.7711,54.2289,54.7449,55.3193,55.6444 ,55.6429,55.6415,55.6405,55.6381, 55.6373,55.6357,55.633,55.632,55.6303, 55.6274,55.6239,55.6203,55.6171,55.6132 ,55.6104,55.6084,55.6056,55.6033, 55.6006,55.5978,55.5951,55.5922,55.5891 ,55.5846,55.581,55.5778,55.5747,55.571, 55.5666,55.5627,55.5588,55.554,55.5488, 55.5427,55.5371,55.5314,55.5242,55.519, 55.5121,55.5041,55.4974,55.2579)
ORBIT_NUMBER = 2133
ORBITAL_ECCENTRICITY = 0.573
ORBITAL_INCLINATION = 86.63
ORBITAL_SEMIMAJOR_AXIS = 8620.93
PERIAPSIS_ALTITUDE = 283.9
PERIAPSIS_ARGUMENT_ANGLE = 343.41
PERIAPSIS_TIME = 2005-09-11T23:59:14.000Z
SPACECRAFT_ORIENTATION = (0.0,1.0,0.0)
^MEX_ORIENTATION_DESC = "MEX_ORIENTATION_DESC.TXT"
SPACECRAFT_POINTING_MODE = NADIR
^MEX_POINTING_DESC = "MEX_POINTING_DESC.TXT"
RIGHT_ASCENSION = -1e+32
DECLINATION = -1e+32
OFFSET_ANGLE = -1e+32
SPACECRAFT_SOLAR_DISTANCE = 2.09955e+08
TARGET_NAME = MARS
/* CAMERA DATA ELEMENTS */
DETECTOR_TEMPERATURE = 18.5744
FOCAL_PLANE_TEMPERATURE = 9.6028
INST_CMPRS_NAME = "DISCRETE COSINE TRANSFORMATION (DCT)"
INST_CMPRS_RATIO = 19.0661
INST_CMPRS_QUALITY = 0
INST_CMPRS_QUANTZ_TBL_ID = 0
INSTRUMENT_TEMPERATURE = 11.6418
LENS_TEMPERATURE = 9.8067
MACROPIXEL_SIZE = 4
MISSING_FRAMES = 0
PIXEL_SUBSAMPLING_FLAG = N
SIGNAL_CHAIN_ID = 2
/* RADIOMETRIC DATA ELEMENTS */
BANDWIDTH = 76.0
CENTER_FILTER_WAVELENGTH = 444.0
RADIANCE_OFFSET = 0.803082
RADIANCE_SCALING_FACTOR = 0.00165474
REFLECTANCE_SCALING_FACTOR = 7.49432e-05
MEX:REFLECTANCE_OFFSET = 0.0363716
/* IMAGE OBJECT DEFINITIONS */
OBJECT = IMAGE
  INTERCHANGE_FORMAT = BINARY
  LINES = 9529
  LINE_SAMPLES = 2211
  SAMPLE_TYPE = UNSIGNED_INTEGER
  SAMPLE_BITS = 8
  BANDS = 1
  BAND_STORAGE_TYPE = BAND_SEQUENTIAL
  MAXIMUM = 205
  MEAN = 151.543
  MINIMUM = 117
  STANDARD_DEVIATION = 11.5006
END_OBJECT = IMAGE
/* MAP OBJECT DEFINITIONS */
OBJECT = IMAGE_MAP_PROJECTION
  ^DATA_SET_MAP_PROJECTION_CATALOG= "DSMAP.CAT"
  A_AXIS_RADIUS = 3396.0
  B_AXIS_RADIUS = 3396.0
  C_AXIS_RADIUS = 3396.0
  CENTER_LATITUDE = 0.0
  CENTER_LONGITUDE = 53.0
  COORDINATE_SYSTEM_NAME = PLANETOGRAPHIC
  COORDINATE_SYSTEM_TYPE = "BODY-FIXED ROTATING"
  EASTERNMOST_LONGITUDE = 55.6444
  FIRST_STANDARD_PARALLEL = "N/A"
  LINE_FIRST_PIXEL = 1
  LINE_LAST_PIXEL = 9529
  LINE_PROJECTION_OFFSET = -30125.625
  MAP_PROJECTION_ROTATION = 0.0
  MAP_PROJECTION_TYPE = SINUSOIDAL
  MAP_RESOLUTION = 592.713803866667
  MAP_SCALE = 0.1
  MAXIMUM_LATITUDE = -50.8426
  MINIMUM_LATITUDE = -66.9248
  POSITIVE_LONGITUDE_DIRECTION = EAST
  REFERENCE_LATITUDE = "N/A"
  REFERENCE_LONGITUDE = "N/A"
  SAMPLE_FIRST_PIXEL = 1
  SAMPLE_LAST_PIXEL = 2211
  SAMPLE_PROJECTION_OFFSET = 1227.125
  SECOND_STANDARD_PARALLEL = "N/A"
  WESTERNMOST_LONGITUDE = 47.9479
END_OBJECT = IMAGE_MAP_PROJECTION
/* The JPEG2000 image data file associated with this label. */
OBJECT = COMPRESSED_FILE
  FILE_NAME = "H2133_0000_BL3.JP2"
  RECORD_TYPE = UNDEFINED
  FILE_RECORDS = UNK
  ENCODING_TYPE = "JP2"
  INTERCHANGE_FORMAT = BINARY
  UNCOMPRESSED_FILE_NAME = "H2133_0000_BL3.IMG"
  REQUIRED_STORAGE_BYTES = "21090729"
  ^DESCRIPTION = "JP2INFO.TXT"
END_OBJECT = COMPRESSED_FILE
END
