PDS_VERSION_ID = PDS3
/* FILE DATA ELEMENTS */
RECORD_TYPE = STREAM
/* POINTERS TO DATA OBJECTS */
^COMPRESSED_FILE = "H2133_0000_GR3.JP2"
/* IDENTIFICATION DATA ELEMENTS */
DATA_SET_ID = "MEX-M-HRSC-5-REFDR-MAPPROJECTED-V3.0"
DATA_SET_NAME = "MARS EXPRESS HRSC MAP PROJECTED REFDR V3.0"
DETECTOR_ID = MEX_HRSC_GREEN
EVENT_TYPE = "MARS-REGIONAL-MAPPING-Vo-Im"
INSTRUMENT_HOST_ID = MEX
INSTRUMENT_HOST_NAME = "MARS EXPRESS"
INSTRUMENT_ID = HRSC
INSTRUMENT_NAME = "HIGH RESOLUTION STEREO CAMERA"
MISSION_NAME = "MARS EXPRESS"
MISSION_PHASE_NAME = MR_Phase_7
PROCESSING_LEVEL_ID = 3
PRODUCT_CREATION_TIME = 2016-03-14T11:38:04.000Z
PRODUCT_ID = "H2133_0000_GR3.JP2"
RELEASE_ID = 0027
REVISION_ID = 0000
/* QUALITY DATA ELEMENTS */
DATA_QUALITY_ID = 1
DATA_QUALITY_DESC = "Data calculated based on original SPICE kernels"
/* TIME DATA ELEMENTS */
SPACECRAFT_CLOCK_START_COUNT = "1/0074562184.57968"
SPACECRAFT_CLOCK_STOP_COUNT = "1/0074562658.39181"
START_TIME = 2005-09-11T23:45:35.420Z
STOP_TIME = 2005-09-11T23:50:22.853Z
/* ORBITAL DATA ELEMENTS */
ASCENDING_NODE_LONGITUDE = 183.51
MAXIMUM_RESOLUTION = 86.4
FOOTPRINT_POINT_LATITUDE = (-66.8406,-66.8158,-66.785,-66.7532, -66.6685,-66.6052,-66.3825,-66.0528, -65.7217,-65.3892,-65.0553,-64.7202, -64.3835,-64.0454,-63.7057,-63.3646, -63.0221,-62.6783,-62.3329,-61.9863, -61.4661,-61.122,-60.7808,-60.4423, -60.1067,-59.7732,-59.4418,-59.1134, -58.7881,-58.4646,-58.1433,-57.8254, -57.3519,-57.0388,-56.7281,-56.4209, -56.1143,-55.811,-55.3595,-55.0607, -54.7648,-54.3245,-54.0325,-53.7442, -53.4569,-53.1728,-52.607,-52.0501, -51.5005,-51.0919,-50.8437,-50.8711, -50.886,-50.9006,-50.9173,-51.5997, -52.1535,-52.7152,-53.2847,-53.5718, -53.8621,-54.1529,-54.4477,-54.8923, -55.1913,-55.493,-55.9492,-56.2557, -56.5659,-56.8769,-57.1913,-57.5082, -57.8265,-58.1486,-58.4728,-58.7989, -59.1284,-59.4606,-59.7948,-60.1316, -60.4722,-60.8153,-61.1608,-61.5092, -62.0378,-62.3917,-62.7447,-63.0965, -63.4472,-63.7964,-64.1442,-64.4911, -64.8371,-65.1818,-65.5251,-65.8673, -66.2084,-66.5481,-66.8866,-66.8406)
FOOTPRINT_POINT_LONGITUDE = (54.0645,53.3209,52.5112,51.7711, 50.0986,49.033,48.0332,48.2091,48.38, 48.5456,48.7066,48.8614,49.0133,49.1612 ,49.3059,49.4471,49.5847,49.7182, 49.8491,49.9759,50.1594,50.2777,50.3889 ,50.4994,50.6036,50.7051,50.8039, 50.8992,50.9901,51.0769,51.1613,51.2429 ,51.3621,51.4373,51.5103,51.5797,51.648 ,51.7144,51.8102,51.8723,51.9316, 52.0179,52.0739,52.1277,52.1786,52.2281 ,52.3298,52.4226,52.5104,52.5736, 53.1673,53.9166,54.389,54.9185,55.5979, 55.5932,55.5891,55.5852,55.5799,55.5774 ,55.5745,55.5713,55.5685,55.5636, 55.5602,55.5566,55.5503,55.546,55.5419, 55.5376,55.533,55.5282,55.5239,55.519, 55.5139,55.5087,55.5034,55.4981,55.4923 ,55.4864,55.4806,55.4739,55.4671, 55.4605,55.4495,55.441,55.433,55.4245, 55.4157,55.4053,55.394,55.3832,55.3727, 55.3614,55.349,55.3362,55.3231,55.309, 55.2936,54.0645)
ORBIT_NUMBER = 2133
ORBITAL_ECCENTRICITY = 0.573
ORBITAL_INCLINATION = 86.63
ORBITAL_SEMIMAJOR_AXIS = 8620.93
PERIAPSIS_ALTITUDE = 283.9
PERIAPSIS_ARGUMENT_ANGLE = 343.41
PERIAPSIS_TIME = 2005-09-11T23:59:14.000Z
SPACECRAFT_ORIENTATION = (0.0,1.0,0.0)
^MEX_ORIENTATION_DESC = "MEX_ORIENTATION_DESC.TXT"
SPACECRAFT_POINTING_MODE = NADIR
^MEX_POINTING_DESC = "MEX_POINTING_DESC.TXT"
RIGHT_ASCENSION = -1e+32
DECLINATION = -1e+32
OFFSET_ANGLE = -1e+32
SPACECRAFT_SOLAR_DISTANCE = 2.09955e+08
TARGET_NAME = MARS
/* CAMERA DATA ELEMENTS */
DETECTOR_TEMPERATURE = 18.5744
FOCAL_PLANE_TEMPERATURE = 9.6028
INST_CMPRS_NAME = "DISCRETE COSINE TRANSFORMATION (DCT)"
INST_CMPRS_RATIO = 16.5706
INST_CMPRS_QUALITY = 0
INST_CMPRS_QUANTZ_TBL_ID = 0
INSTRUMENT_TEMPERATURE = 11.6418
LENS_TEMPERATURE = 9.8067
MACROPIXEL_SIZE = 4
MISSING_FRAMES = 0
PIXEL_SUBSAMPLING_FLAG = N
SIGNAL_CHAIN_ID = 2
/* RADIOMETRIC DATA ELEMENTS */
BANDWIDTH = 88.0
CENTER_FILTER_WAVELENGTH = 538.0
RADIANCE_OFFSET = 1.83476
RADIANCE_SCALING_FACTOR = 0.00554379
REFLECTANCE_SCALING_FACTOR = 0.000210398
MEX:REFLECTANCE_OFFSET = 0.0696328
/* IMAGE OBJECT DEFINITIONS */
OBJECT = IMAGE
  INTERCHANGE_FORMAT = BINARY
  LINES = 9529
  LINE_SAMPLES = 2211
  SAMPLE_TYPE = UNSIGNED_INTEGER
  SAMPLE_BITS = 8
  BANDS = 1
  BAND_STORAGE_TYPE = BAND_SEQUENTIAL
  MAXIMUM = 219
  MEAN = 178.113
  MINIMUM = 121
  STANDARD_DEVIATION = 13.7094
END_OBJECT = IMAGE
/* MAP OBJECT DEFINITIONS */
OBJECT = IMAGE_MAP_PROJECTION
  ^DATA_SET_MAP_PROJECTION_CATALOG= "DSMAP.CAT"
  A_AXIS_RADIUS = 3396.0
  B_AXIS_RADIUS = 3396.0
  C_AXIS_RADIUS = 3396.0
  CENTER_LATITUDE = 0.0
  CENTER_LONGITUDE = 53.0
  COORDINATE_SYSTEM_NAME = PLANETOGRAPHIC
  COORDINATE_SYSTEM_TYPE = "BODY-FIXED ROTATING"
  EASTERNMOST_LONGITUDE = 55.5979
  FIRST_STANDARD_PARALLEL = "N/A"
  LINE_FIRST_PIXEL = 1
  LINE_LAST_PIXEL = 9529
  LINE_PROJECTION_OFFSET = -30125.625
  MAP_PROJECTION_ROTATION = 0.0
  MAP_PROJECTION_TYPE = SINUSOIDAL
  MAP_RESOLUTION = 592.713803866667
  MAP_SCALE = 0.1
  MAXIMUM_LATITUDE = -50.8437
  MINIMUM_LATITUDE = -66.8866
  POSITIVE_LONGITUDE_DIRECTION = EAST
  REFERENCE_LATITUDE = "N/A"
  REFERENCE_LONGITUDE = "N/A"
  SAMPLE_FIRST_PIXEL = 1
  SAMPLE_LAST_PIXEL = 2211
  SAMPLE_PROJECTION_OFFSET = 1227.125
  SECOND_STANDARD_PARALLEL = "N/A"
  WESTERNMOST_LONGITUDE = 48.0332
END_OBJECT = IMAGE_MAP_PROJECTION
/* The JPEG2000 image data file associated with this label. */
OBJECT = COMPRESSED_FILE
  FILE_NAME = "H2133_0000_GR3.JP2"
  RECORD_TYPE = UNDEFINED
  FILE_RECORDS = UNK
  ENCODING_TYPE = "JP2"
  INTERCHANGE_FORMAT = BINARY
  UNCOMPRESSED_FILE_NAME = "H2133_0000_GR3.IMG"
  REQUIRED_STORAGE_BYTES = "21090729"
  ^DESCRIPTION = "JP2INFO.TXT"
END_OBJECT = COMPRESSED_FILE
END
