PDS_VERSION_ID = PDS3
/* FILE DATA ELEMENTS */
RECORD_TYPE = STREAM
/* POINTERS TO DATA OBJECTS */
^COMPRESSED_FILE = "H2133_0000_RE3.JP2"
/* IDENTIFICATION DATA ELEMENTS */
DATA_SET_ID = "MEX-M-HRSC-5-REFDR-MAPPROJECTED-V3.0"
DATA_SET_NAME = "MARS EXPRESS HRSC MAP PROJECTED REFDR V3.0"
DETECTOR_ID = MEX_HRSC_RED
EVENT_TYPE = "MARS-REGIONAL-MAPPING-Vo-Im"
INSTRUMENT_HOST_ID = MEX
INSTRUMENT_HOST_NAME = "MARS EXPRESS"
INSTRUMENT_ID = HRSC
INSTRUMENT_NAME = "HIGH RESOLUTION STEREO CAMERA"
MISSION_NAME = "MARS EXPRESS"
MISSION_PHASE_NAME = MR_Phase_7
PROCESSING_LEVEL_ID = 3
PRODUCT_CREATION_TIME = 2016-03-14T11:38:04.000Z
PRODUCT_ID = "H2133_0000_RE3.JP2"
RELEASE_ID = 0027
REVISION_ID = 0000
/* QUALITY DATA ELEMENTS */
DATA_QUALITY_ID = 1
DATA_QUALITY_DESC = "Data calculated based on original SPICE kernels"
/* TIME DATA ELEMENTS */
SPACECRAFT_CLOCK_START_COUNT = "1/0074562184.57968"
SPACECRAFT_CLOCK_STOP_COUNT = "1/0074562658.39181"
START_TIME = 2005-09-11T23:43:38.809Z
STOP_TIME = 2005-09-11T23:49:23.563Z
/* ORBITAL DATA ELEMENTS */
ASCENDING_NODE_LONGITUDE = 183.51
MAXIMUM_RESOLUTION = 99.9
FOOTPRINT_POINT_LATITUDE = (-67.0193,-66.9772,-66.9412,-66.8994, -66.8186,-66.734,-66.5174,-65.9466, -65.221,-64.4817,-64.1819,-63.8812, -63.5791,-63.2756,-62.97,-62.6625, -62.3536,-62.0427,-61.5725,-61.258, -60.9405,-60.6217,-60.3002,-59.9765, -59.652,-59.326,-58.9981,-58.6665, -58.3327,-57.997,-57.4914,-57.1546, -56.8184,-56.4855,-56.1536,-55.8249, -55.4991,-55.1767,-54.8554,-54.3779, -53.9058,-53.4359,-53.1235,-52.8247, -52.5183,-52.2166,-51.7665,-51.1726, -50.8206,-50.8513,-50.8704,-50.8883, -50.8989,-51.0566,-51.6531,-51.9539, -52.2567,-52.5613,-52.8705,-53.1805, -53.6495,-54.1241,-54.4424,-54.7634, -55.0882,-55.4154,-55.7445,-56.0759, -56.4095,-56.7461,-57.0849,-57.4266, -57.7699,-58.1139,-58.4562,-58.7966, -59.1352,-59.4715,-59.8058,-60.1388, -60.4692,-60.7984,-61.1261,-61.4507, -61.7742,-62.0967,-62.4169,-62.7363, -63.0522,-63.5253,-63.8389,-64.1499, -64.4604,-64.7683,-65.0751,-65.532, -65.8332,-66.2846,-66.8808,-67.0193)
FOOTPRINT_POINT_LONGITUDE = (54.7369,53.4384,52.5489,51.6627, 50.2219,48.9495,47.315,47.6558,48.0606, 48.4427,48.5895,48.7334,48.8744,49.0126 ,49.1477,49.2798,49.4093,49.536,49.7209 ,49.8414,49.9588,50.074,50.1864,50.2963 ,50.4043,50.5101,50.6137,50.7143, 50.8126,50.9088,51.0499,51.1402,51.2268 ,51.3108,51.3917,51.4703,51.5466, 51.6204,51.6915,51.7946,51.8931,51.9859 ,52.0444,52.1062,52.1627,52.2177, 52.2975,52.3983,52.8574,53.596,54.1198, 54.7377,55.2328,55.7723,55.7768,55.78, 55.7829,55.7863,55.7884,55.7909,55.7956 ,55.7999,55.8033,55.807,55.8099,55.8126 ,55.8156,55.8189,55.8228,55.8267, 55.8308,55.8348,55.8396,55.8445,55.8495 ,55.8547,55.86,55.8659,55.8721,55.8781, 55.885,55.8916,55.8982,55.906,55.9135, 55.9206,55.9283,55.9355,55.9445,55.956, 55.9637,55.9724,55.9802,55.9892,55.9977 ,56.0112,56.0219,56.0356,56.0547, 54.7369)
ORBIT_NUMBER = 2133
ORBITAL_ECCENTRICITY = 0.573
ORBITAL_INCLINATION = 86.63
ORBITAL_SEMIMAJOR_AXIS = 8620.93
PERIAPSIS_ALTITUDE = 283.9
PERIAPSIS_ARGUMENT_ANGLE = 343.41
PERIAPSIS_TIME = 2005-09-11T23:59:14.000Z
SPACECRAFT_ORIENTATION = (0.0,1.0,0.0)
^MEX_ORIENTATION_DESC = "MEX_ORIENTATION_DESC.TXT"
SPACECRAFT_POINTING_MODE = NADIR
^MEX_POINTING_DESC = "MEX_POINTING_DESC.TXT"
RIGHT_ASCENSION = -1e+32
DECLINATION = -1e+32
OFFSET_ANGLE = -1e+32
SPACECRAFT_SOLAR_DISTANCE = 2.09955e+08
TARGET_NAME = MARS
/* CAMERA DATA ELEMENTS */
DETECTOR_TEMPERATURE = 18.9822
FOCAL_PLANE_TEMPERATURE = 9.6028
INST_CMPRS_NAME = "DISCRETE COSINE TRANSFORMATION (DCT)"
INST_CMPRS_RATIO = 20.2474
INST_CMPRS_QUALITY = 0
INST_CMPRS_QUANTZ_TBL_ID = 0
INSTRUMENT_TEMPERATURE = 11.6418
LENS_TEMPERATURE = 9.8067
MACROPIXEL_SIZE = 4
MISSING_FRAMES = 0
PIXEL_SUBSAMPLING_FLAG = N
SIGNAL_CHAIN_ID = 2
/* RADIOMETRIC DATA ELEMENTS */
BANDWIDTH = 48.0
CENTER_FILTER_WAVELENGTH = 748.0
RADIANCE_OFFSET = 1.27249
RADIANCE_SCALING_FACTOR = 0.00674493
REFLECTANCE_SCALING_FACTOR = 0.000678502
MEX:REFLECTANCE_OFFSET = 0.128005
/* IMAGE OBJECT DEFINITIONS */
OBJECT = IMAGE
  INTERCHANGE_FORMAT = BINARY
  LINES = 9529
  LINE_SAMPLES = 2211
  SAMPLE_TYPE = UNSIGNED_INTEGER
  SAMPLE_BITS = 8
  BANDS = 1
  BAND_STORAGE_TYPE = BAND_SEQUENTIAL
  MAXIMUM = 219
  MEAN = 165.666
  MINIMUM = 89
  STANDARD_DEVIATION = 12.4419
END_OBJECT = IMAGE
/* MAP OBJECT DEFINITIONS */
OBJECT = IMAGE_MAP_PROJECTION
  ^DATA_SET_MAP_PROJECTION_CATALOG= "DSMAP.CAT"
  A_AXIS_RADIUS = 3396.0
  B_AXIS_RADIUS = 3396.0
  C_AXIS_RADIUS = 3396.0
  CENTER_LATITUDE = 0.0
  CENTER_LONGITUDE = 53.0
  COORDINATE_SYSTEM_NAME = PLANETOGRAPHIC
  COORDINATE_SYSTEM_TYPE = "BODY-FIXED ROTATING"
  EASTERNMOST_LONGITUDE = 56.0547
  FIRST_STANDARD_PARALLEL = "N/A"
  LINE_FIRST_PIXEL = 1
  LINE_LAST_PIXEL = 9529
  LINE_PROJECTION_OFFSET = -30125.625
  MAP_PROJECTION_ROTATION = 0.0
  MAP_PROJECTION_TYPE = SINUSOIDAL
  MAP_RESOLUTION = 592.713803866667
  MAP_SCALE = 0.1
  MAXIMUM_LATITUDE = -50.8206
  MINIMUM_LATITUDE = -67.0193
  POSITIVE_LONGITUDE_DIRECTION = EAST
  REFERENCE_LATITUDE = "N/A"
  REFERENCE_LONGITUDE = "N/A"
  SAMPLE_FIRST_PIXEL = 1
  SAMPLE_LAST_PIXEL = 2211
  SAMPLE_PROJECTION_OFFSET = 1227.125
  SECOND_STANDARD_PARALLEL = "N/A"
  WESTERNMOST_LONGITUDE = 47.315
END_OBJECT = IMAGE_MAP_PROJECTION
/* The JPEG2000 image data file associated with this label. */
OBJECT = COMPRESSED_FILE
  FILE_NAME = "H2133_0000_RE3.JP2"
  RECORD_TYPE = UNDEFINED
  FILE_RECORDS = UNK
  ENCODING_TYPE = "JP2"
  INTERCHANGE_FORMAT = BINARY
  UNCOMPRESSED_FILE_NAME = "H2133_0000_RE3.IMG"
  REQUIRED_STORAGE_BYTES = "21090729"
  ^DESCRIPTION = "JP2INFO.TXT"
END_OBJECT = COMPRESSED_FILE
END
