PDS_VERSION_ID = PDS3
/* FILE DATA ELEMENTS */
RECORD_TYPE = STREAM
/* POINTERS TO DATA OBJECTS */
^COMPRESSED_FILE = "H2133_0036_SR3.JP2"
/* IDENTIFICATION DATA ELEMENTS */
DATA_SET_ID = "MEX-M-HRSC-5-REFDR-MAPPROJECTED-V3.0"
DATA_SET_NAME = "MARS EXPRESS HRSC MAP PROJECTED REFDR V3.0"
DETECTOR_ID = MEX_HRSC_SRC
EVENT_TYPE = "MARS-REGIONAL-MAPPING-Vo-Im"
INSTRUMENT_HOST_ID = MEX
INSTRUMENT_HOST_NAME = "MARS EXPRESS"
INSTRUMENT_ID = HRSC
INSTRUMENT_NAME = "HIGH RESOLUTION STEREO CAMERA"
MISSION_NAME = "MARS EXPRESS"
MISSION_PHASE_NAME = MR_Phase_7
PROCESSING_LEVEL_ID = 3
PRODUCT_CREATION_TIME = 2016-03-14T11:38:04.000Z
PRODUCT_ID = "H2133_0036_SR3.JP2"
RELEASE_ID = 0027
REVISION_ID = 0000
/* QUALITY DATA ELEMENTS */
DATA_QUALITY_ID = 1
DATA_QUALITY_DESC = "Data calculated based on original SPICE kernels"
/* TIME DATA ELEMENTS */
SPACECRAFT_CLOCK_START_COUNT = "1/0074562184.57968"
SPACECRAFT_CLOCK_STOP_COUNT = "1/0074562658.39181"
IMAGE_TIME = 2005-09-11T23:48:32.185Z
START_TIME = 2005-09-11T23:48:32.182Z
STOP_TIME = 2005-09-11T23:48:32.187Z
/* ORBITAL DATA ELEMENTS */
ASCENDING_NODE_LONGITUDE = 183.51
MAXIMUM_RESOLUTION = 5.861
FOOTPRINT_POINT_LATITUDE = (-56.721,-56.7169,-56.7131,-56.7072, -56.7033,-56.6979,-56.6938,-56.6893, -56.6846,-56.6804,-56.6775,-56.6732, -56.6693,-56.6666,-56.6619,-56.6588, -56.6552,-56.6486,-56.6436,-56.6391, -56.6339,-56.6276,-56.624,-56.6242, -56.6246,-56.6248,-56.6251,-56.6254, -56.6256,-56.6259,-56.6262,-56.6264, -56.6267,-56.627,-56.6272,-56.6275, -56.6278,-56.628,-56.6283,-56.6286, -56.6288,-56.6291,-56.6293,-56.6296, -56.6299,-56.6301,-56.6304,-56.6312, -56.6351,-56.6382,-56.6413,-56.6454, -56.6484,-56.6518,-56.6561,-56.6594, -56.6629,-56.6683,-56.6738,-56.6781, -56.6834,-56.6865,-56.6891,-56.6932, -56.6959,-56.7002,-56.7036,-56.7066, -56.7093,-56.7129,-56.7182,-56.7214, -56.7249,-56.7276,-56.7302,-56.73, -56.7297,-56.7294,-56.7292,-56.7289, -56.7286,-56.7284,-56.7281,-56.7279, -56.7277,-56.7273,-56.7271,-56.7268, -56.7266,-56.7263,-56.726,-56.7257, -56.7254,-56.7251,-56.7248,-56.7246, -56.7243,-56.7241,-56.7238,-56.721)
FOOTPRINT_POINT_LONGITUDE = (53.4444,53.4449,53.4454,53.4461, 53.4466,53.4473,53.4478,53.4483,53.4489 ,53.4494,53.4498,53.4503,53.4508, 53.4512,53.4517,53.4521,53.4526,53.4534 ,53.454,53.4546,53.4552,53.456,53.4584, 53.4656,53.4746,53.4818,53.489,53.4962, 53.5034,53.5106,53.5178,53.525,53.5322, 53.5394,53.5466,53.5538,53.561,53.5682, 53.5754,53.5826,53.5899,53.5971,53.6043 ,53.6115,53.6187,53.6259,53.6331, 53.6377,53.6372,53.6368,53.6365,53.636, 53.6356,53.6352,53.6347,53.6343,53.6339 ,53.6333,53.6326,53.6321,53.6314, 53.6311,53.6308,53.6303,53.63,53.6294, 53.629,53.6287,53.6284,53.6279,53.6273, 53.6269,53.6265,53.6262,53.6239,53.6166 ,53.6094,53.6022,53.595,53.5878,53.5805 ,53.5733,53.5661,53.5589,53.5535, 53.5444,53.5372,53.53,53.5246,53.5174, 53.5083,53.5011,53.4921,53.4831,53.4758 ,53.4704,53.4632,53.456,53.4488, 53.4444)
ORBIT_NUMBER = 2133
ORBITAL_ECCENTRICITY = 0.573
ORBITAL_INCLINATION = 86.63
ORBITAL_SEMIMAJOR_AXIS = 8620.93
PERIAPSIS_ALTITUDE = 283.9
PERIAPSIS_ARGUMENT_ANGLE = 343.41
PERIAPSIS_TIME = 2005-09-11T23:59:14.000Z
SPACECRAFT_ORIENTATION = (0.0,1.0,0.0)
^MEX_ORIENTATION_DESC = "MEX_ORIENTATION_DESC.TXT"
SPACECRAFT_POINTING_MODE = NADIR
^MEX_POINTING_DESC = "MEX_POINTING_DESC.TXT"
RIGHT_ASCENSION = -1e+32
DECLINATION = -1e+32
OFFSET_ANGLE = -1e+32
SPACECRAFT_SOLAR_DISTANCE = 2.09955e+08
TARGET_NAME = MARS
/* CAMERA DATA ELEMENTS */
BUFFER_MODE_ID = DIRECT
EXPOSURE_DURATION = 5.04
INST_CMPRS_NAME = "DISCRETE COSINE TRANSFORMATION (DCT)"
INST_CMPRS_RATIO = 9.99363
INST_CMPRS_QUALITY = 0
INST_CMPRS_QUANTZ_TBL_ID = 0
INSTRUMENT_TEMPERATURE = 14.4348
MISSING_FRAMES = 0
START_BIT = 0
/* RADIOMETRIC DATA ELEMENTS */
BANDWIDTH = 250.0
CENTER_FILTER_WAVELENGTH = 600.0
RADIANCE_OFFSET = -9.99e+31
RADIANCE_SCALING_FACTOR = -9.99e+31
REFLECTANCE_SCALING_FACTOR = -9.99e+31
MEX:REFLECTANCE_OFFSET = -9.99e+31
/* IMAGE OBJECT DEFINITIONS */
OBJECT = IMAGE
  INTERCHANGE_FORMAT = BINARY
  LINES = 1330
  LINE_SAMPLES = 1322
  SAMPLE_TYPE = UNSIGNED_INTEGER
  SAMPLE_BITS = 8
  BANDS = 1
  BAND_STORAGE_TYPE = BAND_SEQUENTIAL
  MAXIMUM = 8689
  MEAN = 7465.1
  MINIMUM = 6413
  STANDARD_DEVIATION = 109.852
END_OBJECT = IMAGE
/* MAP OBJECT DEFINITIONS */
OBJECT = IMAGE_MAP_PROJECTION
  ^DATA_SET_MAP_PROJECTION_CATALOG= "DSMAP.CAT"
  A_AXIS_RADIUS = 3396.19
  B_AXIS_RADIUS = 3396.19
  C_AXIS_RADIUS = 3396.19
  CENTER_LATITUDE = 0.0
  CENTER_LONGITUDE = 54.0
  COORDINATE_SYSTEM_NAME = PLANETOGRAPHIC
  COORDINATE_SYSTEM_TYPE = "BODY-FIXED ROTATING"
  EASTERNMOST_LONGITUDE = 53.6377
  FIRST_STANDARD_PARALLEL = "N/A"
  LINE_FIRST_PIXEL = 1
  LINE_LAST_PIXEL = 1330
  LINE_PROJECTION_OFFSET = -670185.0
  MAP_PROJECTION_ROTATION = 0.0
  MAP_PROJECTION_TYPE = SINUSOIDAL
  MAP_RESOLUTION = 11854.9393024378
  MAP_SCALE = 0.005
  MAXIMUM_LATITUDE = -56.624
  MINIMUM_LATITUDE = -56.7302
  POSITIVE_LONGITUDE_DIRECTION = EAST
  REFERENCE_LATITUDE = "N/A"
  REFERENCE_LONGITUDE = "N/A"
  SAMPLE_FIRST_PIXEL = 1
  SAMPLE_LAST_PIXEL = 1322
  SAMPLE_PROJECTION_OFFSET = 3633.0
  SECOND_STANDARD_PARALLEL = "N/A"
  WESTERNMOST_LONGITUDE = 53.4444
END_OBJECT = IMAGE_MAP_PROJECTION
/* The JPEG2000 image data file associated with this label. */
OBJECT = COMPRESSED_FILE
  FILE_NAME = "H2133_0036_SR3.JP2"
  RECORD_TYPE = UNDEFINED
  FILE_RECORDS = UNK
  ENCODING_TYPE = "JP2"
  INTERCHANGE_FORMAT = BINARY
  UNCOMPRESSED_FILE_NAME = "H2133_0036_SR3.IMG"
  REQUIRED_STORAGE_BYTES = "1778090"
  ^DESCRIPTION = "JP2INFO.TXT"
END_OBJECT = COMPRESSED_FILE
END
