PDS_VERSION_ID = PDS3
/* FILE DATA ELEMENTS */
RECORD_TYPE = STREAM
/* POINTERS TO DATA OBJECTS */
^COMPRESSED_FILE = "H2133_0038_SR3.JP2"
/* IDENTIFICATION DATA ELEMENTS */
DATA_SET_ID = "MEX-M-HRSC-5-REFDR-MAPPROJECTED-V3.0"
DATA_SET_NAME = "MARS EXPRESS HRSC MAP PROJECTED REFDR V3.0"
DETECTOR_ID = MEX_HRSC_SRC
EVENT_TYPE = "MARS-REGIONAL-MAPPING-Vo-Im"
INSTRUMENT_HOST_ID = MEX
INSTRUMENT_HOST_NAME = "MARS EXPRESS"
INSTRUMENT_ID = HRSC
INSTRUMENT_NAME = "HIGH RESOLUTION STEREO CAMERA"
MISSION_NAME = "MARS EXPRESS"
MISSION_PHASE_NAME = MR_Phase_7
PROCESSING_LEVEL_ID = 3
PRODUCT_CREATION_TIME = 2016-03-14T11:38:04.000Z
PRODUCT_ID = "H2133_0038_SR3.JP2"
RELEASE_ID = 0027
REVISION_ID = 0000
/* QUALITY DATA ELEMENTS */
DATA_QUALITY_ID = 1
DATA_QUALITY_DESC = "Data calculated based on original SPICE kernels"
/* TIME DATA ELEMENTS */
SPACECRAFT_CLOCK_START_COUNT = "1/0074562184.57968"
SPACECRAFT_CLOCK_STOP_COUNT = "1/0074562658.39181"
IMAGE_TIME = 2005-09-11T23:48:34.910Z
START_TIME = 2005-09-11T23:48:34.907Z
STOP_TIME = 2005-09-11T23:48:34.912Z
/* ORBITAL DATA ELEMENTS */
ASCENDING_NODE_LONGITUDE = 183.51
MAXIMUM_RESOLUTION = 5.836
FOOTPRINT_POINT_LATITUDE = (-56.57,-56.5659,-56.5597,-56.554, -56.5497,-56.5469,-56.5425,-56.5398, -56.5356,-56.5314,-56.5286,-56.5251, -56.519,-56.5146,-56.5102,-56.5069, -56.5022,-56.4982,-56.4917,-56.4875, -56.484,-56.4805,-56.4759,-56.4733, -56.4736,-56.4738,-56.4741,-56.4743, -56.4746,-56.4748,-56.4751,-56.4753, -56.4756,-56.4759,-56.4761,-56.4764, -56.4767,-56.4769,-56.4772,-56.4774, -56.4777,-56.478,-56.4782,-56.4785, -56.4787,-56.479,-56.4793,-56.4795, -56.4798,-56.4844,-56.4883,-56.491, -56.4942,-56.4975,-56.5005,-56.504, -56.5085,-56.5113,-56.5153,-56.5207, -56.525,-56.5284,-56.5324,-56.5372, -56.5409,-56.5437,-56.5469,-56.5518, -56.5574,-56.5603,-56.5629,-56.5663, -56.5717,-56.5754,-56.579,-56.5787, -56.5785,-56.5782,-56.5779,-56.5777, -56.5774,-56.5772,-56.577,-56.5766, -56.5764,-56.5761,-56.5759,-56.5756, -56.5753,-56.575,-56.5747,-56.5744, -56.5741,-56.5738,-56.5736,-56.5733, -56.5731,-56.5729,-56.5726,-56.57)
FOOTPRINT_POINT_LONGITUDE = (53.4634,53.4639,53.4647,53.4654, 53.4659,53.4662,53.4668,53.4671,53.4676 ,53.4681,53.4685,53.4689,53.4697, 53.4702,53.4707,53.4711,53.4717,53.4722 ,53.473,53.4735,53.4739,53.4744,53.4749 ,53.4754,53.4826,53.4897,53.4969, 53.5022,53.5094,53.5165,53.5236,53.5308 ,53.5379,53.5451,53.5522,53.5594, 53.5665,53.5736,53.5808,53.5879,53.5951 ,53.6022,53.6094,53.6165,53.6236, 53.6308,53.6379,53.6451,53.654,53.6545, 53.6541,53.6538,53.6534,53.653,53.6526, 53.6522,53.6517,53.6514,53.6509,53.6503 ,53.6497,53.6494,53.6489,53.6483, 53.6479,53.6476,53.6472,53.6466,53.6459 ,53.6456,53.6453,53.6449,53.6442, 53.6438,53.6378,53.6306,53.6235,53.6163 ,53.6092,53.602,53.5948,53.5877,53.5823 ,53.5734,53.5662,53.559,53.5519,53.5447 ,53.5375,53.5286,53.5196,53.5125, 53.5035,53.4964,53.491,53.4821,53.4767, 53.4713,53.4642,53.4634)
ORBIT_NUMBER = 2133
ORBITAL_ECCENTRICITY = 0.573
ORBITAL_INCLINATION = 86.63
ORBITAL_SEMIMAJOR_AXIS = 8620.93
PERIAPSIS_ALTITUDE = 283.9
PERIAPSIS_ARGUMENT_ANGLE = 343.41
PERIAPSIS_TIME = 2005-09-11T23:59:14.000Z
SPACECRAFT_ORIENTATION = (0.0,1.0,0.0)
^MEX_ORIENTATION_DESC = "MEX_ORIENTATION_DESC.TXT"
SPACECRAFT_POINTING_MODE = NADIR
^MEX_POINTING_DESC = "MEX_POINTING_DESC.TXT"
RIGHT_ASCENSION = -1e+32
DECLINATION = -1e+32
OFFSET_ANGLE = -1e+32
SPACECRAFT_SOLAR_DISTANCE = 2.09955e+08
TARGET_NAME = MARS
/* CAMERA DATA ELEMENTS */
BUFFER_MODE_ID = DIRECT
EXPOSURE_DURATION = 5.04
INST_CMPRS_NAME = "DISCRETE COSINE TRANSFORMATION (DCT)"
INST_CMPRS_RATIO = 10.0562
INST_CMPRS_QUALITY = 0
INST_CMPRS_QUANTZ_TBL_ID = 0
INSTRUMENT_TEMPERATURE = 14.6929
MISSING_FRAMES = 0
START_BIT = 0
/* RADIOMETRIC DATA ELEMENTS */
BANDWIDTH = 250.0
CENTER_FILTER_WAVELENGTH = 600.0
RADIANCE_OFFSET = -9.99e+31
RADIANCE_SCALING_FACTOR = -9.99e+31
REFLECTANCE_SCALING_FACTOR = -9.99e+31
MEX:REFLECTANCE_OFFSET = -9.99e+31
/* IMAGE OBJECT DEFINITIONS */
OBJECT = IMAGE
  INTERCHANGE_FORMAT = BINARY
  LINES = 1324
  LINE_SAMPLES = 1316
  SAMPLE_TYPE = UNSIGNED_INTEGER
  SAMPLE_BITS = 8
  BANDS = 1
  BAND_STORAGE_TYPE = BAND_SEQUENTIAL
  MAXIMUM = 8643
  MEAN = 7466.8
  MINIMUM = 6346
  STANDARD_DEVIATION = 107.195
END_OBJECT = IMAGE
/* MAP OBJECT DEFINITIONS */
OBJECT = IMAGE_MAP_PROJECTION
  ^DATA_SET_MAP_PROJECTION_CATALOG= "DSMAP.CAT"
  A_AXIS_RADIUS = 3396.19
  B_AXIS_RADIUS = 3396.19
  C_AXIS_RADIUS = 3396.19
  CENTER_LATITUDE = 0.0
  CENTER_LONGITUDE = 54.0
  COORDINATE_SYSTEM_NAME = PLANETOGRAPHIC
  COORDINATE_SYSTEM_TYPE = "BODY-FIXED ROTATING"
  EASTERNMOST_LONGITUDE = 53.6545
  FIRST_STANDARD_PARALLEL = "N/A"
  LINE_FIRST_PIXEL = 1
  LINE_LAST_PIXEL = 1324
  LINE_PROJECTION_OFFSET = -668407.0
  MAP_PROJECTION_ROTATION = 0.0
  MAP_PROJECTION_TYPE = SINUSOIDAL
  MAP_RESOLUTION = 11854.9393024378
  MAP_SCALE = 0.005
  MAXIMUM_LATITUDE = -56.4733
  MINIMUM_LATITUDE = -56.579
  POSITIVE_LONGITUDE_DIRECTION = EAST
  REFERENCE_LATITUDE = "N/A"
  REFERENCE_LONGITUDE = "N/A"
  SAMPLE_FIRST_PIXEL = 1
  SAMPLE_LAST_PIXEL = 1316
  SAMPLE_PROJECTION_OFFSET = 3524.0
  SECOND_STANDARD_PARALLEL = "N/A"
  WESTERNMOST_LONGITUDE = 53.4634
END_OBJECT = IMAGE_MAP_PROJECTION
/* The JPEG2000 image data file associated with this label. */
OBJECT = COMPRESSED_FILE
  FILE_NAME = "H2133_0038_SR3.JP2"
  RECORD_TYPE = UNDEFINED
  FILE_RECORDS = UNK
  ENCODING_TYPE = "JP2"
  INTERCHANGE_FORMAT = BINARY
  UNCOMPRESSED_FILE_NAME = "H2133_0038_SR3.IMG"
  REQUIRED_STORAGE_BYTES = "1762124"
  ^DESCRIPTION = "JP2INFO.TXT"
END_OBJECT = COMPRESSED_FILE
END
