PDS_VERSION_ID = PDS3
/* FILE DATA ELEMENTS */
RECORD_TYPE = STREAM
/* POINTERS TO DATA OBJECTS */
^COMPRESSED_FILE = "H2134_0000_P13.JP2"
/* IDENTIFICATION DATA ELEMENTS */
DATA_SET_ID = "MEX-M-HRSC-5-REFDR-MAPPROJECTED-V3.0"
DATA_SET_NAME = "MARS EXPRESS HRSC MAP PROJECTED REFDR V3.0"
DETECTOR_ID = MEX_HRSC_P1
EVENT_TYPE = "MARS-REGIONAL-MAPPING-Fl-Mw-La"
INSTRUMENT_HOST_ID = MEX
INSTRUMENT_HOST_NAME = "MARS EXPRESS"
INSTRUMENT_ID = HRSC
INSTRUMENT_NAME = "HIGH RESOLUTION STEREO CAMERA"
MISSION_NAME = "MARS EXPRESS"
MISSION_PHASE_NAME = MR_Phase_7
PROCESSING_LEVEL_ID = 3
PRODUCT_CREATION_TIME = 2016-03-14T11:38:04.000Z
PRODUCT_ID = "H2134_0000_P13.JP2"
RELEASE_ID = 0027
REVISION_ID = 0000
/* QUALITY DATA ELEMENTS */
DATA_QUALITY_ID = 1
DATA_QUALITY_DESC = "Data calculated based on original SPICE kernels"
/* TIME DATA ELEMENTS */
SPACECRAFT_CLOCK_START_COUNT = "1/0074587258.57147"
SPACECRAFT_CLOCK_STOP_COUNT = "1/0074587651.37912"
START_TIME = 2005-09-12T06:41:48.440Z
STOP_TIME = 2005-09-12T06:50:35.497Z
/* ORBITAL DATA ELEMENTS */
ASCENDING_NODE_LONGITUDE = 183.49
MAXIMUM_RESOLUTION = 46.7
FOOTPRINT_POINT_LATITUDE = (-19.9338,-19.6411,-19.0246,-18.0993, -17.4838,-16.8713,-16.2675,-15.2618, -14.343,-13.413,-12.7951,-12.193, -11.581,-10.9751,-10.3311,-9.70432, -9.07706,-8.47151,-7.84494,-6.86996, -6.21373,-5.23957,-4.57856,-3.92018, -2.91024,-2.23502,-1.54594,-0.85199, 0.180789,1.20251,1.89276,2.57249, 3.24855,3.92181,4.59107,5.25708,5.92067 ,6.58092,7.23534,7.96574,8.6141,9.25961 ,9.90154,10.5402,11.1744,11.8061,12.434 ,13.0579,13.0851,13.0977,13.1078, 12.8005,12.174,11.544,10.9107,10.2729, 9.63005,8.98885,8.34063,7.68935,7.28735 ,6.63053,5.96962,4.97309,4.29973, 3.63336,2.949,2.27993,1.59886,0.916589, 0.226735,-0.807514,-1.50551,-2.1942, -2.86778,-3.54763,-4.20894,-5.20021, -6.1742,-6.81727,-7.46307,-8.1059, -9.05458,-9.98407,-10.6094,-11.2326, -11.8461,-12.4491,-13.0595,-13.681, -14.3082,-15.2262,-16.2357,-16.8323, -17.4486,-18.0666,-18.6832,-19.3028, -19.9205,-19.9338)
FOOTPRINT_POINT_LONGITUDE = (315.918,315.471,315.478,315.49,315.496 ,315.498,315.49,315.497,315.502,315.52, 315.53,315.522,315.527,315.522,315.538, 315.534,315.533,315.508,315.506,315.507 ,315.516,315.508,315.501,315.493, 315.479,315.468,315.457,315.446,315.426 ,315.4,315.394,315.38,315.365,315.349, 315.332,315.315,315.297,315.279,315.258 ,315.239,315.218,315.197,315.175, 315.153,315.13,315.107,315.084,315.059, 315.758,316.212,316.612,316.86,316.847, 316.834,316.822,316.81,316.799,316.788, 316.777,316.767,316.761,316.752,316.742 ,316.729,316.721,316.713,316.705, 316.698,316.691,316.684,316.677,316.668 ,316.662,316.656,316.651,316.646, 316.641,316.634,316.627,316.623,316.619 ,316.614,316.607,316.604,316.601, 316.597,316.593,316.591,316.588,316.583 ,316.577,316.572,316.567,316.567, 316.564,316.561,316.558,316.554,316.551 ,315.918)
ORBIT_NUMBER = 2134
ORBITAL_ECCENTRICITY = 0.573
ORBITAL_INCLINATION = 86.63
ORBITAL_SEMIMAJOR_AXIS = 8613.16
PERIAPSIS_ALTITUDE = 284.35
PERIAPSIS_ARGUMENT_ANGLE = 343.24
PERIAPSIS_TIME = 2005-09-12T06:42:20.000Z
SPACECRAFT_ORIENTATION = (0.0,1.0,0.0)
^MEX_ORIENTATION_DESC = "MEX_ORIENTATION_DESC.TXT"
SPACECRAFT_POINTING_MODE = ACROSSTRACK
^MEX_POINTING_DESC = "MEX_POINTING_DESC.TXT"
RIGHT_ASCENSION = -1e+32
DECLINATION = -1e+32
OFFSET_ANGLE = 0.7
SPACECRAFT_SOLAR_DISTANCE = 2.09987e+08
TARGET_NAME = MARS
/* CAMERA DATA ELEMENTS */
DETECTOR_TEMPERATURE = 17.7588
FOCAL_PLANE_TEMPERATURE = 8.3794
INST_CMPRS_NAME = "DISCRETE COSINE TRANSFORMATION (DCT)"
INST_CMPRS_RATIO = 12.6861
INST_CMPRS_QUALITY = 0
INST_CMPRS_QUANTZ_TBL_ID = 0
INSTRUMENT_TEMPERATURE = 11.6418
LENS_TEMPERATURE = 10.2145
MACROPIXEL_SIZE = 4
MISSING_FRAMES = 131
PIXEL_SUBSAMPLING_FLAG = N
SIGNAL_CHAIN_ID = 3
/* RADIOMETRIC DATA ELEMENTS */
BANDWIDTH = 174.0
CENTER_FILTER_WAVELENGTH = 675.0
RADIANCE_OFFSET = 4.66831
RADIANCE_SCALING_FACTOR = 0.0297491
REFLECTANCE_SCALING_FACTOR = 0.000705574
MEX:REFLECTANCE_OFFSET = 0.110721
/* IMAGE OBJECT DEFINITIONS */
OBJECT = IMAGE
  INTERCHANGE_FORMAT = BINARY
  LINES = 39190
  LINE_SAMPLES = 2064
  SAMPLE_TYPE = UNSIGNED_INTEGER
  SAMPLE_BITS = 8
  BANDS = 1
  BAND_STORAGE_TYPE = BAND_SEQUENTIAL
  MAXIMUM = 219
  MEAN = 136.319
  MINIMUM = 71
  STANDARD_DEVIATION = 24.5615
END_OBJECT = IMAGE
/* MAP OBJECT DEFINITIONS */
OBJECT = IMAGE_MAP_PROJECTION
  ^DATA_SET_MAP_PROJECTION_CATALOG= "DSMAP.CAT"
  A_AXIS_RADIUS = 3396.0
  B_AXIS_RADIUS = 3396.0
  C_AXIS_RADIUS = 3396.0
  CENTER_LATITUDE = 0.0
  CENTER_LONGITUDE = 316.0
  COORDINATE_SYSTEM_NAME = PLANETOGRAPHIC
  COORDINATE_SYSTEM_TYPE = "BODY-FIXED ROTATING"
  EASTERNMOST_LONGITUDE = 316.86
  FIRST_STANDARD_PARALLEL = "N/A"
  LINE_FIRST_PIXEL = 1
  LINE_LAST_PIXEL = 39190
  LINE_PROJECTION_OFFSET = 15555.125
  MAP_PROJECTION_ROTATION = 0.0
  MAP_PROJECTION_TYPE = SINUSOIDAL
  MAP_RESOLUTION = 1185.42760773333
  MAP_SCALE = 0.05
  MAXIMUM_LATITUDE = 13.1078
  MINIMUM_LATITUDE = -19.9338
  POSITIVE_LONGITUDE_DIRECTION = EAST
  REFERENCE_LATITUDE = "N/A"
  REFERENCE_LONGITUDE = "N/A"
  SAMPLE_FIRST_PIXEL = 1
  SAMPLE_LAST_PIXEL = 2064
  SAMPLE_PROJECTION_OFFSET = 1110.125
  SECOND_STANDARD_PARALLEL = "N/A"
  WESTERNMOST_LONGITUDE = 315.059
END_OBJECT = IMAGE_MAP_PROJECTION
/* The JPEG2000 image data file associated with this label. */
OBJECT = COMPRESSED_FILE
  FILE_NAME = "H2134_0000_P13.JP2"
  RECORD_TYPE = UNDEFINED
  FILE_RECORDS = UNK
  ENCODING_TYPE = "JP2"
  INTERCHANGE_FORMAT = BINARY
  UNCOMPRESSED_FILE_NAME = "H2134_0000_P13.IMG"
  REQUIRED_STORAGE_BYTES = "80908800"
  ^DESCRIPTION = "JP2INFO.TXT"
END_OBJECT = COMPRESSED_FILE
END
