PDS_VERSION_ID = PDS3
/* FILE DATA ELEMENTS */
RECORD_TYPE = STREAM
/* POINTERS TO DATA OBJECTS */
^COMPRESSED_FILE = "H2135_0000_IR3.JP2"
/* IDENTIFICATION DATA ELEMENTS */
DATA_SET_ID = "MEX-M-HRSC-5-REFDR-MAPPROJECTED-V3.0"
DATA_SET_NAME = "MARS EXPRESS HRSC MAP PROJECTED REFDR V3.0"
DETECTOR_ID = MEX_HRSC_IR
EVENT_TYPE = "MARS-REGIONAL-MAPPING-Vo-Fl-Mw"
INSTRUMENT_HOST_ID = MEX
INSTRUMENT_HOST_NAME = "MARS EXPRESS"
INSTRUMENT_ID = HRSC
INSTRUMENT_NAME = "HIGH RESOLUTION STEREO CAMERA"
MISSION_NAME = "MARS EXPRESS"
MISSION_PHASE_NAME = MR_Phase_7
PROCESSING_LEVEL_ID = 3
PRODUCT_CREATION_TIME = 2016-03-14T11:38:04.000Z
PRODUCT_ID = "H2135_0000_IR3.JP2"
RELEASE_ID = 0027
REVISION_ID = 0000
/* QUALITY DATA ELEMENTS */
DATA_QUALITY_ID = 1
DATA_QUALITY_DESC = "Data calculated based on original SPICE kernels"
/* TIME DATA ELEMENTS */
SPACECRAFT_CLOCK_START_COUNT = "1/0074611651.56199"
SPACECRAFT_CLOCK_STOP_COUNT = "1/0074611956.56720"
START_TIME = 2005-09-12T13:28:28.602Z
STOP_TIME = 2005-09-12T13:32:34.211Z
/* ORBITAL DATA ELEMENTS */
ASCENDING_NODE_LONGITUDE = 183.47
MAXIMUM_RESOLUTION = 52.4
FOOTPRINT_POINT_LATITUDE = (-6.12961,-6.12104,-6.11581,-5.80035, -5.48862,-5.17765,-4.86707,-4.55748, -4.24818,-3.93952,-3.63174,-3.16976, -2.70956,-2.25022,-1.94489,-1.63925, -1.3346,-0.877192,-0.573,-0.269799, 0.0327154,0.334757,0.635568,0.934223, 1.38008,1.67792,1.97574,2.27267,2.56908 ,2.86495,3.16001,3.45485,3.74947, 4.04235,4.48056,4.77277,5.0636,5.3533, 5.64278,5.93166,6.21974,6.50691,6.79512 ,7.082,7.36786,7.65206,7.936,8.219, 8.5016,8.78426,8.83312,8.8269,8.67841, 8.39668,8.11428,7.83109,7.54625,7.25897 ,6.97176,6.54119,6.25312,5.96506,5.5314 ,5.2424,4.95195,4.6607,4.36878,4.07632, 3.78328,3.48921,3.19493,2.8984,2.60278, 2.30637,2.00978,1.71266,1.41401,1.11513 ,0.6664,0.365263,0.0642264,-0.236096, -0.537858,-0.840599,-1.29689,-1.75492, -2.06062,-2.36711,-2.67345,-2.97974, -3.28719,-3.59305,-3.90244,-4.21255, -4.52155,-4.83153,-5.14168,-5.45233, -5.76347,-6.12961)
FOOTPRINT_POINT_LONGITUDE = (219.303,218.806,218.478,218.319, 218.316,218.312,218.308,218.304,218.3, 218.296,218.291,218.285,218.278,218.271 ,218.266,218.261,218.256,218.249, 218.243,218.238,218.233,218.227,218.222 ,218.216,218.206,218.2,218.194,218.188, 218.182,218.175,218.169,218.162,218.156 ,218.149,218.138,218.132,218.125, 218.117,218.11,218.103,218.095,218.088, 218.08,218.073,218.065,218.057,218.049, 218.041,218.033,218.025,218.405,219.159 ,219.608,219.602,219.596,219.591, 219.586,219.581,219.577,219.57,219.565, 219.56,219.553,219.548,219.543,219.538, 219.534,219.53,219.525,219.521,219.517, 219.514,219.51,219.506,219.502,219.498, 219.494,219.49,219.485,219.482,219.478, 219.474,219.471,219.468,219.464,219.46, 219.458,219.456,219.453,219.45,219.448, 219.444,219.442,219.441,219.438,219.436 ,219.434,219.432,219.429,219.303)
ORBIT_NUMBER = 2135
ORBITAL_ECCENTRICITY = 0.573
ORBITAL_INCLINATION = 86.63
ORBITAL_SEMIMAJOR_AXIS = 8618.13
PERIAPSIS_ALTITUDE = 283.88
PERIAPSIS_ARGUMENT_ANGLE = 343.03
PERIAPSIS_TIME = 2005-09-12T13:25:23.000Z
SPACECRAFT_ORIENTATION = (0.0,1.0,0.0)
^MEX_ORIENTATION_DESC = "MEX_ORIENTATION_DESC.TXT"
SPACECRAFT_POINTING_MODE = ACROSSTRACK
^MEX_POINTING_DESC = "MEX_POINTING_DESC.TXT"
RIGHT_ASCENSION = -1e+32
DECLINATION = -1e+32
OFFSET_ANGLE = -0.32
SPACECRAFT_SOLAR_DISTANCE = 2.10019e+08
TARGET_NAME = MARS
/* CAMERA DATA ELEMENTS */
DETECTOR_TEMPERATURE = 17.9627
FOCAL_PLANE_TEMPERATURE = 10.0106
INST_CMPRS_NAME = "DISCRETE COSINE TRANSFORMATION (DCT)"
INST_CMPRS_RATIO = 9.01401
INST_CMPRS_QUALITY = 0
INST_CMPRS_QUANTZ_TBL_ID = 0
INSTRUMENT_TEMPERATURE = 11.6418
LENS_TEMPERATURE = 9.3989
MACROPIXEL_SIZE = 4
MISSING_FRAMES = 0
PIXEL_SUBSAMPLING_FLAG = N
SIGNAL_CHAIN_ID = 2
/* RADIOMETRIC DATA ELEMENTS */
BANDWIDTH = 81.0
CENTER_FILTER_WAVELENGTH = 955.5
RADIANCE_OFFSET = 1.94718
RADIANCE_SCALING_FACTOR = 0.00664781
REFLECTANCE_SCALING_FACTOR = 0.000632593
MEX:REFLECTANCE_OFFSET = 0.18529
/* IMAGE OBJECT DEFINITIONS */
OBJECT = IMAGE
  INTERCHANGE_FORMAT = BINARY
  LINES = 17764
  LINE_SAMPLES = 1833
  SAMPLE_TYPE = UNSIGNED_INTEGER
  SAMPLE_BITS = 8
  BANDS = 1
  BAND_STORAGE_TYPE = BAND_SEQUENTIAL
  MAXIMUM = 186
  MEAN = 132.953
  MINIMUM = 80
  STANDARD_DEVIATION = 7.01473
END_OBJECT = IMAGE
/* MAP OBJECT DEFINITIONS */
OBJECT = IMAGE_MAP_PROJECTION
  ^DATA_SET_MAP_PROJECTION_CATALOG= "DSMAP.CAT"
  A_AXIS_RADIUS = 3396.0
  B_AXIS_RADIUS = 3396.0
  C_AXIS_RADIUS = 3396.0
  CENTER_LATITUDE = 0.0
  CENTER_LONGITUDE = 219.0
  COORDINATE_SYSTEM_NAME = PLANETOGRAPHIC
  COORDINATE_SYSTEM_TYPE = "BODY-FIXED ROTATING"
  EASTERNMOST_LONGITUDE = 219.608
  FIRST_STANDARD_PARALLEL = "N/A"
  LINE_FIRST_PIXEL = 1
  LINE_LAST_PIXEL = 17764
  LINE_PROJECTION_OFFSET = 10503.125
  MAP_PROJECTION_ROTATION = 0.0
  MAP_PROJECTION_TYPE = SINUSOIDAL
  MAP_RESOLUTION = 1185.42760773333
  MAP_SCALE = 0.05
  MAXIMUM_LATITUDE = 8.833119999999999
  MINIMUM_LATITUDE = -6.12961
  POSITIVE_LONGITUDE_DIRECTION = EAST
  REFERENCE_LATITUDE = "N/A"
  REFERENCE_LONGITUDE = "N/A"
  SAMPLE_FIRST_PIXEL = 1
  SAMPLE_LAST_PIXEL = 1833
  SAMPLE_PROJECTION_OFFSET = 1111.375
  SECOND_STANDARD_PARALLEL = "N/A"
  WESTERNMOST_LONGITUDE = 218.025
END_OBJECT = IMAGE_MAP_PROJECTION
/* The JPEG2000 image data file associated with this label. */
OBJECT = COMPRESSED_FILE
  FILE_NAME = "H2135_0000_IR3.JP2"
  RECORD_TYPE = UNDEFINED
  FILE_RECORDS = UNK
  ENCODING_TYPE = "JP2"
  INTERCHANGE_FORMAT = BINARY
  UNCOMPRESSED_FILE_NAME = "H2135_0000_IR3.IMG"
  REQUIRED_STORAGE_BYTES = "32581575"
  ^DESCRIPTION = "JP2INFO.TXT"
END_OBJECT = COMPRESSED_FILE
END
