PDS_VERSION_ID = PDS3
/* FILE DATA ELEMENTS */
RECORD_TYPE = STREAM
/* POINTERS TO DATA OBJECTS */
^COMPRESSED_FILE = "H2138_0000_ND3.JP2"
/* IDENTIFICATION DATA ELEMENTS */
DATA_SET_ID = "MEX-M-HRSC-5-REFDR-MAPPROJECTED-V3.0"
DATA_SET_NAME = "MARS EXPRESS HRSC MAP PROJECTED REFDR V3.0"
DETECTOR_ID = MEX_HRSC_NADIR
EVENT_TYPE = "MARS-REGIONAL-STEREO-Te-La"
INSTRUMENT_HOST_ID = MEX
INSTRUMENT_HOST_NAME = "MARS EXPRESS"
INSTRUMENT_ID = HRSC
INSTRUMENT_NAME = "HIGH RESOLUTION STEREO CAMERA"
MISSION_NAME = "MARS EXPRESS"
MISSION_PHASE_NAME = MR_Phase_7
PROCESSING_LEVEL_ID = 3
PRODUCT_CREATION_TIME = 2016-03-14T11:38:04.000Z
PRODUCT_ID = "H2138_0000_ND3.JP2"
RELEASE_ID = 0027
REVISION_ID = 0000
/* QUALITY DATA ELEMENTS */
DATA_QUALITY_ID = 1
DATA_QUALITY_DESC = "Data calculated based on original SPICE kernels"
/* TIME DATA ELEMENTS */
SPACECRAFT_CLOCK_START_COUNT = "1/0074684151.56191"
SPACECRAFT_CLOCK_STOP_COUNT = "1/0074684416.15235"
START_TIME = 2005-09-13T09:36:24.107Z
STOP_TIME = 2005-09-13T09:39:47.089Z
/* ORBITAL DATA ELEMENTS */
ASCENDING_NODE_LONGITUDE = 183.4
MAXIMUM_RESOLUTION = 11.4
FOOTPRINT_POINT_LATITUDE = (-11.4285,-11.4281,-11.4276,-11.1809, -10.9351,-10.6893,-10.4436,-10.198, -9.95221,-9.70673,-9.46141,-9.08225, -8.8278,-8.57349,-8.31927,-8.06522, -7.81151,-7.55793,-7.30433,-6.91953, -6.66594,-6.40657,-6.1442,-5.88214, -5.62018,-5.3581,-5.09644,-4.70423, -4.4433,-4.0389,-3.76888,-3.49908, -3.2295,-2.96014,-2.69101,-2.41658, -2.13867,-1.86077,-1.58335,-1.30645, -1.02963,-0.745734,-0.460271,-0.175441, 0.10941,0.393955,0.678203,0.962147, 1.24574,1.52902,1.81197,1.82759,1.82873 ,1.83016,1.40577,1.12224,0.838378, 0.554156,0.269651,-0.157698,-0.442689, -0.728172,-1.0123,-1.28953,-1.56643, -1.98325,-2.26116,-2.6752,-2.94443, -3.21391,-3.48361,-3.75354,-4.02368, -4.42865,-4.68968,-4.95107,-5.2129, -5.47491,-5.73708,-5.99925,-6.26168, -6.65279,-6.90631,-7.16467,-7.41833, -7.79909,-8.05284,-8.30708,-8.56142, -8.81588,-9.07038,-9.45011,-9.81841, -10.064,-10.31,-10.5558,-10.8016, -11.0475,-11.2936,-11.4285)
FOOTPRINT_POINT_LONGITUDE = (283.872,283.547,283.272,282.998, 282.998,282.998,282.997,282.996,282.985 ,282.981,282.979,282.973,282.972, 282.971,282.97,282.969,282.976,282.982, 282.983,282.98,282.969,282.968,282.966, 282.969,282.969,282.958,282.956,282.951 ,282.958,282.954,282.95,282.947,282.943 ,282.939,282.936,282.932,282.928, 282.914,282.908,282.912,282.909,282.892 ,282.888,282.897,282.893,282.888, 282.883,282.877,282.871,282.865,282.859 ,283.278,283.571,283.961,284.097, 284.094,284.091,284.088,284.086,284.082 ,284.085,284.084,284.082,284.076, 284.079,284.068,284.066,284.063,284.061 ,284.059,284.057,284.055,284.053, 284.052,284.055,284.055,284.052,284.049 ,284.045,284.045,284.044,284.044, 284.041,284.036,284.036,284.036,284.04, 284.038,284.037,284.036,284.036,284.034 ,284.031,284.03,284.023,284.023,284.022 ,284.021,284.02,283.872)
ORBIT_NUMBER = 2138
ORBITAL_ECCENTRICITY = 0.573
ORBITAL_INCLINATION = 86.61
ORBITAL_SEMIMAJOR_AXIS = 8621.2
PERIAPSIS_ALTITUDE = 283.63
PERIAPSIS_ARGUMENT_ANGLE = 342.52
PERIAPSIS_TIME = 2005-09-13T09:34:54.000Z
SPACECRAFT_ORIENTATION = (0.0,1.0,0.0)
^MEX_ORIENTATION_DESC = "MEX_ORIENTATION_DESC.TXT"
SPACECRAFT_POINTING_MODE = ACROSSTRACK
^MEX_POINTING_DESC = "MEX_POINTING_DESC.TXT"
RIGHT_ASCENSION = -1e+32
DECLINATION = -1e+32
OFFSET_ANGLE = 0.2
SPACECRAFT_SOLAR_DISTANCE = 2.10115e+08
TARGET_NAME = MARS
/* CAMERA DATA ELEMENTS */
DETECTOR_TEMPERATURE = 18.1666
FOCAL_PLANE_TEMPERATURE = 9.3989
INST_CMPRS_NAME = "DISCRETE COSINE TRANSFORMATION (DCT)"
INST_CMPRS_RATIO = 6.16497
INST_CMPRS_QUALITY = 0
INST_CMPRS_QUANTZ_TBL_ID = 0
INSTRUMENT_TEMPERATURE = 9.6028
LENS_TEMPERATURE = 9.3989
MACROPIXEL_SIZE = 1
MISSING_FRAMES = 3
PIXEL_SUBSAMPLING_FLAG = N
SIGNAL_CHAIN_ID = 0
/* RADIOMETRIC DATA ELEMENTS */
BANDWIDTH = 177.0
CENTER_FILTER_WAVELENGTH = 677.5
RADIANCE_OFFSET = 3.92117
RADIANCE_SCALING_FACTOR = 0.0411888
REFLECTANCE_SCALING_FACTOR = 0.000966006
MEX:REFLECTANCE_OFFSET = 0.0919638
/* IMAGE OBJECT DEFINITIONS */
OBJECT = IMAGE
  INTERCHANGE_FORMAT = BINARY
  LINES = 62872
  LINE_SAMPLES = 6313
  SAMPLE_TYPE = UNSIGNED_INTEGER
  SAMPLE_BITS = 8
  BANDS = 1
  BAND_STORAGE_TYPE = BAND_SEQUENTIAL
  MAXIMUM = 215
  MEAN = 123.807
  MINIMUM = 46
  STANDARD_DEVIATION = 22.126
END_OBJECT = IMAGE
/* MAP OBJECT DEFINITIONS */
OBJECT = IMAGE_MAP_PROJECTION
  ^DATA_SET_MAP_PROJECTION_CATALOG= "DSMAP.CAT"
  A_AXIS_RADIUS = 3396.0
  B_AXIS_RADIUS = 3396.0
  C_AXIS_RADIUS = 3396.0
  CENTER_LATITUDE = 0.0
  CENTER_LONGITUDE = 284.0
  COORDINATE_SYSTEM_NAME = PLANETOGRAPHIC
  COORDINATE_SYSTEM_TYPE = "BODY-FIXED ROTATING"
  EASTERNMOST_LONGITUDE = 284.097
  FIRST_STANDARD_PARALLEL = "N/A"
  LINE_FIRST_PIXEL = 1
  LINE_LAST_PIXEL = 62872
  LINE_PROJECTION_OFFSET = 8680.0
  MAP_PROJECTION_ROTATION = 0.0
  MAP_PROJECTION_TYPE = SINUSOIDAL
  MAP_RESOLUTION = 4741.71043093333
  MAP_SCALE = 0.0125
  MAXIMUM_LATITUDE = 1.83016
  MINIMUM_LATITUDE = -11.4285
  POSITIVE_LONGITUDE_DIRECTION = EAST
  REFERENCE_LATITUDE = "N/A"
  REFERENCE_LONGITUDE = "N/A"
  SAMPLE_FIRST_PIXEL = 1
  SAMPLE_LAST_PIXEL = 6313
  SAMPLE_PROJECTION_OFFSET = 5686.0
  SECOND_STANDARD_PARALLEL = "N/A"
  WESTERNMOST_LONGITUDE = 282.859
END_OBJECT = IMAGE_MAP_PROJECTION
/* The JPEG2000 image data file associated with this label. */
OBJECT = COMPRESSED_FILE
  FILE_NAME = "H2138_0000_ND3.JP2"
  RECORD_TYPE = UNDEFINED
  FILE_RECORDS = UNK
  ENCODING_TYPE = "JP2"
  INTERCHANGE_FORMAT = BINARY
  UNCOMPRESSED_FILE_NAME = "H2138_0000_ND3.IMG"
  REQUIRED_STORAGE_BYTES = "396942501"
  ^DESCRIPTION = "JP2INFO.TXT"
END_OBJECT = COMPRESSED_FILE
END
