PDS_VERSION_ID = PDS3
/* FILE DATA ELEMENTS */
RECORD_TYPE = STREAM
/* POINTERS TO DATA OBJECTS */
^COMPRESSED_FILE = "H2138_0000_S13.JP2"
/* IDENTIFICATION DATA ELEMENTS */
DATA_SET_ID = "MEX-M-HRSC-5-REFDR-MAPPROJECTED-V3.0"
DATA_SET_NAME = "MARS EXPRESS HRSC MAP PROJECTED REFDR V3.0"
DETECTOR_ID = MEX_HRSC_S1
EVENT_TYPE = "MARS-REGIONAL-STEREO-Te-La"
INSTRUMENT_HOST_ID = MEX
INSTRUMENT_HOST_NAME = "MARS EXPRESS"
INSTRUMENT_ID = HRSC
INSTRUMENT_NAME = "HIGH RESOLUTION STEREO CAMERA"
MISSION_NAME = "MARS EXPRESS"
MISSION_PHASE_NAME = MR_Phase_7
PROCESSING_LEVEL_ID = 3
PRODUCT_CREATION_TIME = 2016-03-14T11:38:04.000Z
PRODUCT_ID = "H2138_0000_S13.JP2"
RELEASE_ID = 0027
REVISION_ID = 0000
/* QUALITY DATA ELEMENTS */
DATA_QUALITY_ID = 1
DATA_QUALITY_DESC = "Data calculated based on original SPICE kernels"
/* TIME DATA ELEMENTS */
SPACECRAFT_CLOCK_START_COUNT = "1/0074684151.56191"
SPACECRAFT_CLOCK_STOP_COUNT = "1/0074684416.15235"
START_TIME = 2005-09-13T09:36:49.999Z
STOP_TIME = 2005-09-13T09:40:21.386Z
/* ORBITAL DATA ELEMENTS */
ASCENDING_NODE_LONGITUDE = 183.4
MAXIMUM_RESOLUTION = 24.7
FOOTPRINT_POINT_LATITUDE = (-11.4196,-11.4238,-11.4283,-11.4307, -11.2908,-10.9215,-10.6708,-10.4203, -10.1715,-9.94168,-9.58072,-9.21421, -8.96796,-8.59162,-8.34195,-8.08014, -7.80167,-7.52938,-7.26887,-7.01327, -6.65303,-6.39798,-6.00129,-5.72011, -5.47405,-5.21636,-4.82855,-4.40944, -4.14021,-3.87148,-3.60384,-3.20295, -2.93664,-2.66256,-2.25127,-1.86142, -1.59353,-1.30147,-1.02923,-0.782445, -0.516627,-0.20981,0.0626397,0.332895, 0.601431,0.868175,1.17814,1.49491, 1.80961,1.82727,1.83455,1.8376,1.84068, 1.84464,1.84761,1.52931,1.20951,0.8962, 0.629035,0.224658,-0.0456817,-0.334994, -0.755869,-1.02804,-1.43696,-1.71218, -1.9574,-2.22502,-2.50002,-2.91253, -3.1794,-3.57888,-3.84717,-4.11581, -4.38891,-4.81174,-5.2052,-5.45482, -5.70671,-5.97683,-6.2427,-6.62689, -6.88891,-7.11899,-7.37991,-7.64946, -8.04909,-8.31157,-8.56038,-8.93936, -9.19082,-9.43699,-9.68642,-9.9234, -10.2747,-10.522,-10.7739,-11.0241, -11.268,-11.4196)
FOOTPRINT_POINT_LONGITUDE = (283.911,283.586,283.26,283.096,282.987 ,282.986,282.986,282.984,282.983, 282.973,282.965,282.96,282.958,282.956, 282.954,282.954,282.961,282.966,282.966 ,282.964,282.951,282.948,282.946, 282.951,282.941,282.936,282.93,282.936, 282.932,282.928,282.924,282.918,282.914 ,282.91,282.903,282.887,282.881,282.884 ,282.879,282.864,282.857,282.866, 282.862,282.856,282.851,282.845,282.837 ,282.83,282.821,283.065,283.358,283.523 ,283.726,283.89,284.134,284.13,284.127, 284.123,284.119,284.115,284.112,284.113 ,284.112,284.109,284.105,284.102, 284.094,284.09,284.087,284.084,284.081, 284.077,284.075,284.073,284.072,284.075 ,284.072,284.067,284.063,284.063, 284.061,284.059,284.059,284.052,284.051 ,284.052,284.053,284.053,284.051, 284.049,284.048,284.046,284.045,284.041 ,284.035,284.033,284.032,284.031, 284.029,283.911)
ORBIT_NUMBER = 2138
ORBITAL_ECCENTRICITY = 0.573
ORBITAL_INCLINATION = 86.61
ORBITAL_SEMIMAJOR_AXIS = 8621.2
PERIAPSIS_ALTITUDE = 283.63
PERIAPSIS_ARGUMENT_ANGLE = 342.52
PERIAPSIS_TIME = 2005-09-13T09:34:54.000Z
SPACECRAFT_ORIENTATION = (0.0,1.0,0.0)
^MEX_ORIENTATION_DESC = "MEX_ORIENTATION_DESC.TXT"
SPACECRAFT_POINTING_MODE = ACROSSTRACK
^MEX_POINTING_DESC = "MEX_POINTING_DESC.TXT"
RIGHT_ASCENSION = -1e+32
DECLINATION = -1e+32
OFFSET_ANGLE = 0.2
SPACECRAFT_SOLAR_DISTANCE = 2.10115e+08
TARGET_NAME = MARS
/* CAMERA DATA ELEMENTS */
DETECTOR_TEMPERATURE = 17.5549
FOCAL_PLANE_TEMPERATURE = 9.3989
INST_CMPRS_NAME = "DISCRETE COSINE TRANSFORMATION (DCT)"
INST_CMPRS_RATIO = 8.06529
INST_CMPRS_QUALITY = 0
INST_CMPRS_QUANTZ_TBL_ID = 0
INSTRUMENT_TEMPERATURE = 9.6028
LENS_TEMPERATURE = 9.3989
MACROPIXEL_SIZE = 2
MISSING_FRAMES = 2
PIXEL_SUBSAMPLING_FLAG = N
SIGNAL_CHAIN_ID = 1
/* RADIOMETRIC DATA ELEMENTS */
BANDWIDTH = 180.0
CENTER_FILTER_WAVELENGTH = 677.0
RADIANCE_OFFSET = 4.53641
RADIANCE_SCALING_FACTOR = 0.0423817
REFLECTANCE_SCALING_FACTOR = 0.000976193
MEX:REFLECTANCE_OFFSET = 0.104489
/* IMAGE OBJECT DEFINITIONS */
OBJECT = IMAGE
  INTERCHANGE_FORMAT = BINARY
  LINES = 31436
  LINE_SAMPLES = 3157
  SAMPLE_TYPE = UNSIGNED_INTEGER
  SAMPLE_BITS = 8
  BANDS = 1
  BAND_STORAGE_TYPE = BAND_SEQUENTIAL
  MAXIMUM = 237
  MEAN = 140.72
  MINIMUM = 60
  STANDARD_DEVIATION = 22.7777
END_OBJECT = IMAGE
/* MAP OBJECT DEFINITIONS */
OBJECT = IMAGE_MAP_PROJECTION
  ^DATA_SET_MAP_PROJECTION_CATALOG= "DSMAP.CAT"
  A_AXIS_RADIUS = 3396.0
  B_AXIS_RADIUS = 3396.0
  C_AXIS_RADIUS = 3396.0
  CENTER_LATITUDE = 0.0
  CENTER_LONGITUDE = 284.0
  COORDINATE_SYSTEM_NAME = PLANETOGRAPHIC
  COORDINATE_SYSTEM_TYPE = "BODY-FIXED ROTATING"
  EASTERNMOST_LONGITUDE = 284.134
  FIRST_STANDARD_PARALLEL = "N/A"
  LINE_FIRST_PIXEL = 1
  LINE_LAST_PIXEL = 31436
  LINE_PROJECTION_OFFSET = 4339.75
  MAP_PROJECTION_ROTATION = 0.0
  MAP_PROJECTION_TYPE = SINUSOIDAL
  MAP_RESOLUTION = 2370.85521546667
  MAP_SCALE = 0.025
  MAXIMUM_LATITUDE = 1.84761
  MINIMUM_LATITUDE = -11.4307
  POSITIVE_LONGITUDE_DIRECTION = EAST
  REFERENCE_LATITUDE = "N/A"
  REFERENCE_LONGITUDE = "N/A"
  SAMPLE_FIRST_PIXEL = 1
  SAMPLE_LAST_PIXEL = 3157
  SAMPLE_PROJECTION_OFFSET = 2842.75
  SECOND_STANDARD_PARALLEL = "N/A"
  WESTERNMOST_LONGITUDE = 282.821
END_OBJECT = IMAGE_MAP_PROJECTION
/* The JPEG2000 image data file associated with this label. */
OBJECT = COMPRESSED_FILE
  FILE_NAME = "H2138_0000_S13.JP2"
  RECORD_TYPE = UNDEFINED
  FILE_RECORDS = UNK
  ENCODING_TYPE = "JP2"
  INTERCHANGE_FORMAT = BINARY
  UNCOMPRESSED_FILE_NAME = "H2138_0000_S13.IMG"
  REQUIRED_STORAGE_BYTES = "99265551"
  ^DESCRIPTION = "JP2INFO.TXT"
END_OBJECT = COMPRESSED_FILE
END
