PDS_VERSION_ID = PDS3
/* FILE DATA ELEMENTS */
RECORD_TYPE = STREAM
/* POINTERS TO DATA OBJECTS */
^COMPRESSED_FILE = "H2144_0000_P23.JP2"
/* IDENTIFICATION DATA ELEMENTS */
DATA_SET_ID = "MEX-M-HRSC-5-REFDR-MAPPROJECTED-V3.0"
DATA_SET_NAME = "MARS EXPRESS HRSC MAP PROJECTED REFDR V3.0"
DETECTOR_ID = MEX_HRSC_P2
EVENT_TYPE = "MARS-LOCAL-MAPPING-Im"
INSTRUMENT_HOST_ID = MEX
INSTRUMENT_HOST_NAME = "MARS EXPRESS"
INSTRUMENT_ID = HRSC
INSTRUMENT_NAME = "HIGH RESOLUTION STEREO CAMERA"
MISSION_NAME = "MARS EXPRESS"
MISSION_PHASE_NAME = MR_Phase_7
PROCESSING_LEVEL_ID = 3
PRODUCT_CREATION_TIME = 2016-03-14T11:38:04.000Z
PRODUCT_ID = "H2144_0000_P23.JP2"
RELEASE_ID = 0027
REVISION_ID = 0000
/* QUALITY DATA ELEMENTS */
DATA_QUALITY_ID = 1
DATA_QUALITY_DESC = "Data calculated based on original SPICE kernels"
/* TIME DATA ELEMENTS */
SPACECRAFT_CLOCK_START_COUNT = "1/0074829147.56201"
SPACECRAFT_CLOCK_STOP_COUNT = "1/0074829395.55320"
START_TIME = 2005-09-15T01:52:43.876Z
STOP_TIME = 2005-09-15T01:55:55.600Z
/* ORBITAL DATA ELEMENTS */
ASCENDING_NODE_LONGITUDE = 183.28
MAXIMUM_RESOLUTION = 46.2
FOOTPRINT_POINT_LATITUDE = (-20.3646,-20.3641,-20.3635,-20.3625, -20.3614,-20.3541,-20.098,-19.8436, -19.4728,-19.2253,-18.9789,-18.7311, -18.485,-18.2379,-17.9904,-17.7416, -17.368,-16.9955,-16.748,-16.5001, -16.2525,-16.0021,-15.6278,-15.3783, -15.0052,-14.6315,-14.3823,-14.1344, -13.8853,-13.6301,-13.37,-12.9804, -12.5911,-12.3317,-12.0727,-11.8144, -11.553,-11.2921,-11.0319,-10.772, -10.5124,-10.2577,-9.9973,-9.73586, -9.47499,-9.21492,-8.94805,-8.67813, -8.40847,-8.00364,-7.73424,-7.57271, -7.57265,-7.57161,-7.5709,-7.5704, -7.84078,-8.11096,-8.38048,-8.65035, -9.05552,-9.32004,-9.58148,-9.84204, -10.2337,-10.4885,-10.7482,-11.1386, -11.3992,-11.659,-11.9176,-12.1777, -12.4374,-12.6957,-12.955,-13.344, -13.6028,-13.9855,-14.2345,-14.484, -14.7332,-15.107,-15.3566,-15.7306, -15.9802,-16.3538,-16.7257,-16.9747, -17.2228,-17.5971,-17.8489,-18.097, -18.3447,-18.5913,-18.9618,-19.2089, -19.5796,-19.8264,-20.0796,-20.3646)
FOOTPRINT_POINT_LONGITUDE = (54.5723,54.3955,54.2482,54.091,53.9438 ,53.635,53.6383,53.6413,53.6453,53.6477 ,53.6506,53.6528,53.6557,53.6581, 53.6603,53.6618,53.6639,53.6663,53.6682 ,53.6698,53.6716,53.672,53.6731,53.6737 ,53.6752,53.6762,53.6767,53.6778, 53.6782,53.6791,53.679,53.6789,53.6788, 53.6786,53.6786,53.6789,53.6776,53.6765 ,53.6755,53.6747,53.674,53.6753,53.6739 ,53.672,53.6703,53.6689,53.6668,53.6651 ,53.6635,53.6607,53.6589,53.7449, 53.9997,54.3035,54.4898,54.7092,54.7079 ,54.7069,54.7061,54.7053,54.7039, 54.7018,54.7004,54.6994,54.6976,54.6993 ,54.6987,54.6976,54.6967,54.6962, 54.6963,54.6957,54.6953,54.6955,54.6952 ,54.6949,54.6949,54.6943,54.6941, 54.6938,54.6936,54.6933,54.6929,54.6925 ,54.692,54.6916,54.692,54.6917,54.6918, 54.6909,54.6892,54.6892,54.6893,54.6899 ,54.6905,54.6908,54.6911,54.6914, 54.6918,54.5723)
ORBIT_NUMBER = 2144
ORBITAL_ECCENTRICITY = 0.573
ORBITAL_INCLINATION = 86.63
ORBITAL_SEMIMAJOR_AXIS = 8618.8
PERIAPSIS_ALTITUDE = 282.96
PERIAPSIS_ARGUMENT_ANGLE = 341.46
PERIAPSIS_TIME = 2005-09-15T01:53:28.000Z
SPACECRAFT_ORIENTATION = (0.0,1.0,0.0)
^MEX_ORIENTATION_DESC = "MEX_ORIENTATION_DESC.TXT"
SPACECRAFT_POINTING_MODE = NADIR
^MEX_POINTING_DESC = "MEX_POINTING_DESC.TXT"
RIGHT_ASCENSION = -1e+32
DECLINATION = -1e+32
OFFSET_ANGLE = -1e+32
SPACECRAFT_SOLAR_DISTANCE = 2.10312e+08
TARGET_NAME = MARS
/* CAMERA DATA ELEMENTS */
DETECTOR_TEMPERATURE = 18.5744
FOCAL_PLANE_TEMPERATURE = 9.195
INST_CMPRS_NAME = "DISCRETE COSINE TRANSFORMATION (DCT)"
INST_CMPRS_RATIO = 9.74021
INST_CMPRS_QUALITY = 0
INST_CMPRS_QUANTZ_TBL_ID = 0
INSTRUMENT_TEMPERATURE = 11.4379
LENS_TEMPERATURE = 9.6028
MACROPIXEL_SIZE = 4
MISSING_FRAMES = 0
PIXEL_SUBSAMPLING_FLAG = N
SIGNAL_CHAIN_ID = 3
/* RADIOMETRIC DATA ELEMENTS */
BANDWIDTH = 177.0
CENTER_FILTER_WAVELENGTH = 676.5
RADIANCE_OFFSET = 5.19254
RADIANCE_SCALING_FACTOR = 0.0255181
REFLECTANCE_SCALING_FACTOR = 0.000598457
MEX:REFLECTANCE_OFFSET = 0.121777
/* IMAGE OBJECT DEFINITIONS */
OBJECT = IMAGE
  INTERCHANGE_FORMAT = BINARY
  LINES = 15182
  LINE_SAMPLES = 1352
  SAMPLE_TYPE = UNSIGNED_INTEGER
  SAMPLE_BITS = 8
  BANDS = 1
  BAND_STORAGE_TYPE = BAND_SEQUENTIAL
  MAXIMUM = 187
  MEAN = 113.647
  MINIMUM = 71
  STANDARD_DEVIATION = 14.3427
END_OBJECT = IMAGE
/* MAP OBJECT DEFINITIONS */
OBJECT = IMAGE_MAP_PROJECTION
  ^DATA_SET_MAP_PROJECTION_CATALOG= "DSMAP.CAT"
  A_AXIS_RADIUS = 3396.0
  B_AXIS_RADIUS = 3396.0
  C_AXIS_RADIUS = 3396.0
  CENTER_LATITUDE = 0.0
  CENTER_LONGITUDE = 54.0
  COORDINATE_SYSTEM_NAME = PLANETOGRAPHIC
  COORDINATE_SYSTEM_TYPE = "BODY-FIXED ROTATING"
  EASTERNMOST_LONGITUDE = 54.7092
  FIRST_STANDARD_PARALLEL = "N/A"
  LINE_FIRST_PIXEL = 1
  LINE_LAST_PIXEL = 15182
  LINE_PROJECTION_OFFSET = -8964.875
  MAP_PROJECTION_ROTATION = 0.0
  MAP_PROJECTION_TYPE = SINUSOIDAL
  MAP_RESOLUTION = 1185.42760773333
  MAP_SCALE = 0.05
  MAXIMUM_LATITUDE = -7.5704
  MINIMUM_LATITUDE = -20.3646
  POSITIVE_LONGITUDE_DIRECTION = EAST
  REFERENCE_LATITUDE = "N/A"
  REFERENCE_LONGITUDE = "N/A"
  SAMPLE_FIRST_PIXEL = 1
  SAMPLE_LAST_PIXEL = 1352
  SAMPLE_PROJECTION_OFFSET = 462.375
  SECOND_STANDARD_PARALLEL = "N/A"
  WESTERNMOST_LONGITUDE = 53.635
END_OBJECT = IMAGE_MAP_PROJECTION
/* The JPEG2000 image data file associated with this label. */
OBJECT = COMPRESSED_FILE
  FILE_NAME = "H2144_0000_P23.JP2"
  RECORD_TYPE = UNDEFINED
  FILE_RECORDS = UNK
  ENCODING_TYPE = "JP2"
  INTERCHANGE_FORMAT = BINARY
  UNCOMPRESSED_FILE_NAME = "H2144_0000_P23.IMG"
  REQUIRED_STORAGE_BYTES = "20544992"
  ^DESCRIPTION = "JP2INFO.TXT"
END_OBJECT = COMPRESSED_FILE
END
