PDS_VERSION_ID = PDS3
/* FILE DATA ELEMENTS */
RECORD_TYPE = STREAM
/* POINTERS TO DATA OBJECTS */
^COMPRESSED_FILE = "H2148_0000_P23.JP2"
/* IDENTIFICATION DATA ELEMENTS */
DATA_SET_ID = "MEX-M-HRSC-5-REFDR-MAPPROJECTED-V3.0"
DATA_SET_NAME = "MARS EXPRESS HRSC MAP PROJECTED REFDR V3.0"
DETECTOR_ID = MEX_HRSC_P2
EVENT_TYPE = "MARS-LOCAL-MAPPING-Im-Eo"
INSTRUMENT_HOST_ID = MEX
INSTRUMENT_HOST_NAME = "MARS EXPRESS"
INSTRUMENT_ID = HRSC
INSTRUMENT_NAME = "HIGH RESOLUTION STEREO CAMERA"
MISSION_NAME = "MARS EXPRESS"
MISSION_PHASE_NAME = MR_Phase_7
PROCESSING_LEVEL_ID = 3
PRODUCT_CREATION_TIME = 2016-03-14T11:38:04.000Z
PRODUCT_ID = "H2148_0000_P23.JP2"
RELEASE_ID = 0027
REVISION_ID = 0000
/* QUALITY DATA ELEMENTS */
DATA_QUALITY_ID = 1
DATA_QUALITY_DESC = "Data calculated based on original SPICE kernels"
/* TIME DATA ELEMENTS */
SPACECRAFT_CLOCK_START_COUNT = "1/0074925414.57162"
SPACECRAFT_CLOCK_STOP_COUNT = "1/0074925667.63049"
START_TIME = 2005-09-16T04:37:22.009Z
STOP_TIME = 2005-09-16T04:40:15.898Z
/* ORBITAL DATA ELEMENTS */
ASCENDING_NODE_LONGITUDE = 183.19
MAXIMUM_RESOLUTION = 32.1
FOOTPRINT_POINT_LATITUDE = (-50.0497,-50.0369,-50.0213,-50.0037, -49.9841,-49.9624,-49.9387,-49.5555, -49.2209,-49.0002,-48.6691,-48.4515, -48.2349,-48.0185,-47.7973,-47.5821, -47.3687,-47.1586,-46.9464,-46.7335, -46.5263,-46.3173,-46.1101,-45.8014, -45.5969,-45.3921,-45.0888,-44.8883, -44.6891,-44.4911,-44.2952,-43.9982, -43.7986,-43.6039,-43.4101,-43.2146, -43.0196,-42.8268,-42.6362,-42.4454, -42.252,-42.0576,-41.6893,-41.5022, -41.2205,-41.0372,-40.7626,-40.3967, -40.2085,-40.0189,-39.8324,-39.8505, -39.8756,-39.8871,-39.8958,-39.998, -40.1836,-40.3696,-40.5544,-40.7388, -41.1047,-41.3835,-41.5718,-41.7609, -41.9494,-42.1363,-42.4235,-42.6154, -42.8069,-42.9973,-43.1929,-43.4862, -43.6815,-43.8776,-44.0768,-44.3755, -44.5745,-44.7777,-44.9819,-45.1856, -45.4885,-45.6932,-45.8977,-46.1019, -46.3102,-46.5197,-46.7283,-47.0479, -47.2625,-47.5834,-47.7991,-48.1223, -48.3409,-48.5602,-48.7791,-49.0015, -49.3349,-49.5591,-49.7853,-50.0497)
FOOTPRINT_POINT_LONGITUDE = (21.0234,20.622,20.1934,19.7637,19.3336 ,18.9026,18.47,18.3743,18.4252,18.4581, 18.5064,18.5374,18.569,18.5998,18.6238, 18.6522,18.6813,18.7095,18.736,18.7621, 18.7883,18.8131,18.8393,18.8759,18.8999 ,18.9237,18.9584,18.9813,19.0053, 19.0291,19.0513,19.0824,19.1019,19.1218 ,19.1416,19.16,19.1789,19.1974,19.2155, 19.2334,19.2494,19.2645,19.3024,19.3191 ,19.3433,19.3594,19.383,19.4146,19.4264 ,19.4372,19.4505,19.8205,20.3077, 20.6691,20.9434,21.2395,21.2383,21.2368 ,21.2356,21.2344,21.2329,21.231,21.2298 ,21.2281,21.2265,21.2254,21.2236, 21.2222,21.2208,21.2197,21.2182,21.2159 ,21.2143,21.2125,21.2109,21.2083, 21.2064,21.204,21.2016,21.1992,21.1975, 21.1963,21.1949,21.1936,21.1923,21.1902 ,21.1884,21.1843,21.1813,21.1774, 21.1755,21.1723,21.1701,21.1678,21.1653 ,21.1628,21.1591,21.1565,21.1537, 21.0234)
ORBIT_NUMBER = 2148
ORBITAL_ECCENTRICITY = 0.573
ORBITAL_INCLINATION = 86.61
ORBITAL_SEMIMAJOR_AXIS = 8616.67
PERIAPSIS_ALTITUDE = 283.27
PERIAPSIS_ARGUMENT_ANGLE = 340.73
PERIAPSIS_TIME = 2005-09-16T04:45:56.000Z
SPACECRAFT_ORIENTATION = (0.0,1.0,0.0)
^MEX_ORIENTATION_DESC = "MEX_ORIENTATION_DESC.TXT"
SPACECRAFT_POINTING_MODE = ACROSSTRACK
^MEX_POINTING_DESC = "MEX_POINTING_DESC.TXT"
RIGHT_ASCENSION = -1e+32
DECLINATION = -1e+32
OFFSET_ANGLE = 0.3
SPACECRAFT_SOLAR_DISTANCE = 2.10446e+08
TARGET_NAME = MARS
/* CAMERA DATA ELEMENTS */
DETECTOR_TEMPERATURE = 18.9822
FOCAL_PLANE_TEMPERATURE = 9.8067
INST_CMPRS_NAME = "DISCRETE COSINE TRANSFORMATION (DCT)"
INST_CMPRS_RATIO = 6.96782
INST_CMPRS_QUALITY = 0
INST_CMPRS_QUANTZ_TBL_ID = 0
INSTRUMENT_TEMPERATURE = 11.4379
LENS_TEMPERATURE = 9.8067
MACROPIXEL_SIZE = 2
MISSING_FRAMES = 0
PIXEL_SUBSAMPLING_FLAG = N
SIGNAL_CHAIN_ID = 3
/* RADIOMETRIC DATA ELEMENTS */
BANDWIDTH = 177.0
CENTER_FILTER_WAVELENGTH = 676.5
RADIANCE_OFFSET = 3.20362
RADIANCE_SCALING_FACTOR = 0.0271822
REFLECTANCE_SCALING_FACTOR = 0.000638293
MEX:REFLECTANCE_OFFSET = 0.0752273
/* IMAGE OBJECT DEFINITIONS */
OBJECT = IMAGE
  INTERCHANGE_FORMAT = BINARY
  LINES = 24074
  LINE_SAMPLES = 4680
  SAMPLE_TYPE = UNSIGNED_INTEGER
  SAMPLE_BITS = 8
  BANDS = 1
  BAND_STORAGE_TYPE = BAND_SEQUENTIAL
  MAXIMUM = 184
  MEAN = 138.318
  MINIMUM = 52
  STANDARD_DEVIATION = 16.8077
END_OBJECT = IMAGE
/* MAP OBJECT DEFINITIONS */
OBJECT = IMAGE_MAP_PROJECTION
  ^DATA_SET_MAP_PROJECTION_CATALOG= "DSMAP.CAT"
  A_AXIS_RADIUS = 3396.0
  B_AXIS_RADIUS = 3396.0
  C_AXIS_RADIUS = 3396.0
  CENTER_LATITUDE = 0.0
  CENTER_LONGITUDE = 20.0
  COORDINATE_SYSTEM_NAME = PLANETOGRAPHIC
  COORDINATE_SYSTEM_TYPE = "BODY-FIXED ROTATING"
  EASTERNMOST_LONGITUDE = 21.2395
  FIRST_STANDARD_PARALLEL = "N/A"
  LINE_FIRST_PIXEL = 1
  LINE_LAST_PIXEL = 24074
  LINE_PROJECTION_OFFSET = -94441.25
  MAP_PROJECTION_ROTATION = 0.0
  MAP_PROJECTION_TYPE = SINUSOIDAL
  MAP_RESOLUTION = 2370.85521546667
  MAP_SCALE = 0.025
  MAXIMUM_LATITUDE = -39.8324
  MINIMUM_LATITUDE = -50.0497
  POSITIVE_LONGITUDE_DIRECTION = EAST
  REFERENCE_LATITUDE = "N/A"
  REFERENCE_LONGITUDE = "N/A"
  SAMPLE_FIRST_PIXEL = 1
  SAMPLE_LAST_PIXEL = 4680
  SAMPLE_PROJECTION_OFFSET = 2451.75
  SECOND_STANDARD_PARALLEL = "N/A"
  WESTERNMOST_LONGITUDE = 18.3743
END_OBJECT = IMAGE_MAP_PROJECTION
/* The JPEG2000 image data file associated with this label. */
OBJECT = COMPRESSED_FILE
  FILE_NAME = "H2148_0000_P23.JP2"
  RECORD_TYPE = UNDEFINED
  FILE_RECORDS = UNK
  ENCODING_TYPE = "JP2"
  INTERCHANGE_FORMAT = BINARY
  UNCOMPRESSED_FILE_NAME = "H2148_0000_P23.IMG"
  REQUIRED_STORAGE_BYTES = "112694400"
  ^DESCRIPTION = "JP2INFO.TXT"
END_OBJECT = COMPRESSED_FILE
END
