PDS_VERSION_ID = PDS3
/* FILE DATA ELEMENTS */
RECORD_TYPE = STREAM
/* POINTERS TO DATA OBJECTS */
^COMPRESSED_FILE = "H2148_0009_S23.JP2"
/* IDENTIFICATION DATA ELEMENTS */
DATA_SET_ID = "MEX-M-HRSC-5-REFDR-MAPPROJECTED-V3.0"
DATA_SET_NAME = "MARS EXPRESS HRSC MAP PROJECTED REFDR V3.0"
DETECTOR_ID = MEX_HRSC_S2
EVENT_TYPE = "MARS-LOCAL-STEREO-Im-Fl"
INSTRUMENT_HOST_ID = MEX
INSTRUMENT_HOST_NAME = "MARS EXPRESS"
INSTRUMENT_ID = HRSC
INSTRUMENT_NAME = "HIGH RESOLUTION STEREO CAMERA"
MISSION_NAME = "MARS EXPRESS"
MISSION_PHASE_NAME = MR_Phase_7
PROCESSING_LEVEL_ID = 3
PRODUCT_CREATION_TIME = 2016-03-14T11:38:04.000Z
PRODUCT_ID = "H2148_0009_S23.JP2"
RELEASE_ID = 0027
REVISION_ID = 0000
/* QUALITY DATA ELEMENTS */
DATA_QUALITY_ID = 1
DATA_QUALITY_DESC = "Data calculated based on original SPICE kernels"
/* TIME DATA ELEMENTS */
SPACECRAFT_CLOCK_START_COUNT = "1/0074926306.57173"
SPACECRAFT_CLOCK_STOP_COUNT = "1/0074926599.19692"
START_TIME = 2005-09-16T04:51:53.992Z
STOP_TIME = 2005-09-16T04:54:46.272Z
/* ORBITAL DATA ELEMENTS */
ASCENDING_NODE_LONGITUDE = 183.19
MAXIMUM_RESOLUTION = 33.7
FOOTPRINT_POINT_LATITUDE = (6.48668,6.48884,6.49123,6.49388, 6.49684,6.50002,6.50622,6.70718,6.90843 ,7.10923,7.40968,7.61002,7.91046, 8.11317,8.42192,8.62751,8.8337,9.04305, 9.25337,9.46518,9.67541,9.88639,10.2103 ,10.4259,10.7493,10.9682,11.188,11.4074 ,11.627,11.8518,12.19,12.413,12.7559, 12.9857,13.2144,13.4454,13.6789,13.9134 ,14.147,14.3862,14.745,14.9841,15.2274, 15.471,15.8379,16.0853,16.3333,16.584, 16.8362,17.0877,17.3462,17.5989,17.7502 ,17.7486,17.7468,17.7422,17.7401, 17.4821,17.0978,16.8457,16.5933,16.3421 ,16.0941,15.8461,15.6004,15.357,15.1128 ,14.8689,14.6304,14.3916,14.1539, 13.9209,13.6862,13.3346,12.9888,12.6513 ,12.4167,12.1924,11.9671,11.7416, 11.5195,11.2995,11.0789,10.7485,10.4251 ,10.209,9.88677,9.57009,9.35946,9.04467 ,8.83529,8.63608,8.43089,8.2185,8.01128 ,7.71121,7.31491,7.11414,6.81166, 6.48668)
FOOTPRINT_POINT_LONGITUDE = (21.3901,21.1746,20.9585,20.7415, 20.5241,20.3056,20.067,20.0621,20.057, 20.052,20.0446,20.0396,20.0318,20.027, 20.0186,20.013,20.007,20.0005,19.9947, 19.9882,19.9823,19.9759,19.966,19.9594, 19.9495,19.9427,19.9362,19.9296,19.9229 ,19.9152,19.9042,19.8977,19.8858, 19.8781,19.8708,19.8629,19.8553,19.8472 ,19.8393,19.8305,19.8177,19.8093, 19.8007,19.7917,19.7784,19.7695,19.7602 ,19.7507,19.7412,19.7319,19.7208, 19.7126,20.0499,20.4111,20.7332,21.2434 ,21.5259,21.6582,21.6495,21.6438, 21.6382,21.6327,21.6273,21.6221,21.617, 21.6119,21.6068,21.6017,21.597,21.5924, 21.5879,21.5837,21.5792,21.5726,21.5662 ,21.5614,21.556,21.5523,21.5484,21.5446 ,21.5409,21.5373,21.5338,21.5284, 21.5234,21.52,21.5154,21.5106,21.5076, 21.5034,21.5003,21.4986,21.4959,21.4921 ,21.4892,21.4857,21.4815,21.479,21.4752 ,21.3901)
ORBIT_NUMBER = 2148
ORBITAL_ECCENTRICITY = 0.573
ORBITAL_INCLINATION = 86.61
ORBITAL_SEMIMAJOR_AXIS = 8616.67
PERIAPSIS_ALTITUDE = 283.27
PERIAPSIS_ARGUMENT_ANGLE = 340.73
PERIAPSIS_TIME = 2005-09-16T04:45:56.000Z
SPACECRAFT_ORIENTATION = (0.0,1.0,0.0)
^MEX_ORIENTATION_DESC = "MEX_ORIENTATION_DESC.TXT"
SPACECRAFT_POINTING_MODE = ACROSSTRACK
^MEX_POINTING_DESC = "MEX_POINTING_DESC.TXT"
RIGHT_ASCENSION = -1e+32
DECLINATION = -1e+32
OFFSET_ANGLE = 0.3
SPACECRAFT_SOLAR_DISTANCE = 2.10446e+08
TARGET_NAME = MARS
/* CAMERA DATA ELEMENTS */
DETECTOR_TEMPERATURE = 21.6329
FOCAL_PLANE_TEMPERATURE = 9.6028
INST_CMPRS_NAME = "DISCRETE COSINE TRANSFORMATION (DCT)"
INST_CMPRS_RATIO = 9.73901
INST_CMPRS_QUALITY = 0
INST_CMPRS_QUANTZ_TBL_ID = 0
INSTRUMENT_TEMPERATURE = 14.7003
LENS_TEMPERATURE = 10.4184
MACROPIXEL_SIZE = 2
MISSING_FRAMES = 0
PIXEL_SUBSAMPLING_FLAG = N
SIGNAL_CHAIN_ID = 1
/* RADIOMETRIC DATA ELEMENTS */
BANDWIDTH = 178.0
CENTER_FILTER_WAVELENGTH = 679.0
RADIANCE_OFFSET = 8.03941
RADIANCE_SCALING_FACTOR = 0.0233604
REFLECTANCE_SCALING_FACTOR = 0.00054789
MEX:REFLECTANCE_OFFSET = 0.188554
/* IMAGE OBJECT DEFINITIONS */
OBJECT = IMAGE
  INTERCHANGE_FORMAT = BINARY
  LINES = 26619
  LINE_SAMPLES = 4903
  SAMPLE_TYPE = UNSIGNED_INTEGER
  SAMPLE_BITS = 8
  BANDS = 1
  BAND_STORAGE_TYPE = BAND_SEQUENTIAL
  MAXIMUM = 293
  MEAN = 221.531
  MINIMUM = 148
  STANDARD_DEVIATION = 9.80567
END_OBJECT = IMAGE
/* MAP OBJECT DEFINITIONS */
OBJECT = IMAGE_MAP_PROJECTION
  ^DATA_SET_MAP_PROJECTION_CATALOG= "DSMAP.CAT"
  A_AXIS_RADIUS = 3396.0
  B_AXIS_RADIUS = 3396.0
  C_AXIS_RADIUS = 3396.0
  CENTER_LATITUDE = 0.0
  CENTER_LONGITUDE = 21.0
  COORDINATE_SYSTEM_NAME = PLANETOGRAPHIC
  COORDINATE_SYSTEM_TYPE = "BODY-FIXED ROTATING"
  EASTERNMOST_LONGITUDE = 21.6582
  FIRST_STANDARD_PARALLEL = "N/A"
  LINE_FIRST_PIXEL = 1
  LINE_LAST_PIXEL = 26619
  LINE_PROJECTION_OFFSET = 41981.75
  MAP_PROJECTION_ROTATION = 0.0
  MAP_PROJECTION_TYPE = SINUSOIDAL
  MAP_RESOLUTION = 2370.85521546667
  MAP_SCALE = 0.025
  MAXIMUM_LATITUDE = 17.7502
  MINIMUM_LATITUDE = 6.48668
  POSITIVE_LONGITUDE_DIRECTION = EAST
  REFERENCE_LATITUDE = "N/A"
  REFERENCE_LONGITUDE = "N/A"
  SAMPLE_FIRST_PIXEL = 1
  SAMPLE_LAST_PIXEL = 4903
  SAMPLE_PROJECTION_OFFSET = 3171.75
  SECOND_STANDARD_PARALLEL = "N/A"
  WESTERNMOST_LONGITUDE = 19.7126
END_OBJECT = IMAGE_MAP_PROJECTION
/* The JPEG2000 image data file associated with this label. */
OBJECT = COMPRESSED_FILE
  FILE_NAME = "H2148_0009_S23.JP2"
  RECORD_TYPE = UNDEFINED
  FILE_RECORDS = UNK
  ENCODING_TYPE = "JP2"
  INTERCHANGE_FORMAT = BINARY
  UNCOMPRESSED_FILE_NAME = "H2148_0009_S23.IMG"
  REQUIRED_STORAGE_BYTES = "130537472"
  ^DESCRIPTION = "JP2INFO.TXT"
END_OBJECT = COMPRESSED_FILE
END
