PDS_VERSION_ID = PDS3
/* FILE DATA ELEMENTS */
RECORD_TYPE = STREAM
/* POINTERS TO DATA OBJECTS */
^COMPRESSED_FILE = "H2149_0000_RE3.JP2"
/* IDENTIFICATION DATA ELEMENTS */
DATA_SET_ID = "MEX-M-HRSC-5-REFDR-MAPPROJECTED-V3.0"
DATA_SET_NAME = "MARS EXPRESS HRSC MAP PROJECTED REFDR V3.0"
DETECTOR_ID = MEX_HRSC_RED
EVENT_TYPE = "MARS-REGIONAL-MAPPING-Vo-Te-Lc"
INSTRUMENT_HOST_ID = MEX
INSTRUMENT_HOST_NAME = "MARS EXPRESS"
INSTRUMENT_ID = HRSC
INSTRUMENT_NAME = "HIGH RESOLUTION STEREO CAMERA"
MISSION_NAME = "MARS EXPRESS"
MISSION_PHASE_NAME = MR_Phase_7
PROCESSING_LEVEL_ID = 3
PRODUCT_CREATION_TIME = 2016-03-14T11:38:04.000Z
PRODUCT_ID = "H2149_0000_RE3.JP2"
RELEASE_ID = 0027
REVISION_ID = 0000
/* QUALITY DATA ELEMENTS */
DATA_QUALITY_ID = 1
DATA_QUALITY_DESC = "Data calculated based on original SPICE kernels"
/* TIME DATA ELEMENTS */
SPACECRAFT_CLOCK_START_COUNT = "1/0074950232.57947"
SPACECRAFT_CLOCK_STOP_COUNT = "1/0074950517.23172"
START_TIME = 2005-09-16T11:30:44.598Z
STOP_TIME = 2005-09-16T11:34:16.921Z
/* ORBITAL DATA ELEMENTS */
ASCENDING_NODE_LONGITUDE = 183.17
MAXIMUM_RESOLUTION = 95.9
FOOTPRINT_POINT_LATITUDE = (-11.513,-11.4959,-11.4774,-11.1047, -10.8476,-10.585,-10.3193,-10.0534, -9.7862,-9.5148,-9.23958,-8.95167, -8.68128,-8.42416,-8.15358,-7.89175, -7.63429,-7.11619,-6.84236,-6.56704, -6.2915,-6.00789,-5.60211,-5.32622, -5.04514,-4.75969,-4.47437,-4.18879, -3.90349,-3.61873,-3.3341,-3.03994, -2.74313,-2.45132,-2.15591,-1.86088, -1.56526,-1.26378,-0.958859,-0.655248, -0.355646,-0.0530241,0.250741,0.55711, 0.861576,1.16786,1.62725,1.93107,2.2338 ,2.68671,2.71465,2.70007,2.68239, 2.36794,2.06493,1.76051,1.3037,0.997337 ,0.693059,0.389373,0.0867159,-0.214181, -0.487254,-0.798865,-1.27124,-1.56253, -1.87556,-2.17115,-2.6133,-2.90423, -3.20097,-3.49422,-3.77872,-4.06401, -4.34905,-4.63435,-4.91986,-5.33384, -5.7578,-6.03398,-6.29776,-6.58436, -6.86085,-7.13633,-7.41032,-7.67118, -8.17476,-8.44117,-8.70696,-8.97075, -9.38336,-9.66012,-9.94184,-10.2095, -10.4756,-10.7416,-11.0004,-11.2562, -11.5123,-11.513)
FOOTPRINT_POINT_LONGITUDE = (282.259,281.943,281.62,281.51,281.509, 281.509,281.509,281.509,281.507,281.501 ,281.492,281.472,281.467,281.474, 281.469,281.471,281.477,281.501,281.5, 281.499,281.497,281.488,281.491,281.488 ,281.485,281.483,281.48,281.476,281.473 ,281.47,281.466,281.461,281.455,281.453 ,281.448,281.444,281.438,281.434, 281.428,281.423,281.421,281.417,281.411 ,281.403,281.396,281.387,281.374, 281.367,281.36,281.351,281.683,281.99, 282.4,282.643,282.64,282.638,282.635, 282.633,282.63,282.628,282.626,282.623, 282.617,282.616,282.615,282.611,282.612 ,282.61,282.607,282.604,282.603,282.602 ,282.6,282.598,282.596,282.594,282.592, 282.588,282.587,282.585,282.582,282.582 ,282.58,282.579,282.577,282.573,282.564 ,282.563,282.561,282.559,282.559,282.56 ,282.561,282.56,282.558,282.557,282.555 ,282.554,282.552,282.259)
ORBIT_NUMBER = 2149
ORBITAL_ECCENTRICITY = 0.573
ORBITAL_INCLINATION = 86.61
ORBITAL_SEMIMAJOR_AXIS = 8619.31
PERIAPSIS_ALTITUDE = 282.76
PERIAPSIS_ARGUMENT_ANGLE = 340.56
PERIAPSIS_TIME = 2005-09-16T11:29:07.000Z
SPACECRAFT_ORIENTATION = (0.0,1.0,0.0)
^MEX_ORIENTATION_DESC = "MEX_ORIENTATION_DESC.TXT"
SPACECRAFT_POINTING_MODE = ACROSSTRACK
^MEX_POINTING_DESC = "MEX_POINTING_DESC.TXT"
RIGHT_ASCENSION = -1e+32
DECLINATION = -1e+32
OFFSET_ANGLE = 0.8
SPACECRAFT_SOLAR_DISTANCE = 2.1048e+08
TARGET_NAME = MARS
/* CAMERA DATA ELEMENTS */
DETECTOR_TEMPERATURE = 18.9822
FOCAL_PLANE_TEMPERATURE = 11.0301
INST_CMPRS_NAME = "DISCRETE COSINE TRANSFORMATION (DCT)"
INST_CMPRS_RATIO = 11.5492
INST_CMPRS_QUALITY = 0
INST_CMPRS_QUANTZ_TBL_ID = 0
INSTRUMENT_TEMPERATURE = 11.4379
LENS_TEMPERATURE = 10.0106
MACROPIXEL_SIZE = 8
MISSING_FRAMES = 0
PIXEL_SUBSAMPLING_FLAG = N
SIGNAL_CHAIN_ID = 2
/* RADIOMETRIC DATA ELEMENTS */
BANDWIDTH = 48.0
CENTER_FILTER_WAVELENGTH = 748.0
RADIANCE_OFFSET = 1.28298
RADIANCE_SCALING_FACTOR = 0.0110536
REFLECTANCE_SCALING_FACTOR = 0.00111751
MEX:REFLECTANCE_OFFSET = 0.129708
/* IMAGE OBJECT DEFINITIONS */
OBJECT = IMAGE
  INTERCHANGE_FORMAT = BINARY
  LINES = 8419
  LINE_SAMPLES = 857
  SAMPLE_TYPE = UNSIGNED_INTEGER
  SAMPLE_BITS = 8
  BANDS = 1
  BAND_STORAGE_TYPE = BAND_SEQUENTIAL
  MAXIMUM = 213
  MEAN = 141.876
  MINIMUM = 66
  STANDARD_DEVIATION = 24.3568
END_OBJECT = IMAGE
/* MAP OBJECT DEFINITIONS */
OBJECT = IMAGE_MAP_PROJECTION
  ^DATA_SET_MAP_PROJECTION_CATALOG= "DSMAP.CAT"
  A_AXIS_RADIUS = 3396.0
  B_AXIS_RADIUS = 3396.0
  C_AXIS_RADIUS = 3396.0
  CENTER_LATITUDE = 0.0
  CENTER_LONGITUDE = 282.0
  COORDINATE_SYSTEM_NAME = PLANETOGRAPHIC
  COORDINATE_SYSTEM_TYPE = "BODY-FIXED ROTATING"
  EASTERNMOST_LONGITUDE = 282.643
  FIRST_STANDARD_PARALLEL = "N/A"
  LINE_FIRST_PIXEL = 1
  LINE_LAST_PIXEL = 8419
  LINE_PROJECTION_OFFSET = 1597.5625
  MAP_PROJECTION_ROTATION = 0.0
  MAP_PROJECTION_TYPE = SINUSOIDAL
  MAP_RESOLUTION = 592.713803866667
  MAP_SCALE = 0.1
  MAXIMUM_LATITUDE = 2.71465
  MINIMUM_LATITUDE = -11.513
  POSITIVE_LONGITUDE_DIRECTION = EAST
  REFERENCE_LATITUDE = "N/A"
  REFERENCE_LONGITUDE = "N/A"
  SAMPLE_FIRST_PIXEL = 1
  SAMPLE_LAST_PIXEL = 857
  SAMPLE_PROJECTION_OFFSET = 457.5625
  SECOND_STANDARD_PARALLEL = "N/A"
  WESTERNMOST_LONGITUDE = 281.351
END_OBJECT = IMAGE_MAP_PROJECTION
/* The JPEG2000 image data file associated with this label. */
OBJECT = COMPRESSED_FILE
  FILE_NAME = "H2149_0000_RE3.JP2"
  RECORD_TYPE = UNDEFINED
  FILE_RECORDS = UNK
  ENCODING_TYPE = "JP2"
  INTERCHANGE_FORMAT = BINARY
  UNCOMPRESSED_FILE_NAME = "H2149_0000_RE3.IMG"
  REQUIRED_STORAGE_BYTES = "7233080"
  ^DESCRIPTION = "JP2INFO.TXT"
END_OBJECT = COMPRESSED_FILE
END
