PDS_VERSION_ID = PDS3
/* FILE DATA ELEMENTS */
RECORD_TYPE = STREAM
/* POINTERS TO DATA OBJECTS */
^COMPRESSED_FILE = "H2153_0000_P13.JP2"
/* IDENTIFICATION DATA ELEMENTS */
DATA_SET_ID = "MEX-M-HRSC-5-REFDR-MAPPROJECTED-V3.0"
DATA_SET_NAME = "MARS EXPRESS HRSC MAP PROJECTED REFDR V3.0"
DETECTOR_ID = MEX_HRSC_P1
EVENT_TYPE = "MARS-REGIONAL-MAPPING-Gl-La"
INSTRUMENT_HOST_ID = MEX
INSTRUMENT_HOST_NAME = "MARS EXPRESS"
INSTRUMENT_ID = HRSC
INSTRUMENT_NAME = "HIGH RESOLUTION STEREO CAMERA"
MISSION_NAME = "MARS EXPRESS"
MISSION_PHASE_NAME = MR_Phase_7
PROCESSING_LEVEL_ID = 3
PRODUCT_CREATION_TIME = 2016-03-14T11:38:04.000Z
PRODUCT_ID = "H2153_0000_P13.JP2"
RELEASE_ID = 0027
REVISION_ID = 0000
/* QUALITY DATA ELEMENTS */
DATA_QUALITY_ID = 1
DATA_QUALITY_DESC = "Data calculated based on original SPICE kernels"
/* TIME DATA ELEMENTS */
SPACECRAFT_CLOCK_START_COUNT = "1/0075045189.57306"
SPACECRAFT_CLOCK_STOP_COUNT = "1/0075045982.30781"
START_TIME = 2005-09-17T14:01:51.230Z
STOP_TIME = 2005-09-17T14:05:50.713Z
/* ORBITAL DATA ELEMENTS */
ASCENDING_NODE_LONGITUDE = 183.09
MAXIMUM_RESOLUTION = 81.5
FOOTPRINT_POINT_LATITUDE = (-88.6012,-88.3694,-88.0987,-87.8035, -87.4928,-87.1724,-86.845,-86.513, -86.1776,-85.7966,-85.2846,-84.9737, -85.0616,-85.1457,-85.1904,-85.1932, -85.1538,-85.0724,-84.9505,-84.7905, -84.5952,-84.3677,-84.1113,-83.8289, -83.6789,-83.5237,-83.3633,-83.1982, -83.0286,-82.8548,-82.677,-82.4955, -82.3104,-82.1221,-81.9306,-81.7361, -81.5387,-81.3387,-81.1361,-80.9311, -80.7237,-80.5146,-80.303,-80.0893, -79.8739,-79.5464,-79.3258,-78.995, -78.7697,-78.6491,-78.7403,-78.8884, -78.9645,-79.0351,-79.1,-79.1594, -79.2128,-79.2602,-79.3016,-79.3408, -79.3684,-79.6279,-79.8762,-80.2457, -80.4925,-80.7388,-80.9853,-81.2279, -81.4724,-81.7162,-81.959,-82.2022, -82.5646,-82.8061,-83.0459,-83.2857, -83.5254,-83.7648,-84.0038,-84.2424, -84.478,-84.7147,-84.9512,-85.1878, -85.5427,-85.7773,-86.0085,-86.2413, -86.7035,-87.0503,-87.6222,-88.0778, -88.5284,-88.9673,-89.2852,-89.6456, -89.6184,-89.247,-88.8234,-88.6012)
FOOTPRINT_POINT_LONGITUDE = (111.588,121.955,129.525,135.113, 139.327,142.577,145.143,147.21,148.904, 150.475,152.158,152.113,155.768,160.836 ,166.086,171.402,176.711,181.909, 186.916,191.67,196.131,200.27,204.084, 207.579,209.209,210.764,212.248,213.663 ,215.012,216.297,217.523,218.692, 219.807,220.87,221.884,222.852,223.777, 224.66,225.504,226.311,227.083,227.82, 228.528,229.206,229.855,230.783,231.371 ,232.197,232.731,233.925,235.208, 237.504,238.845,240.205,241.586,242.984 ,244.401,245.834,247.282,248.929, 250.407,251.004,250.975,250.921,250.887 ,250.851,250.815,250.765,250.721, 250.673,250.62,250.567,250.475,250.411, 250.337,250.259,250.178,250.091,249.998 ,249.898,249.774,249.649,249.514,249.37 ,249.13,248.939,248.703,248.456,247.842 ,247.272,245.922,244.289,241.645, 236.658,228.973,197.799,122.606,95.7137 ,87.3247,111.588)
ORBIT_NUMBER = 2153
ORBITAL_ECCENTRICITY = 0.574
ORBITAL_INCLINATION = 86.62
ORBITAL_SEMIMAJOR_AXIS = 8623.25
PERIAPSIS_ALTITUDE = 282.17
PERIAPSIS_ARGUMENT_ANGLE = 339.82
PERIAPSIS_TIME = 2005-09-17T14:21:29.000Z
SPACECRAFT_ORIENTATION = (0.0,1.0,0.0)
^MEX_ORIENTATION_DESC = "MEX_ORIENTATION_DESC.TXT"
SPACECRAFT_POINTING_MODE = ACROSSTRACK
^MEX_POINTING_DESC = "MEX_POINTING_DESC.TXT"
RIGHT_ASCENSION = -1e+32
DECLINATION = -1e+32
OFFSET_ANGLE = -0.75
SPACECRAFT_SOLAR_DISTANCE = 2.10616e+08
TARGET_NAME = MARS
/* CAMERA DATA ELEMENTS */
DETECTOR_TEMPERATURE = 17.5549
FOCAL_PLANE_TEMPERATURE = 8.9911
INST_CMPRS_NAME = "DISCRETE COSINE TRANSFORMATION (DCT)"
INST_CMPRS_RATIO = 11.0277
INST_CMPRS_QUALITY = 0
INST_CMPRS_QUANTZ_TBL_ID = 0
INSTRUMENT_TEMPERATURE = 11.8457
LENS_TEMPERATURE = 9.3989
MACROPIXEL_SIZE = 2
MISSING_FRAMES = 0
PIXEL_SUBSAMPLING_FLAG = N
SIGNAL_CHAIN_ID = 3
/* RADIOMETRIC DATA ELEMENTS */
BANDWIDTH = 174.0
CENTER_FILTER_WAVELENGTH = 675.0
RADIANCE_OFFSET = 3.50153
RADIANCE_SCALING_FACTOR = 0.0268527
REFLECTANCE_SCALING_FACTOR = 0.000640686
MEX:REFLECTANCE_OFFSET = 0.083544
/* IMAGE OBJECT DEFINITIONS */
OBJECT = IMAGE
  INTERCHANGE_FORMAT = BINARY
  LINES = 5561
  LINE_SAMPLES = 6816
  SAMPLE_TYPE = UNSIGNED_INTEGER
  SAMPLE_BITS = 8
  BANDS = 1
  BAND_STORAGE_TYPE = BAND_SEQUENTIAL
  MAXIMUM = 266
  MEAN = 132.095
  MINIMUM = 83
  STANDARD_DEVIATION = 19.5334
END_OBJECT = IMAGE
/* MAP OBJECT DEFINITIONS */
OBJECT = IMAGE_MAP_PROJECTION
  ^DATA_SET_MAP_PROJECTION_CATALOG= "DSMAP.CAT"
  A_AXIS_RADIUS = 3396.0
  B_AXIS_RADIUS = 3396.0
  C_AXIS_RADIUS = 3396.0
  CENTER_LATITUDE = 0.0
  CENTER_LONGITUDE = 227.0
  COORDINATE_SYSTEM_NAME = PLANETOGRAPHIC
  COORDINATE_SYSTEM_TYPE = "BODY-FIXED ROTATING"
  EASTERNMOST_LONGITUDE = 251.004
  FIRST_STANDARD_PARALLEL = "N/A"
  LINE_FIRST_PIXEL = 1
  LINE_LAST_PIXEL = 5561
  LINE_PROJECTION_OFFSET = -46564.75
  MAP_PROJECTION_ROTATION = 0.0
  MAP_PROJECTION_TYPE = SINUSOIDAL
  MAP_RESOLUTION = 592.713803866667
  MAP_SCALE = 0.1
  MAXIMUM_LATITUDE = -78.6491
  MINIMUM_LATITUDE = -89.6456
  POSITIVE_LONGITUDE_DIRECTION = EAST
  REFERENCE_LATITUDE = "N/A"
  REFERENCE_LONGITUDE = "N/A"
  SAMPLE_FIRST_PIXEL = 1
  SAMPLE_LAST_PIXEL = 6816
  SAMPLE_PROJECTION_OFFSET = 4121.75
  SECOND_STANDARD_PARALLEL = "N/A"
  WESTERNMOST_LONGITUDE = 87.32470000000001
END_OBJECT = IMAGE_MAP_PROJECTION
/* The JPEG2000 image data file associated with this label. */
OBJECT = COMPRESSED_FILE
  FILE_NAME = "H2153_0000_P13.JP2"
  RECORD_TYPE = UNDEFINED
  FILE_RECORDS = UNK
  ENCODING_TYPE = "JP2"
  INTERCHANGE_FORMAT = BINARY
  UNCOMPRESSED_FILE_NAME = "H2153_0000_P13.IMG"
  REQUIRED_STORAGE_BYTES = "37937856"
  ^DESCRIPTION = "JP2INFO.TXT"
END_OBJECT = COMPRESSED_FILE
END
