PDS_VERSION_ID = PDS3
/* FILE DATA ELEMENTS */
RECORD_TYPE = STREAM
/* POINTERS TO DATA OBJECTS */
^COMPRESSED_FILE = "H2153_0001_S23.JP2"
/* IDENTIFICATION DATA ELEMENTS */
DATA_SET_ID = "MEX-M-HRSC-5-REFDR-MAPPROJECTED-V3.0"
DATA_SET_NAME = "MARS EXPRESS HRSC MAP PROJECTED REFDR V3.0"
DETECTOR_ID = MEX_HRSC_S2
EVENT_TYPE = "MARS-REGIONAL-MAPPING-Vo-Te"
INSTRUMENT_HOST_ID = MEX
INSTRUMENT_HOST_NAME = "MARS EXPRESS"
INSTRUMENT_ID = HRSC
INSTRUMENT_NAME = "HIGH RESOLUTION STEREO CAMERA"
MISSION_NAME = "MARS EXPRESS"
MISSION_PHASE_NAME = MR_Phase_7
PROCESSING_LEVEL_ID = 3
PRODUCT_CREATION_TIME = 2016-03-14T11:38:04.000Z
PRODUCT_ID = "H2153_0001_S23.JP2"
RELEASE_ID = 0027
REVISION_ID = 0000
/* QUALITY DATA ELEMENTS */
DATA_QUALITY_ID = 1
DATA_QUALITY_DESC = "Data calculated based on original SPICE kernels"
/* TIME DATA ELEMENTS */
SPACECRAFT_CLOCK_START_COUNT = "1/0075046827.56179"
SPACECRAFT_CLOCK_STOP_COUNT = "1/0075047177.12325"
START_TIME = 2005-09-17T14:20:34.988Z
STOP_TIME = 2005-09-17T14:25:37.870Z
/* ORBITAL DATA ELEMENTS */
ASCENDING_NODE_LONGITUDE = 183.09
MAXIMUM_RESOLUTION = 23.3
FOOTPRINT_POINT_LATITUDE = (-22.0294,-22.0467,-22.0805,-21.6825, -21.2838,-20.8863,-20.4853,-20.0862, -19.6868,-19.2865,-18.887,-18.4865, -18.085,-17.6826,-17.2786,-16.8761, -16.4705,-16.0685,-15.6613,-15.2536, -14.8485,-14.4382,-14.0298,-13.6231, -13.0133,-12.2014,-11.5931,-10.9832, -10.5761,-9.96688,-9.55968,-9.15072, -8.73981,-8.33291,-7.92327,-7.51562, -7.10674,-6.49393,-5.8812,-5.4727, -5.06441,-4.65609,-4.24793,-3.63599, -3.22779,-2.61586,-2.20797,-1.80052, -1.76952,-1.75509,-1.73756,-1.72516, -1.92125,-2.32911,-2.94104,-3.34941, -3.75769,-4.16641,-4.77905,-5.392, -6.00509,-6.41414,-6.6194,-7.0295, -7.43397,-7.8436,-8.05058,-8.45631, -8.66235,-9.07169,-9.4783,-10.0861, -10.6983,-11.1056,-11.5125,-12.1222, -12.5299,-12.9366,-13.343,-13.7491, -14.1555,-14.5619,-14.9686,-15.5788, -15.9874,-16.3937,-16.7979,-17.2032, -17.6093,-18.0133,-18.4165,-19.0195, -19.42,-19.8192,-20.2176,-20.6177, -21.0159,-21.4117,-22.0089,-22.0294)
FOOTPRINT_POINT_LONGITUDE = (250.712,250.372,250.074,250.077,250.08 ,250.082,250.085,250.087,250.088,250.09 ,250.091,250.092,250.092,250.093, 250.094,250.094,250.094,250.094,250.094 ,250.094,250.093,250.093,250.092, 250.091,250.089,250.085,250.081,250.077 ,250.075,250.07,250.067,250.064,250.061 ,250.057,250.053,250.049,250.045, 250.039,250.032,250.028,250.023,250.018 ,250.013,250.005,249.999,249.99,249.984 ,249.978,250.233,250.503,250.813, 251.022,251.154,251.151,251.147,251.144 ,251.142,251.139,251.136,251.133,251.13 ,251.128,251.127,251.125,251.126, 251.124,251.122,251.123,251.121,251.12, 251.121,251.123,251.123,251.123,251.124 ,251.125,251.125,251.126,251.126, 251.127,251.128,251.129,251.129,251.129 ,251.127,251.127,251.129,251.13,251.129 ,251.13,251.132,251.135,251.138,251.142 ,251.146,251.149,251.153,251.158, 251.163,250.712)
ORBIT_NUMBER = 2153
ORBITAL_ECCENTRICITY = 0.574
ORBITAL_INCLINATION = 86.62
ORBITAL_SEMIMAJOR_AXIS = 8623.25
PERIAPSIS_ALTITUDE = 282.17
PERIAPSIS_ARGUMENT_ANGLE = 339.82
PERIAPSIS_TIME = 2005-09-17T14:21:29.000Z
SPACECRAFT_ORIENTATION = (0.0,1.0,0.0)
^MEX_ORIENTATION_DESC = "MEX_ORIENTATION_DESC.TXT"
SPACECRAFT_POINTING_MODE = ACROSSTRACK
^MEX_POINTING_DESC = "MEX_POINTING_DESC.TXT"
RIGHT_ASCENSION = -1e+32
DECLINATION = -1e+32
OFFSET_ANGLE = -0.75
SPACECRAFT_SOLAR_DISTANCE = 2.10616e+08
TARGET_NAME = MARS
/* CAMERA DATA ELEMENTS */
DETECTOR_TEMPERATURE = 23.2641
FOCAL_PLANE_TEMPERATURE = 10.0106
INST_CMPRS_NAME = "DISCRETE COSINE TRANSFORMATION (DCT)"
INST_CMPRS_RATIO = 10.7488
INST_CMPRS_QUALITY = 0
INST_CMPRS_QUANTZ_TBL_ID = 0
INSTRUMENT_TEMPERATURE = 15.5159
LENS_TEMPERATURE = 10.6223
MACROPIXEL_SIZE = 2
MISSING_FRAMES = 0
PIXEL_SUBSAMPLING_FLAG = N
SIGNAL_CHAIN_ID = 1
/* RADIOMETRIC DATA ELEMENTS */
BANDWIDTH = 178.0
CENTER_FILTER_WAVELENGTH = 679.0
RADIANCE_OFFSET = 7.42297
RADIANCE_SCALING_FACTOR = 0.0335501
REFLECTANCE_SCALING_FACTOR = 0.000788144
MEX:REFLECTANCE_OFFSET = 0.174377
/* IMAGE OBJECT DEFINITIONS */
OBJECT = IMAGE
  INTERCHANGE_FORMAT = BINARY
  LINES = 48136
  LINE_SAMPLES = 3169
  SAMPLE_TYPE = UNSIGNED_INTEGER
  SAMPLE_BITS = 8
  BANDS = 1
  BAND_STORAGE_TYPE = BAND_SEQUENTIAL
  MAXIMUM = 131
  MEAN = 102.028
  MINIMUM = 54
  STANDARD_DEVIATION = 9.37012
END_OBJECT = IMAGE
/* MAP OBJECT DEFINITIONS */
OBJECT = IMAGE_MAP_PROJECTION
  ^DATA_SET_MAP_PROJECTION_CATALOG= "DSMAP.CAT"
  A_AXIS_RADIUS = 3396.0
  B_AXIS_RADIUS = 3396.0
  C_AXIS_RADIUS = 3396.0
  CENTER_LATITUDE = 0.0
  CENTER_LONGITUDE = 251.0
  COORDINATE_SYSTEM_NAME = PLANETOGRAPHIC
  COORDINATE_SYSTEM_TYPE = "BODY-FIXED ROTATING"
  EASTERNMOST_LONGITUDE = 251.163
  FIRST_STANDARD_PARALLEL = "N/A"
  LINE_FIRST_PIXEL = 1
  LINE_LAST_PIXEL = 48136
  LINE_PROJECTION_OFFSET = -4058.25
  MAP_PROJECTION_ROTATION = 0.0
  MAP_PROJECTION_TYPE = SINUSOIDAL
  MAP_RESOLUTION = 2370.85521546667
  MAP_SCALE = 0.025
  MAXIMUM_LATITUDE = -1.72516
  MINIMUM_LATITUDE = -22.0805
  POSITIVE_LONGITUDE_DIRECTION = EAST
  REFERENCE_LATITUDE = "N/A"
  REFERENCE_LONGITUDE = "N/A"
  SAMPLE_FIRST_PIXEL = 1
  SAMPLE_LAST_PIXEL = 3169
  SAMPLE_PROJECTION_OFFSET = 2473.75
  SECOND_STANDARD_PARALLEL = "N/A"
  WESTERNMOST_LONGITUDE = 249.978
END_OBJECT = IMAGE_MAP_PROJECTION
/* The JPEG2000 image data file associated with this label. */
OBJECT = COMPRESSED_FILE
  FILE_NAME = "H2153_0001_S23.JP2"
  RECORD_TYPE = UNDEFINED
  FILE_RECORDS = UNK
  ENCODING_TYPE = "JP2"
  INTERCHANGE_FORMAT = BINARY
  UNCOMPRESSED_FILE_NAME = "H2153_0001_S23.IMG"
  REQUIRED_STORAGE_BYTES = "152565167"
  ^DESCRIPTION = "JP2INFO.TXT"
END_OBJECT = COMPRESSED_FILE
END
