PDS_VERSION_ID = PDS3
/* FILE DATA ELEMENTS */
RECORD_TYPE = STREAM
/* POINTERS TO DATA OBJECTS */
^COMPRESSED_FILE = "H2155_0000_S23.JP2"
/* IDENTIFICATION DATA ELEMENTS */
DATA_SET_ID = "MEX-M-HRSC-5-REFDR-MAPPROJECTED-V3.0"
DATA_SET_NAME = "MARS EXPRESS HRSC MAP PROJECTED REFDR V3.0"
DETECTOR_ID = MEX_HRSC_S2
EVENT_TYPE = "MARS-REGIONAL-MAPPING-Gl-Eo-La"
INSTRUMENT_HOST_ID = MEX
INSTRUMENT_HOST_NAME = "MARS EXPRESS"
INSTRUMENT_ID = HRSC
INSTRUMENT_NAME = "HIGH RESOLUTION STEREO CAMERA"
MISSION_NAME = "MARS EXPRESS"
MISSION_PHASE_NAME = MR_Phase_7
PROCESSING_LEVEL_ID = 3
PRODUCT_CREATION_TIME = 2016-03-14T11:38:04.000Z
PRODUCT_ID = "H2155_0000_S23.JP2"
RELEASE_ID = 0027
REVISION_ID = 0000
/* QUALITY DATA ELEMENTS */
DATA_QUALITY_ID = 1
DATA_QUALITY_DESC = "Data calculated based on original SPICE kernels"
/* TIME DATA ELEMENTS */
SPACECRAFT_CLOCK_START_COUNT = "1/0075093759.56204"
SPACECRAFT_CLOCK_STOP_COUNT = "1/0075094379.20660"
START_TIME = 2005-09-18T03:22:47.028Z
STOP_TIME = 2005-09-18T03:28:04.768Z
/* ORBITAL DATA ELEMENTS */
ASCENDING_NODE_LONGITUDE = 183.04
MAXIMUM_RESOLUTION = 114
FOOTPRINT_POINT_LATITUDE = (-87.5635,-87.525,-87.4621,-87.3765, -87.2706,-87.1465,-87.0067,-86.8531, -86.6878,-86.5123,-86.3283,-86.1368, -85.9391,-85.736,-85.5281,-85.3161, -85.1004,-84.8813,-84.6594,-84.4348, -84.2078,-83.9784,-83.747,-83.5139, -83.279,-83.0446,-82.9438,-82.8013, -82.7078,-82.605,-82.4942,-82.3365, -82.1239,-81.9419,-81.7505,-81.5998, -81.3882,-81.2211,-80.9839,-80.7441, -80.5583,-80.2908,-79.8798,-79.5969, -79.3052,-78.929,-78.6201,-78.4616, -78.3016,-78.14,-77.9771,-77.8104, -77.6437,-77.4745,-77.3041,-77.2559, -77.3974,-77.5311,-77.7275,-77.8406, -77.9167,-78.0302,-78.1363,-78.1943, -78.2784,-78.368,-78.4261,-78.4777, -78.5023,-78.7044,-79.0101,-79.305, -79.5045,-79.7024,-79.8987,-80.0945, -80.2888,-80.4821,-80.6745,-80.8663, -81.0566,-81.4344,-81.8088,-82.1789, -82.6382,-83.0012,-83.359,-83.8874, -84.324,-84.6656,-84.9196,-85.2574, -85.5886,-85.8344,-86.16,-86.56, -86.8759,-87.1087,-87.417,-87.5635)
FOOTPRINT_POINT_LONGITUDE = (414.191,408.446,402.94,397.756,392.947 ,388.537,384.525,380.896,377.625, 374.683,372.036,369.653,367.508,365.572 ,363.82,362.232,360.787,359.47,358.266, 357.162,356.149,355.216,354.355,353.561 ,352.824,353.48,355.752,358.522,360.137 ,361.742,363.322,365.369,367.832, 369.723,371.54,372.86,374.567,375.808, 377.423,378.947,380.047,381.487,383.509 ,384.778,385.99,387.429,388.52,389.048, 389.563,390.067,390.558,391.04,391.509, 391.968,392.417,393.248,394.562,395.906 ,398.069,399.482,400.506,402.171, 403.864,404.941,406.686,408.899,410.695 ,412.973,414.432,414.463,414.503, 414.564,414.598,414.634,414.673,414.712 ,414.755,414.8,414.846,414.893,414.944, 415.053,415.172,415.303,415.481,415.642 ,415.826,416.148,416.453,416.748, 416.995,417.354,417.784,418.151,418.707 ,419.559,420.394,421.146,422.346, 414.191)
ORBIT_NUMBER = 2155
ORBITAL_ECCENTRICITY = 0.573
ORBITAL_INCLINATION = 86.63
ORBITAL_SEMIMAJOR_AXIS = 8616.58
PERIAPSIS_ALTITUDE = 282.3
PERIAPSIS_ARGUMENT_ANGLE = 339.5
PERIAPSIS_TIME = 2005-09-18T03:47:42.000Z
SPACECRAFT_ORIENTATION = (0.0,1.0,0.0)
^MEX_ORIENTATION_DESC = "MEX_ORIENTATION_DESC.TXT"
SPACECRAFT_POINTING_MODE = NADIR
^MEX_POINTING_DESC = "MEX_POINTING_DESC.TXT"
RIGHT_ASCENSION = -1e+32
DECLINATION = -1e+32
OFFSET_ANGLE = -1e+32
SPACECRAFT_SOLAR_DISTANCE = 2.10685e+08
TARGET_NAME = MARS
/* CAMERA DATA ELEMENTS */
DETECTOR_TEMPERATURE = 18.9822
FOCAL_PLANE_TEMPERATURE = 9.3989
INST_CMPRS_NAME = "DISCRETE COSINE TRANSFORMATION (DCT)"
INST_CMPRS_RATIO = 12.1717
INST_CMPRS_QUALITY = 0
INST_CMPRS_QUANTZ_TBL_ID = 0
INSTRUMENT_TEMPERATURE = 11.6418
LENS_TEMPERATURE = 9.8067
MACROPIXEL_SIZE = 2
MISSING_FRAMES = 0
PIXEL_SUBSAMPLING_FLAG = N
SIGNAL_CHAIN_ID = 1
/* RADIOMETRIC DATA ELEMENTS */
BANDWIDTH = 178.0
CENTER_FILTER_WAVELENGTH = 679.0
RADIANCE_OFFSET = 4.5331
RADIANCE_SCALING_FACTOR = 0.0490133
REFLECTANCE_SCALING_FACTOR = 0.00115213
MEX:REFLECTANCE_OFFSET = 0.106557
/* IMAGE OBJECT DEFINITIONS */
OBJECT = IMAGE
  INTERCHANGE_FORMAT = BINARY
  LINES = 5740
  LINE_SAMPLES = 4654
  SAMPLE_TYPE = UNSIGNED_INTEGER
  SAMPLE_BITS = 8
  BANDS = 1
  BAND_STORAGE_TYPE = BAND_SEQUENTIAL
  MAXIMUM = 264
  MEAN = 121.639
  MINIMUM = 67
  STANDARD_DEVIATION = 53.965
END_OBJECT = IMAGE
/* MAP OBJECT DEFINITIONS */
OBJECT = IMAGE_MAP_PROJECTION
  ^DATA_SET_MAP_PROJECTION_CATALOG= "DSMAP.CAT"
  A_AXIS_RADIUS = 3396.0
  B_AXIS_RADIUS = 3396.0
  C_AXIS_RADIUS = 3396.0
  CENTER_LATITUDE = 0.0
  CENTER_LONGITUDE = 33.0
  COORDINATE_SYSTEM_NAME = PLANETOGRAPHIC
  COORDINATE_SYSTEM_TYPE = "BODY-FIXED ROTATING"
  EASTERNMOST_LONGITUDE = 62.346
  FIRST_STANDARD_PARALLEL = "N/A"
  LINE_FIRST_PIXEL = 1
  LINE_LAST_PIXEL = 5740
  LINE_PROJECTION_OFFSET = -45864.25
  MAP_PROJECTION_ROTATION = 0.0
  MAP_PROJECTION_TYPE = SINUSOIDAL
  MAP_RESOLUTION = 592.713803866667
  MAP_SCALE = 0.1
  MAXIMUM_LATITUDE = -77.2559
  MINIMUM_LATITUDE = -87.5635
  POSITIVE_LONGITUDE_DIRECTION = EAST
  REFERENCE_LATITUDE = "N/A"
  REFERENCE_LONGITUDE = "N/A"
  SAMPLE_FIRST_PIXEL = 1
  SAMPLE_LAST_PIXEL = 4654
  SAMPLE_PROJECTION_OFFSET = 2463.75
  SECOND_STANDARD_PARALLEL = "N/A"
  WESTERNMOST_LONGITUDE = -7.176
END_OBJECT = IMAGE_MAP_PROJECTION
/* The JPEG2000 image data file associated with this label. */
OBJECT = COMPRESSED_FILE
  FILE_NAME = "H2155_0000_S23.JP2"
  RECORD_TYPE = UNDEFINED
  FILE_RECORDS = UNK
  ENCODING_TYPE = "JP2"
  INTERCHANGE_FORMAT = BINARY
  UNCOMPRESSED_FILE_NAME = "H2155_0000_S23.IMG"
  REQUIRED_STORAGE_BYTES = "26741884"
  ^DESCRIPTION = "JP2INFO.TXT"
END_OBJECT = COMPRESSED_FILE
END
