PDS_VERSION_ID = PDS3
/* FILE DATA ELEMENTS */
RECORD_TYPE = STREAM
/* POINTERS TO DATA OBJECTS */
^COMPRESSED_FILE = "H2156_0000_S23.JP2"
/* IDENTIFICATION DATA ELEMENTS */
DATA_SET_ID = "MEX-M-HRSC-5-REFDR-MAPPROJECTED-V3.0"
DATA_SET_NAME = "MARS EXPRESS HRSC MAP PROJECTED REFDR V3.0"
DETECTOR_ID = MEX_HRSC_S2
EVENT_TYPE = "MARS-REGIONAL-MAPPING-Fl-Mw-La"
INSTRUMENT_HOST_ID = MEX
INSTRUMENT_HOST_NAME = "MARS EXPRESS"
INSTRUMENT_ID = HRSC
INSTRUMENT_NAME = "HIGH RESOLUTION STEREO CAMERA"
MISSION_NAME = "MARS EXPRESS"
MISSION_PHASE_NAME = MR_Phase_7
PROCESSING_LEVEL_ID = 3
PRODUCT_CREATION_TIME = 2016-03-14T11:38:04.000Z
PRODUCT_ID = "H2156_0000_S23.JP2"
RELEASE_ID = 0027
REVISION_ID = 0000
/* QUALITY DATA ELEMENTS */
DATA_QUALITY_ID = 2
DATA_QUALITY_DESC = "Data calculated based on photogrammetrically improved orbit and attitude data"
/* TIME DATA ELEMENTS */
SPACECRAFT_CLOCK_START_COUNT = "1/0075119428.57956"
SPACECRAFT_CLOCK_STOP_COUNT = "1/0075119822.36048"
START_TIME = 2005-09-18T10:30:36.022Z
STOP_TIME = 2005-09-18T10:38:56.850Z
/* ORBITAL DATA ELEMENTS */
ASCENDING_NODE_LONGITUDE = 183.02
MAXIMUM_RESOLUTION = 24
FOOTPRINT_POINT_LATITUDE = (-19.8127,-19.51,-18.9196,-18.3285, -17.7211,-17.1155,-16.2226,-15.626, -15.0275,-14.4159,-13.4836,-12.5621, -11.9437,-11.028,-10.4051,-9.75769, -9.10934,-8.42902,-7.78222,-7.14885, -6.14435,-5.47381,-4.77459,-4.08673, -3.38402,-3.02253,-2.66228,-2.30175, -1.58781,-0.848338,-0.133636,0.914025, 1.63038,2.34468,3.05687,3.76832,4.83458 ,5.54346,6.25075,7.31518,8.36594, 9.06862,9.77024,10.4691,11.1663,11.8622 ,12.5556,13.2481,13.6236,13.6309, 13.6394,13.6452,12.9548,12.2637,11.5679 ,10.5219,9.47244,8.41737,7.71255, 7.01681,6.30169,5.59588,4.54274,3.81973 ,3.10824,2.39565,1.34086,0.968535, 0.248274,-0.465672,-1.17114,-1.53969, -1.90148,-2.26161,-2.97931,-4.04045, -4.73519,-5.42906,-6.10142,-6.77087, -7.43895,-8.0653,-8.71604,-9.71551, -10.3574,-11.2842,-11.9049,-12.5384, -13.1535,-13.758,-14.3697,-14.9906, -15.5977,-16.1886,-16.8078,-17.6999, -18.2915,-18.8832,-19.7734,-19.8127)
FOOTPRINT_POINT_LONGITUDE = (315.281,314.712,314.716,314.72,314.72, 314.721,314.723,314.724,314.725,314.726 ,314.725,314.725,314.724,314.723,314.72 ,314.716,314.711,314.7,314.694,314.694, 314.684,314.676,314.666,314.658,314.648 ,314.642,314.636,314.631,314.62,314.603 ,314.59,314.576,314.561,314.546,314.531 ,314.516,314.491,314.473,314.456, 314.427,314.4,314.38,314.359,314.339, 314.317,314.295,314.273,314.25,314.513, 315.031,315.586,316.026,316.012,315.999 ,315.985,315.966,315.948,315.931,315.92 ,315.913,315.9,315.892,315.883,315.87, 315.862,315.855,315.851,315.842,315.834 ,315.829,315.827,315.821,315.817, 315.814,315.81,315.803,315.799,315.795, 315.791,315.789,315.788,315.796,315.792 ,315.778,315.778,315.779,315.778, 315.772,315.774,315.78,315.783,315.782, 315.778,315.779,315.769,315.767,315.768 ,315.768,315.766,315.281)
ORBIT_NUMBER = 2156
ORBITAL_ECCENTRICITY = 0.573
ORBITAL_INCLINATION = 86.63
ORBITAL_SEMIMAJOR_AXIS = 8609.71
PERIAPSIS_ALTITUDE = 282.7
PERIAPSIS_ARGUMENT_ANGLE = 339.33
PERIAPSIS_TIME = 2005-09-18T10:30:49.000Z
SPACECRAFT_ORIENTATION = (0.0,1.0,0.0)
^MEX_ORIENTATION_DESC = "MEX_ORIENTATION_DESC.TXT"
SPACECRAFT_POINTING_MODE = ACROSSTRACK
^MEX_POINTING_DESC = "MEX_POINTING_DESC.TXT"
RIGHT_ASCENSION = -1e+32
DECLINATION = -1e+32
OFFSET_ANGLE = -0.18
SPACECRAFT_SOLAR_DISTANCE = 2.1072e+08
TARGET_NAME = MARS
/* CAMERA DATA ELEMENTS */
DETECTOR_TEMPERATURE = 18.9822
FOCAL_PLANE_TEMPERATURE = 10.2145
INST_CMPRS_NAME = "DISCRETE COSINE TRANSFORMATION (DCT)"
INST_CMPRS_RATIO = 10.3803
INST_CMPRS_QUALITY = 0
INST_CMPRS_QUANTZ_TBL_ID = 0
INSTRUMENT_TEMPERATURE = 11.6418
LENS_TEMPERATURE = 9.8067
MACROPIXEL_SIZE = 2
MISSING_FRAMES = 0
PIXEL_SUBSAMPLING_FLAG = N
SIGNAL_CHAIN_ID = 1
/* RADIOMETRIC DATA ELEMENTS */
BANDWIDTH = 178.0
CENTER_FILTER_WAVELENGTH = 679.0
RADIANCE_OFFSET = 5.18505
RADIANCE_SCALING_FACTOR = 0.0317537
REFLECTANCE_SCALING_FACTOR = 0.000746678
MEX:REFLECTANCE_OFFSET = 0.121925
/* IMAGE OBJECT DEFINITIONS */
OBJECT = IMAGE
  INTERCHANGE_FORMAT = BINARY
  LINES = 79171
  LINE_SAMPLES = 4572
  SAMPLE_TYPE = UNSIGNED_INTEGER
  SAMPLE_BITS = 8
  BANDS = 1
  BAND_STORAGE_TYPE = BAND_SEQUENTIAL
  MAXIMUM = 214
  MEAN = 126.938
  MINIMUM = 57
  STANDARD_DEVIATION = 25.0392
END_OBJECT = IMAGE
/* MAP OBJECT DEFINITIONS */
OBJECT = IMAGE_MAP_PROJECTION
  ^DATA_SET_MAP_PROJECTION_CATALOG= "DSMAP.CAT"
  A_AXIS_RADIUS = 3396.0
  B_AXIS_RADIUS = 3396.0
  C_AXIS_RADIUS = 3396.0
  CENTER_LATITUDE = 0.0
  CENTER_LONGITUDE = 315.0
  COORDINATE_SYSTEM_NAME = PLANETOGRAPHIC
  COORDINATE_SYSTEM_TYPE = "BODY-FIXED ROTATING"
  EASTERNMOST_LONGITUDE = 316.026
  FIRST_STANDARD_PARALLEL = "N/A"
  LINE_FIRST_PIXEL = 1
  LINE_LAST_PIXEL = 79171
  LINE_PROJECTION_OFFSET = 32216.75
  MAP_PROJECTION_ROTATION = 0.0
  MAP_PROJECTION_TYPE = SINUSOIDAL
  MAP_RESOLUTION = 2370.85521546667
  MAP_SCALE = 0.025
  MAXIMUM_LATITUDE = 13.6452
  MINIMUM_LATITUDE = -19.8127
  POSITIVE_LONGITUDE_DIRECTION = EAST
  REFERENCE_LATITUDE = "N/A"
  REFERENCE_LONGITUDE = "N/A"
  SAMPLE_FIRST_PIXEL = 1
  SAMPLE_LAST_PIXEL = 4572
  SAMPLE_PROJECTION_OFFSET = 1967.75
  SECOND_STANDARD_PARALLEL = "N/A"
  WESTERNMOST_LONGITUDE = 314.25
END_OBJECT = IMAGE_MAP_PROJECTION
/* The JPEG2000 image data file associated with this label. */
OBJECT = COMPRESSED_FILE
  FILE_NAME = "H2156_0000_S23.JP2"
  RECORD_TYPE = UNDEFINED
  FILE_RECORDS = UNK
  ENCODING_TYPE = "JP2"
  INTERCHANGE_FORMAT = BINARY
  UNCOMPRESSED_FILE_NAME = "H2156_0000_S23.IMG"
  REQUIRED_STORAGE_BYTES = "361997244"
  ^DESCRIPTION = "JP2INFO.TXT"
END_OBJECT = COMPRESSED_FILE
END
