PDS_VERSION_ID = PDS3
/* FILE DATA ELEMENTS */
RECORD_TYPE = STREAM
/* POINTERS TO DATA OBJECTS */
^COMPRESSED_FILE = "H2158_0000_P13.JP2"
/* IDENTIFICATION DATA ELEMENTS */
DATA_SET_ID = "MEX-M-HRSC-5-REFDR-MAPPROJECTED-V3.0"
DATA_SET_NAME = "MARS EXPRESS HRSC MAP PROJECTED REFDR V3.0"
DETECTOR_ID = MEX_HRSC_P1
EVENT_TYPE = "MARS-LOCAL-MAPPING-Im-Ot"
INSTRUMENT_HOST_ID = MEX
INSTRUMENT_HOST_NAME = "MARS EXPRESS"
INSTRUMENT_ID = HRSC
INSTRUMENT_NAME = "HIGH RESOLUTION STEREO CAMERA"
MISSION_NAME = "MARS EXPRESS"
MISSION_PHASE_NAME = MR_Phase_7
PROCESSING_LEVEL_ID = 3
PRODUCT_CREATION_TIME = 2016-03-14T11:38:04.000Z
PRODUCT_ID = "H2158_0000_P13.JP2"
RELEASE_ID = 0027
REVISION_ID = 0000
/* QUALITY DATA ELEMENTS */
DATA_QUALITY_ID = 1
DATA_QUALITY_DESC = "Data calculated based on original SPICE kernels"
/* TIME DATA ELEMENTS */
SPACECRAFT_CLOCK_START_COUNT = "1/0075166866.57159"
SPACECRAFT_CLOCK_STOP_COUNT = "1/0075167273.04334"
START_TIME = 2005-09-18T23:44:17.018Z
STOP_TIME = 2005-09-18T23:47:40.081Z
/* ORBITAL DATA ELEMENTS */
ASCENDING_NODE_LONGITUDE = 182.97
MAXIMUM_RESOLUTION = 46.2
FOOTPRINT_POINT_LATITUDE = (-70.6581,-70.5975,-70.5479,-70.4997, -70.4593,-70.3887,-70.3358,-70.0808, -69.8173,-69.4272,-69.1661,-68.9083, -68.6514,-68.3953,-68.1412,-67.8884, -67.6385,-67.2622,-67.0134,-66.7669, -66.3988,-66.0327,-65.7952,-65.551, -65.1919,-64.9564,-64.7205,-64.4869, -64.253,-64.0219,-63.7902,-63.5612, -63.2182,-62.992,-62.7656,-62.5424, -62.3193,-62.0974,-61.8768,-61.6568, -61.4386,-61.1118,-60.8964,-60.6809, -60.4671,-60.2554,-60.0414,-59.8323, -59.3135,-58.9995,-58.6503,-58.6762, -58.7075,-58.7304,-58.7589,-58.8806, -59.192,-59.6101,-59.9285,-60.1408, -60.3552,-60.5702,-60.8942,-61.1109, -61.4452,-61.668,-61.8888,-62.1127, -62.4412,-62.6687,-62.8959,-63.1252, -63.4691,-63.8188,-64.0515,-64.2879, -64.5238,-64.7659,-65.0065,-65.2455, -65.4879,-65.7337,-65.9792,-66.2278, -66.4756,-66.7278,-67.1063,-67.482, -67.7377,-67.9952,-68.2535,-68.5144, -68.9078,-69.3053,-69.5724,-69.8415, -70.1105,-70.3825,-70.656,-70.6581)
FOOTPRINT_POINT_LONGITUDE = (116.977,115.276,114.122,113.129, 112.367,111.155,110.324,109.695,109.89, 110.164,110.345,110.515,110.682,110.843 ,110.999,111.15,111.293,111.506,111.642 ,111.773,111.963,112.146,112.256, 112.375,112.54,112.644,112.746,112.845, 112.942,113.035,113.128,113.217,113.348 ,113.432,113.514,113.594,113.671, 113.747,113.821,113.894,113.965,114.068 ,114.135,114.201,114.265,114.326, 114.389,114.448,114.588,114.674,115.205 ,115.79,116.52,117.105,117.949,118.547, 118.534,118.515,118.501,118.491,118.481 ,118.47,118.454,118.441,118.429,118.419 ,118.406,118.394,118.367,118.354,118.34 ,118.326,118.303,118.28,118.264,118.247 ,118.231,118.216,118.2,118.179,118.161, 118.142,118.123,118.104,118.083,118.062 ,118.029,117.988,117.963,117.936, 117.909,117.881,117.837,117.79,117.758, 117.725,117.689,117.652,117.614, 116.977)
ORBIT_NUMBER = 2158
ORBITAL_ECCENTRICITY = 0.573
ORBITAL_INCLINATION = 86.61
ORBITAL_SEMIMAJOR_AXIS = 8615.76
PERIAPSIS_ALTITUDE = 282.15
PERIAPSIS_ARGUMENT_ANGLE = 338.95
PERIAPSIS_TIME = 2005-09-18T23:57:02.000Z
SPACECRAFT_ORIENTATION = (0.0,1.0,0.0)
^MEX_ORIENTATION_DESC = "MEX_ORIENTATION_DESC.TXT"
SPACECRAFT_POINTING_MODE = NADIR
^MEX_POINTING_DESC = "MEX_POINTING_DESC.TXT"
RIGHT_ASCENSION = -1e+32
DECLINATION = -1e+32
OFFSET_ANGLE = -1e+32
SPACECRAFT_SOLAR_DISTANCE = 2.10789e+08
TARGET_NAME = MARS
/* CAMERA DATA ELEMENTS */
DETECTOR_TEMPERATURE = 17.9627
FOCAL_PLANE_TEMPERATURE = 10.2145
INST_CMPRS_NAME = "DISCRETE COSINE TRANSFORMATION (DCT)"
INST_CMPRS_RATIO = 10.1118
INST_CMPRS_QUALITY = 0
INST_CMPRS_QUANTZ_TBL_ID = 0
INSTRUMENT_TEMPERATURE = 11.8457
LENS_TEMPERATURE = 10.4184
MACROPIXEL_SIZE = 2
MISSING_FRAMES = 0
PIXEL_SUBSAMPLING_FLAG = N
SIGNAL_CHAIN_ID = 3
/* RADIOMETRIC DATA ELEMENTS */
BANDWIDTH = 174.0
CENTER_FILTER_WAVELENGTH = 675.0
RADIANCE_OFFSET = 4.76828
RADIANCE_SCALING_FACTOR = 0.0186991
REFLECTANCE_SCALING_FACTOR = 0.000446888
MEX:REFLECTANCE_OFFSET = 0.113956
/* IMAGE OBJECT DEFINITIONS */
OBJECT = IMAGE
  INTERCHANGE_FORMAT = BINARY
  LINES = 14398
  LINE_SAMPLES = 4351
  SAMPLE_TYPE = UNSIGNED_INTEGER
  SAMPLE_BITS = 8
  BANDS = 1
  BAND_STORAGE_TYPE = BAND_SEQUENTIAL
  MAXIMUM = 258
  MEAN = 203.291
  MINIMUM = 123
  STANDARD_DEVIATION = 15.7012
END_OBJECT = IMAGE
/* MAP OBJECT DEFINITIONS */
OBJECT = IMAGE_MAP_PROJECTION
  ^DATA_SET_MAP_PROJECTION_CATALOG= "DSMAP.CAT"
  A_AXIS_RADIUS = 3396.0
  B_AXIS_RADIUS = 3396.0
  C_AXIS_RADIUS = 3396.0
  CENTER_LATITUDE = 0.0
  CENTER_LONGITUDE = 116.0
  COORDINATE_SYSTEM_NAME = PLANETOGRAPHIC
  COORDINATE_SYSTEM_TYPE = "BODY-FIXED ROTATING"
  EASTERNMOST_LONGITUDE = 118.547
  FIRST_STANDARD_PARALLEL = "N/A"
  LINE_FIRST_PIXEL = 1
  LINE_LAST_PIXEL = 14398
  LINE_PROJECTION_OFFSET = -69530.75
  MAP_PROJECTION_ROTATION = 0.0
  MAP_PROJECTION_TYPE = SINUSOIDAL
  MAP_RESOLUTION = 1185.42760773333
  MAP_SCALE = 0.05
  MAXIMUM_LATITUDE = -58.6503
  MINIMUM_LATITUDE = -70.6581
  POSITIVE_LONGITUDE_DIRECTION = EAST
  REFERENCE_LATITUDE = "N/A"
  REFERENCE_LONGITUDE = "N/A"
  SAMPLE_FIRST_PIXEL = 1
  SAMPLE_LAST_PIXEL = 4351
  SAMPLE_PROJECTION_OFFSET = 2709.75
  SECOND_STANDARD_PARALLEL = "N/A"
  WESTERNMOST_LONGITUDE = 109.695
END_OBJECT = IMAGE_MAP_PROJECTION
/* The JPEG2000 image data file associated with this label. */
OBJECT = COMPRESSED_FILE
  FILE_NAME = "H2158_0000_P13.JP2"
  RECORD_TYPE = UNDEFINED
  FILE_RECORDS = UNK
  ENCODING_TYPE = "JP2"
  INTERCHANGE_FORMAT = BINARY
  UNCOMPRESSED_FILE_NAME = "H2158_0000_P13.IMG"
  REQUIRED_STORAGE_BYTES = "62671804"
  ^DESCRIPTION = "JP2INFO.TXT"
END_OBJECT = COMPRESSED_FILE
END
