PDS_VERSION_ID = PDS3
/* FILE DATA ELEMENTS */
RECORD_TYPE = STREAM
/* POINTERS TO DATA OBJECTS */
^COMPRESSED_FILE = "H2158_0000_P23.JP2"
/* IDENTIFICATION DATA ELEMENTS */
DATA_SET_ID = "MEX-M-HRSC-5-REFDR-MAPPROJECTED-V3.0"
DATA_SET_NAME = "MARS EXPRESS HRSC MAP PROJECTED REFDR V3.0"
DETECTOR_ID = MEX_HRSC_P2
EVENT_TYPE = "MARS-LOCAL-MAPPING-Im-Ot"
INSTRUMENT_HOST_ID = MEX
INSTRUMENT_HOST_NAME = "MARS EXPRESS"
INSTRUMENT_ID = HRSC
INSTRUMENT_NAME = "HIGH RESOLUTION STEREO CAMERA"
MISSION_NAME = "MARS EXPRESS"
MISSION_PHASE_NAME = MR_Phase_7
PROCESSING_LEVEL_ID = 3
PRODUCT_CREATION_TIME = 2016-03-14T11:38:04.000Z
PRODUCT_ID = "H2158_0000_P23.JP2"
RELEASE_ID = 0027
REVISION_ID = 0000
/* QUALITY DATA ELEMENTS */
DATA_QUALITY_ID = 1
DATA_QUALITY_DESC = "Data calculated based on original SPICE kernels"
/* TIME DATA ELEMENTS */
SPACECRAFT_CLOCK_START_COUNT = "1/0075166866.57159"
SPACECRAFT_CLOCK_STOP_COUNT = "1/0075167273.04334"
START_TIME = 2005-09-18T23:42:03.563Z
STOP_TIME = 2005-09-18T23:46:16.834Z
/* ORBITAL DATA ELEMENTS */
ASCENDING_NODE_LONGITUDE = 182.97
MAXIMUM_RESOLUTION = 53
FOOTPRINT_POINT_LATITUDE = (-70.9091,-70.8869,-70.8613,-70.8082, -70.7638,-70.7244,-70.6533,-70.6051, -70.5536,-70.4987,-70.4405,-70.2092, -69.9851,-69.7605,-69.5335,-69.3052, -69.0749,-68.7291,-68.4936,-68.2649, -68.0308,-67.6762,-67.4395,-67.2011, -66.8416,-66.6013,-66.36,-66.1166, -65.868,-65.6195,-65.2587,-65.0126, -64.7678,-64.5233,-64.2809,-64.04, -63.7998,-63.562,-63.3252,-62.9721, -62.6223,-62.3885,-62.1563,-61.9255, -61.6954,-61.4682,-61.1289,-60.6797, -60.2305,-59.6795,-59.2442,-58.9252, -58.709,-58.7472,-58.7933,-58.8334, -58.9686,-59.2976,-59.7384,-60.0724, -60.5221,-60.9771,-61.2065,-61.5452, -61.7774,-62.0106,-62.2509,-62.6076, -62.8453,-63.2043,-63.4446,-63.681, -64.0506,-64.2994,-64.5459,-64.7908, -65.0392,-65.2921,-65.6694,-65.9227, -66.1762,-66.4283,-66.6797,-66.9303, -67.1801,-67.4291,-67.677,-67.9238, -68.1702,-68.4122,-68.658,-68.9011, -69.1426,-69.3833,-69.6235,-69.8627, -70.221,-70.4577,-70.6941,-70.9091)
FOOTPRINT_POINT_LONGITUDE = (117.888,117.122,116.361,115.034, 114.091,113.34,112.128,111.386,110.648, 109.913,109.181,108.751,108.94,109.126, 109.307,109.484,109.657,109.911,110.073 ,110.237,110.396,110.626,110.777, 110.924,111.14,111.28,111.418,111.553, 111.682,111.81,112.005,112.126,112.244, 112.358,112.47,112.579,112.684,112.788, 112.888,113.034,113.175,113.265,113.352 ,113.438,113.521,113.603,113.722, 113.874,114.016,114.187,114.317,114.414 ,115.026,115.697,116.704,117.842, 118.828,118.822,118.815,118.809,118.801 ,118.791,118.786,118.786,118.781, 118.776,118.765,118.754,118.749,118.74, 118.735,118.736,118.723,118.712,118.706 ,118.704,118.699,118.689,118.682, 118.675,118.668,118.66,118.652,118.644, 118.636,118.627,118.618,118.609,118.599 ,118.594,118.582,118.573,118.564, 118.555,118.545,118.535,118.517,118.507 ,118.496,117.888)
ORBIT_NUMBER = 2158
ORBITAL_ECCENTRICITY = 0.573
ORBITAL_INCLINATION = 86.61
ORBITAL_SEMIMAJOR_AXIS = 8615.76
PERIAPSIS_ALTITUDE = 282.15
PERIAPSIS_ARGUMENT_ANGLE = 338.95
PERIAPSIS_TIME = 2005-09-18T23:57:02.000Z
SPACECRAFT_ORIENTATION = (0.0,1.0,0.0)
^MEX_ORIENTATION_DESC = "MEX_ORIENTATION_DESC.TXT"
SPACECRAFT_POINTING_MODE = NADIR
^MEX_POINTING_DESC = "MEX_POINTING_DESC.TXT"
RIGHT_ASCENSION = -1e+32
DECLINATION = -1e+32
OFFSET_ANGLE = -1e+32
SPACECRAFT_SOLAR_DISTANCE = 2.10789e+08
TARGET_NAME = MARS
/* CAMERA DATA ELEMENTS */
DETECTOR_TEMPERATURE = 19.5939
FOCAL_PLANE_TEMPERATURE = 10.2145
INST_CMPRS_NAME = "DISCRETE COSINE TRANSFORMATION (DCT)"
INST_CMPRS_RATIO = 6.76262
INST_CMPRS_QUALITY = 0
INST_CMPRS_QUANTZ_TBL_ID = 0
INSTRUMENT_TEMPERATURE = 11.8457
LENS_TEMPERATURE = 10.4184
MACROPIXEL_SIZE = 2
MISSING_FRAMES = 0
PIXEL_SUBSAMPLING_FLAG = N
SIGNAL_CHAIN_ID = 3
/* RADIOMETRIC DATA ELEMENTS */
BANDWIDTH = 177.0
CENTER_FILTER_WAVELENGTH = 676.5
RADIANCE_OFFSET = 4.49378
RADIANCE_SCALING_FACTOR = 0.0173338
REFLECTANCE_SCALING_FACTOR = 0.000408359
MEX:REFLECTANCE_OFFSET = 0.105867
/* IMAGE OBJECT DEFINITIONS */
OBJECT = IMAGE
  INTERCHANGE_FORMAT = BINARY
  LINES = 14398
  LINE_SAMPLES = 4351
  SAMPLE_TYPE = UNSIGNED_INTEGER
  SAMPLE_BITS = 8
  BANDS = 1
  BAND_STORAGE_TYPE = BAND_SEQUENTIAL
  MAXIMUM = 246
  MEAN = 193.202
  MINIMUM = 116
  STANDARD_DEVIATION = 15.0094
END_OBJECT = IMAGE
/* MAP OBJECT DEFINITIONS */
OBJECT = IMAGE_MAP_PROJECTION
  ^DATA_SET_MAP_PROJECTION_CATALOG= "DSMAP.CAT"
  A_AXIS_RADIUS = 3396.0
  B_AXIS_RADIUS = 3396.0
  C_AXIS_RADIUS = 3396.0
  CENTER_LATITUDE = 0.0
  CENTER_LONGITUDE = 116.0
  COORDINATE_SYSTEM_NAME = PLANETOGRAPHIC
  COORDINATE_SYSTEM_TYPE = "BODY-FIXED ROTATING"
  EASTERNMOST_LONGITUDE = 118.828
  FIRST_STANDARD_PARALLEL = "N/A"
  LINE_FIRST_PIXEL = 1
  LINE_LAST_PIXEL = 14398
  LINE_PROJECTION_OFFSET = -69530.75
  MAP_PROJECTION_ROTATION = 0.0
  MAP_PROJECTION_TYPE = SINUSOIDAL
  MAP_RESOLUTION = 1185.42760773333
  MAP_SCALE = 0.05
  MAXIMUM_LATITUDE = -58.709
  MINIMUM_LATITUDE = -70.9091
  POSITIVE_LONGITUDE_DIRECTION = EAST
  REFERENCE_LATITUDE = "N/A"
  REFERENCE_LONGITUDE = "N/A"
  SAMPLE_FIRST_PIXEL = 1
  SAMPLE_LAST_PIXEL = 4351
  SAMPLE_PROJECTION_OFFSET = 2709.75
  SECOND_STANDARD_PARALLEL = "N/A"
  WESTERNMOST_LONGITUDE = 108.751
END_OBJECT = IMAGE_MAP_PROJECTION
/* The JPEG2000 image data file associated with this label. */
OBJECT = COMPRESSED_FILE
  FILE_NAME = "H2158_0000_P23.JP2"
  RECORD_TYPE = UNDEFINED
  FILE_RECORDS = UNK
  ENCODING_TYPE = "JP2"
  INTERCHANGE_FORMAT = BINARY
  UNCOMPRESSED_FILE_NAME = "H2158_0000_P23.IMG"
  REQUIRED_STORAGE_BYTES = "62671804"
  ^DESCRIPTION = "JP2INFO.TXT"
END_OBJECT = COMPRESSED_FILE
END
