PDS_VERSION_ID = PDS3
/* FILE DATA ELEMENTS */
RECORD_TYPE = STREAM
/* POINTERS TO DATA OBJECTS */
^COMPRESSED_FILE = "H2160_0000_BL3.JP2"
/* IDENTIFICATION DATA ELEMENTS */
DATA_SET_ID = "MEX-M-HRSC-5-REFDR-MAPPROJECTED-V3.0"
DATA_SET_NAME = "MARS EXPRESS HRSC MAP PROJECTED REFDR V3.0"
DETECTOR_ID = MEX_HRSC_BLUE
EVENT_TYPE = "MARS-REGIONAL-MAPPING-Gl-Eo-La"
INSTRUMENT_HOST_ID = MEX
INSTRUMENT_HOST_NAME = "MARS EXPRESS"
INSTRUMENT_ID = HRSC
INSTRUMENT_NAME = "HIGH RESOLUTION STEREO CAMERA"
MISSION_NAME = "MARS EXPRESS"
MISSION_PHASE_NAME = MR_Phase_7
PROCESSING_LEVEL_ID = 3
PRODUCT_CREATION_TIME = 2016-03-14T11:38:04.000Z
PRODUCT_ID = "H2160_0000_BL3.JP2"
RELEASE_ID = 0027
REVISION_ID = 0000
/* QUALITY DATA ELEMENTS */
DATA_QUALITY_ID = 1
DATA_QUALITY_DESC = "Data calculated based on original SPICE kernels"
/* TIME DATA ELEMENTS */
SPACECRAFT_CLOCK_START_COUNT = "1/0075214757.57312"
SPACECRAFT_CLOCK_STOP_COUNT = "1/0075215507.49082"
START_TIME = 2005-09-19T13:03:28.299Z
STOP_TIME = 2005-09-19T13:10:18.809Z
/* ORBITAL DATA ELEMENTS */
ASCENDING_NODE_LONGITUDE = 182.93
MAXIMUM_RESOLUTION = 127.4
FOOTPRINT_POINT_LATITUDE = (-85.4373,-84.9507,-84.4203,-84.1417, -83.8557,-83.5631,-83.2642,-82.9595, -82.6491,-82.3335,-81.9381,-81.684, -81.3861,-81.0474,-80.6708,-80.2587, -79.8153,-79.3422,-78.842,-78.3168, -78.0455,-77.7688,-77.4866,-77.199, -76.9065,-76.6095,-76.3078,-76.0015, -75.691,-75.3761,-75.0572,-74.7345, -74.4074,-74.0767,-73.7425,-73.4043, -73.063,-72.7178,-72.3698,-72.018, -71.6632,-71.3049,-70.9444,-70.5799, -70.2107,-69.8415,-69.4678,-69.0918, -68.5221,-68.1399,-67.5031,-67.6119, -67.7058,-67.809,-67.8816,-67.9572, -68.0251,-68.6524,-69.0544,-69.457, -69.8579,-70.2561,-70.6529,-71.0473, -71.4396,-71.8296,-72.2177,-72.6038, -72.9883,-73.37,-73.7496,-74.1274, -74.5031,-74.8769,-75.2484,-75.618, -75.9857,-76.3507,-76.7139,-77.075, -77.4336,-77.79,-78.1441,-78.4959, -78.8455,-79.1929,-79.5381,-79.8809, -80.2212,-80.5591,-80.8944,-81.2275, -81.8846,-82.5302,-83.1631,-83.7814, -84.3834,-84.9653,-85.5224,-85.4373)
FOOTPRINT_POINT_LONGITUDE = (245.476,239.813,235.161,233.15,231.319 ,229.648,228.119,226.714,225.421, 224.227,223.064,227.094,230.901,234.47, 237.795,240.876,243.724,246.348,248.762 ,250.982,252.023,253.022,253.979, 254.896,255.775,256.62,257.43,258.207, 258.953,259.669,260.357,261.019,261.653 ,262.264,262.851,263.415,263.959, 264.481,264.985,265.47,265.938,266.387, 266.824,267.243,267.639,268.033,268.408 ,268.773,269.294,269.627,270.516, 271.611,272.634,273.86,274.81,275.895, 276.976,277.311,277.197,277.079,276.956 ,276.829,276.696,276.558,276.415, 276.266,276.111,275.95,275.781,275.606, 275.423,275.231,275.031,274.821,274.601 ,274.371,274.128,273.875,273.608, 273.326,273.03,272.718,272.389,272.041, 271.672,271.28,270.864,270.421,269.949, 269.445,268.906,268.326,267.037,265.534 ,263.766,261.662,259.117,256.007, 252.146,245.476)
ORBIT_NUMBER = 2160
ORBITAL_ECCENTRICITY = 0.573
ORBITAL_INCLINATION = 86.61
ORBITAL_SEMIMAJOR_AXIS = 8617.19
PERIAPSIS_ALTITUDE = 282.03
PERIAPSIS_ARGUMENT_ANGLE = 338.6
PERIAPSIS_TIME = 2005-09-19T13:23:21.000Z
SPACECRAFT_ORIENTATION = (0.0,1.0,0.0)
^MEX_ORIENTATION_DESC = "MEX_ORIENTATION_DESC.TXT"
SPACECRAFT_POINTING_MODE = ACROSSTRACK
^MEX_POINTING_DESC = "MEX_POINTING_DESC.TXT"
RIGHT_ASCENSION = -1e+32
DECLINATION = -1e+32
OFFSET_ANGLE = 1.54
SPACECRAFT_SOLAR_DISTANCE = 2.1086e+08
TARGET_NAME = MARS
/* CAMERA DATA ELEMENTS */
DETECTOR_TEMPERATURE = 18.5744
FOCAL_PLANE_TEMPERATURE = 10.2145
INST_CMPRS_NAME = "DISCRETE COSINE TRANSFORMATION (DCT)"
INST_CMPRS_RATIO = 19.9578
INST_CMPRS_QUALITY = 0
INST_CMPRS_QUANTZ_TBL_ID = 0
INSTRUMENT_TEMPERATURE = 11.6418
LENS_TEMPERATURE = 10.4184
MACROPIXEL_SIZE = 4
MISSING_FRAMES = 0
PIXEL_SUBSAMPLING_FLAG = N
SIGNAL_CHAIN_ID = 2
/* RADIOMETRIC DATA ELEMENTS */
BANDWIDTH = 76.0
CENTER_FILTER_WAVELENGTH = 444.0
RADIANCE_OFFSET = 0.569958
RADIANCE_SCALING_FACTOR = 0.00471861
REFLECTANCE_SCALING_FACTOR = 0.00021555
MEX:REFLECTANCE_OFFSET = 0.0260362
/* IMAGE OBJECT DEFINITIONS */
OBJECT = IMAGE
  INTERCHANGE_FORMAT = BINARY
  LINES = 10766
  LINE_SAMPLES = 6212
  SAMPLE_TYPE = UNSIGNED_INTEGER
  SAMPLE_BITS = 8
  BANDS = 1
  BAND_STORAGE_TYPE = BAND_SEQUENTIAL
  MAXIMUM = 254
  MEAN = 113.571
  MINIMUM = 77
  STANDARD_DEVIATION = 12.1446
END_OBJECT = IMAGE
/* MAP OBJECT DEFINITIONS */
OBJECT = IMAGE_MAP_PROJECTION
  ^DATA_SET_MAP_PROJECTION_CATALOG= "DSMAP.CAT"
  A_AXIS_RADIUS = 3396.0
  B_AXIS_RADIUS = 3396.0
  C_AXIS_RADIUS = 3396.0
  CENTER_LATITUDE = 0.0
  CENTER_LONGITUDE = 265.0
  COORDINATE_SYSTEM_NAME = PLANETOGRAPHIC
  COORDINATE_SYSTEM_TYPE = "BODY-FIXED ROTATING"
  EASTERNMOST_LONGITUDE = 277.311
  FIRST_STANDARD_PARALLEL = "N/A"
  LINE_FIRST_PIXEL = 1
  LINE_LAST_PIXEL = 10766
  LINE_PROJECTION_OFFSET = -39997.375
  MAP_PROJECTION_ROTATION = 0.0
  MAP_PROJECTION_TYPE = SINUSOIDAL
  MAP_RESOLUTION = 592.713803866667
  MAP_SCALE = 0.1
  MAXIMUM_LATITUDE = -67.5031
  MINIMUM_LATITUDE = -85.5224
  POSITIVE_LONGITUDE_DIRECTION = EAST
  REFERENCE_LATITUDE = "N/A"
  REFERENCE_LONGITUDE = "N/A"
  SAMPLE_FIRST_PIXEL = 1
  SAMPLE_LAST_PIXEL = 6212
  SAMPLE_PROJECTION_OFFSET = 3460.625
  SECOND_STANDARD_PARALLEL = "N/A"
  WESTERNMOST_LONGITUDE = 223.064
END_OBJECT = IMAGE_MAP_PROJECTION
/* The JPEG2000 image data file associated with this label. */
OBJECT = COMPRESSED_FILE
  FILE_NAME = "H2160_0000_BL3.JP2"
  RECORD_TYPE = UNDEFINED
  FILE_RECORDS = UNK
  ENCODING_TYPE = "JP2"
  INTERCHANGE_FORMAT = BINARY
  UNCOMPRESSED_FILE_NAME = "H2160_0000_BL3.IMG"
  REQUIRED_STORAGE_BYTES = "66909452"
  ^DESCRIPTION = "JP2INFO.TXT"
END_OBJECT = COMPRESSED_FILE
END
