PDS_VERSION_ID = PDS3
/* FILE DATA ELEMENTS */
RECORD_TYPE = STREAM
/* POINTERS TO DATA OBJECTS */
^COMPRESSED_FILE = "H2160_0000_S23.JP2"
/* IDENTIFICATION DATA ELEMENTS */
DATA_SET_ID = "MEX-M-HRSC-5-REFDR-MAPPROJECTED-V3.0"
DATA_SET_NAME = "MARS EXPRESS HRSC MAP PROJECTED REFDR V3.0"
DETECTOR_ID = MEX_HRSC_S2
EVENT_TYPE = "MARS-REGIONAL-MAPPING-Gl-Eo-La"
INSTRUMENT_HOST_ID = MEX
INSTRUMENT_HOST_NAME = "MARS EXPRESS"
INSTRUMENT_ID = HRSC
INSTRUMENT_NAME = "HIGH RESOLUTION STEREO CAMERA"
MISSION_NAME = "MARS EXPRESS"
MISSION_PHASE_NAME = MR_Phase_7
PROCESSING_LEVEL_ID = 3
PRODUCT_CREATION_TIME = 2016-03-14T11:38:04.000Z
PRODUCT_ID = "H2160_0000_S23.JP2"
RELEASE_ID = 0027
REVISION_ID = 0000
/* QUALITY DATA ELEMENTS */
DATA_QUALITY_ID = 1
DATA_QUALITY_DESC = "Data calculated based on original SPICE kernels"
/* TIME DATA ELEMENTS */
SPACECRAFT_CLOCK_START_COUNT = "1/0075214757.57312"
SPACECRAFT_CLOCK_STOP_COUNT = "1/0075215507.49082"
START_TIME = 2005-09-19T12:59:25.032Z
STOP_TIME = 2005-09-19T13:08:45.109Z
/* ORBITAL DATA ELEMENTS */
ASCENDING_NODE_LONGITUDE = 182.93
MAXIMUM_RESOLUTION = 78.1
FOOTPRINT_POINT_LATITUDE = (-86.2735,-85.9634,-85.6237,-85.2604, -84.8779,-84.4797,-84.0688,-83.6471, -83.2157,-82.7756,-82.3273,-81.8716, -81.3334,-81.1366,-80.9037,-80.6345, -80.3299,-79.9923,-79.6203,-79.2166, -78.7821,-78.3167,-77.8226,-77.5645, -77.2993,-77.0278,-76.7494,-76.4645, -76.173,-75.8748,-75.5711,-75.2607, -74.9439,-74.6215,-74.2926,-73.9576, -73.6167,-73.2702,-72.9181,-72.5607, -72.1969,-71.8276,-71.4522,-71.0707, -70.6843,-70.2982,-69.8974,-69.4941, -69.0867,-68.6737,-68.2558,-67.8323, -67.4622,-67.604,-67.7255,-67.8709, -67.9565,-68.0702,-68.1785,-68.6715, -69.1243,-69.5743,-70.0201,-70.4631, -70.9045,-71.3333,-71.9698,-72.3952, -72.8125,-73.2373,-73.6473,-74.0551, -74.4581,-74.8581,-75.2549,-75.649, -76.0357,-76.6139,-76.9933,-77.5513, -77.9254,-78.2906,-78.6542,-79.0109, -79.3656,-79.7173,-80.0656,-80.4115, -80.7523,-81.0906,-81.4256,-81.7559, -82.4066,-83.0432,-83.6656,-84.273, -84.8644,-85.4387,-86.2762,-86.2735)
FOOTPRINT_POINT_LONGITUDE = (251.719,246.583,242.221,238.518, 235.364,232.667,230.348,228.344,226.601 ,225.074,223.73,222.542,222.322,225.672 ,228.931,232.081,235.105,237.986, 240.724,243.312,245.75,248.042,250.19, 251.212,252.2,253.156,254.079,254.971, 255.833,256.665,257.468,258.245,258.994 ,259.718,260.416,261.091,261.742, 262.371,262.978,263.565,264.131,264.678 ,265.206,265.716,266.208,266.687, 267.145,267.589,268.018,268.434,268.835 ,269.223,270.355,271.491,272.547,273.93 ,274.829,276.137,277.528,277.96,277.868 ,277.772,277.673,277.571,277.463, 277.357,277.191,277.071,276.95,276.816, 276.685,276.548,276.407,276.259,276.105 ,275.943,275.779,275.513,275.328,275.04 ,274.827,274.612,274.384,274.149,273.9, 273.636,273.358,273.06,272.75,272.417, 272.064,271.69,270.864,269.912,268.805, 267.5,265.942,264.053,260.188,251.719)
ORBIT_NUMBER = 2160
ORBITAL_ECCENTRICITY = 0.573
ORBITAL_INCLINATION = 86.61
ORBITAL_SEMIMAJOR_AXIS = 8617.19
PERIAPSIS_ALTITUDE = 282.03
PERIAPSIS_ARGUMENT_ANGLE = 338.6
PERIAPSIS_TIME = 2005-09-19T13:23:21.000Z
SPACECRAFT_ORIENTATION = (0.0,1.0,0.0)
^MEX_ORIENTATION_DESC = "MEX_ORIENTATION_DESC.TXT"
SPACECRAFT_POINTING_MODE = ACROSSTRACK
^MEX_POINTING_DESC = "MEX_POINTING_DESC.TXT"
RIGHT_ASCENSION = -1e+32
DECLINATION = -1e+32
OFFSET_ANGLE = 1.54
SPACECRAFT_SOLAR_DISTANCE = 2.1086e+08
TARGET_NAME = MARS
/* CAMERA DATA ELEMENTS */
DETECTOR_TEMPERATURE = 19.39
FOCAL_PLANE_TEMPERATURE = 10.2145
INST_CMPRS_NAME = "DISCRETE COSINE TRANSFORMATION (DCT)"
INST_CMPRS_RATIO = 11.8074
INST_CMPRS_QUALITY = 0
INST_CMPRS_QUANTZ_TBL_ID = 0
INSTRUMENT_TEMPERATURE = 11.6418
LENS_TEMPERATURE = 10.4184
MACROPIXEL_SIZE = 2
MISSING_FRAMES = 0
PIXEL_SUBSAMPLING_FLAG = N
SIGNAL_CHAIN_ID = 1
/* RADIOMETRIC DATA ELEMENTS */
BANDWIDTH = 178.0
CENTER_FILTER_WAVELENGTH = 679.0
RADIANCE_OFFSET = 4.07058
RADIANCE_SCALING_FACTOR = 0.0367151
REFLECTANCE_SCALING_FACTOR = 0.000864475
MEX:REFLECTANCE_OFFSET = 0.095844
/* IMAGE OBJECT DEFINITIONS */
OBJECT = IMAGE
  INTERCHANGE_FORMAT = BINARY
  LINES = 21532
  LINE_SAMPLES = 12423
  SAMPLE_TYPE = UNSIGNED_INTEGER
  SAMPLE_BITS = 8
  BANDS = 1
  BAND_STORAGE_TYPE = BAND_SEQUENTIAL
  MAXIMUM = 276
  MEAN = 130.642
  MINIMUM = 77
  STANDARD_DEVIATION = 18.6601
END_OBJECT = IMAGE
/* MAP OBJECT DEFINITIONS */
OBJECT = IMAGE_MAP_PROJECTION
  ^DATA_SET_MAP_PROJECTION_CATALOG= "DSMAP.CAT"
  A_AXIS_RADIUS = 3396.0
  B_AXIS_RADIUS = 3396.0
  C_AXIS_RADIUS = 3396.0
  CENTER_LATITUDE = 0.0
  CENTER_LONGITUDE = 265.0
  COORDINATE_SYSTEM_NAME = PLANETOGRAPHIC
  COORDINATE_SYSTEM_TYPE = "BODY-FIXED ROTATING"
  EASTERNMOST_LONGITUDE = 277.96
  FIRST_STANDARD_PARALLEL = "N/A"
  LINE_FIRST_PIXEL = 1
  LINE_LAST_PIXEL = 21532
  LINE_PROJECTION_OFFSET = -79994.25
  MAP_PROJECTION_ROTATION = 0.0
  MAP_PROJECTION_TYPE = SINUSOIDAL
  MAP_RESOLUTION = 1185.42760773333
  MAP_SCALE = 0.05
  MAXIMUM_LATITUDE = -67.4622
  MINIMUM_LATITUDE = -86.2762
  POSITIVE_LONGITUDE_DIRECTION = EAST
  REFERENCE_LATITUDE = "N/A"
  REFERENCE_LONGITUDE = "N/A"
  SAMPLE_FIRST_PIXEL = 1
  SAMPLE_LAST_PIXEL = 12423
  SAMPLE_PROJECTION_OFFSET = 6921.75
  SECOND_STANDARD_PARALLEL = "N/A"
  WESTERNMOST_LONGITUDE = 222.322
END_OBJECT = IMAGE_MAP_PROJECTION
/* The JPEG2000 image data file associated with this label. */
OBJECT = COMPRESSED_FILE
  FILE_NAME = "H2160_0000_S23.JP2"
  RECORD_TYPE = UNDEFINED
  FILE_RECORDS = UNK
  ENCODING_TYPE = "JP2"
  INTERCHANGE_FORMAT = BINARY
  UNCOMPRESSED_FILE_NAME = "H2160_0000_S23.IMG"
  REQUIRED_STORAGE_BYTES = "267529305"
  ^DESCRIPTION = "JP2INFO.TXT"
END_OBJECT = COMPRESSED_FILE
END
