PDS_VERSION_ID = PDS3
/* FILE DATA ELEMENTS */
RECORD_TYPE = STREAM
/* POINTERS TO DATA OBJECTS */
^COMPRESSED_FILE = "H2160_0001_BL3.JP2"
/* IDENTIFICATION DATA ELEMENTS */
DATA_SET_ID = "MEX-M-HRSC-5-REFDR-MAPPROJECTED-V3.0"
DATA_SET_NAME = "MARS EXPRESS HRSC MAP PROJECTED REFDR V3.0"
DETECTOR_ID = MEX_HRSC_BLUE
EVENT_TYPE = "MARS-REGIONAL-STEREO-Te-La"
INSTRUMENT_HOST_ID = MEX
INSTRUMENT_HOST_NAME = "MARS EXPRESS"
INSTRUMENT_ID = HRSC
INSTRUMENT_NAME = "HIGH RESOLUTION STEREO CAMERA"
MISSION_NAME = "MARS EXPRESS"
MISSION_PHASE_NAME = MR_Phase_7
PROCESSING_LEVEL_ID = 3
PRODUCT_CREATION_TIME = 2016-03-14T11:38:04.000Z
PRODUCT_ID = "H2160_0001_BL3.JP2"
RELEASE_ID = 0027
REVISION_ID = 0000
/* QUALITY DATA ELEMENTS */
DATA_QUALITY_ID = 2
DATA_QUALITY_DESC = "Data calculated based on photogrammetrically improved orbit and attitude data"
/* TIME DATA ELEMENTS */
SPACECRAFT_CLOCK_START_COUNT = "1/0075216320.57972"
SPACECRAFT_CLOCK_STOP_COUNT = "1/0075216517.00049"
START_TIME = 2005-09-19T13:25:50.728Z
STOP_TIME = 2005-09-19T13:28:01.822Z
/* ORBITAL DATA ELEMENTS */
ASCENDING_NODE_LONGITUDE = 182.93
MAXIMUM_RESOLUTION = 96.8
FOOTPRINT_POINT_LATITUDE = (-11.0751,-11.0711,-11.0669,-11.0625, -11.0579,-11.0531,-11.0506,-10.8896, -10.5677,-10.2461,-9.9969,-9.83052, -9.58102,-9.41462,-9.24686,-9.08204, -8.91389,-8.66113,-8.41018,-8.24854, -8.08037,-7.82626,-7.65456,-7.48374, -7.31643,-7.14782,-6.98039,-6.72447, -6.55374,-6.29768,-6.1271,-5.95563, -5.77943,-5.60174,-5.42693,-5.24634, -5.06846,-4.89363,-4.72359,-4.46091, -4.28551,-4.11024,-3.93506,-3.75992, -3.5849,-3.32246,-3.14771,-2.97313, -2.71124,-2.53682,-2.48398,-2.48929, -2.4937,-2.50016,-2.76217,-2.93686, -3.11165,-3.28655,-3.46162,-3.63668, -3.81189,-3.98733,-4.16279,-4.33833, -4.51398,-4.68968,-4.86548,-5.12927, -5.30535,-5.4815,-5.65751,-5.83031, -6.01025,-6.26661,-6.43752,-6.60843, -6.77945,-6.95042,-7.11948,-7.28955, -7.45675,-7.62614,-7.79735,-7.96763, -8.13335,-8.30113,-8.46809,-8.6311, -8.79626,-8.96638,-9.13605,-9.38766, -9.55276,-9.72074,-9.97096,-10.1376, -10.3028,-10.6248,-10.786,-11.0751)
FOOTPRINT_POINT_LONGITUDE = (280.893,280.727,280.557,280.383, 280.205,280.024,279.838,279.838,279.838 ,279.838,279.838,279.838,279.837, 279.836,279.827,279.834,279.822,279.8, 279.787,279.811,279.796,279.775,279.773 ,279.774,279.795,279.809,279.828, 279.829,279.829,279.827,279.826,279.824 ,279.823,279.812,279.817,279.789, 279.776,279.779,279.808,279.809,279.806 ,279.804,279.802,279.8,279.797,279.793, 279.791,279.788,279.784,279.781,280.107 ,280.45,280.746,281.066,281.064,281.062 ,281.061,281.059,281.058,281.057, 281.055,281.054,281.053,281.051,281.05, 281.048,281.047,281.045,281.043,281.042 ,281.04,281.029,281.037,281.036,281.034 ,281.033,281.031,281.029,281.022, 281.017,281.004,280.997,280.994,280.994 ,280.992,280.995,280.996,280.986, 280.981,280.991,280.999,281.003,280.997 ,281.0,280.999,280.997,280.996,280.993, 280.992,280.893)
ORBIT_NUMBER = 2160
ORBITAL_ECCENTRICITY = 0.573
ORBITAL_INCLINATION = 86.61
ORBITAL_SEMIMAJOR_AXIS = 8617.19
PERIAPSIS_ALTITUDE = 282.03
PERIAPSIS_ARGUMENT_ANGLE = 338.6
PERIAPSIS_TIME = 2005-09-19T13:23:21.000Z
SPACECRAFT_ORIENTATION = (0.0,1.0,0.0)
^MEX_ORIENTATION_DESC = "MEX_ORIENTATION_DESC.TXT"
SPACECRAFT_POINTING_MODE = ACROSSTRACK
^MEX_POINTING_DESC = "MEX_POINTING_DESC.TXT"
RIGHT_ASCENSION = -1e+32
DECLINATION = -1e+32
OFFSET_ANGLE = 1.54
SPACECRAFT_SOLAR_DISTANCE = 2.1086e+08
TARGET_NAME = MARS
/* CAMERA DATA ELEMENTS */
DETECTOR_TEMPERATURE = 21.429
FOCAL_PLANE_TEMPERATURE = 11.0301
INST_CMPRS_NAME = "DISCRETE COSINE TRANSFORMATION (DCT)"
INST_CMPRS_RATIO = 20.3191
INST_CMPRS_QUALITY = 0
INST_CMPRS_QUANTZ_TBL_ID = 0
INSTRUMENT_TEMPERATURE = 16.1276
LENS_TEMPERATURE = 11.4379
MACROPIXEL_SIZE = 8
MISSING_FRAMES = 0
PIXEL_SUBSAMPLING_FLAG = N
SIGNAL_CHAIN_ID = 2
/* RADIOMETRIC DATA ELEMENTS */
BANDWIDTH = 76.0
CENTER_FILTER_WAVELENGTH = 444.0
RADIANCE_OFFSET = 0.800966
RADIANCE_SCALING_FACTOR = 0.00298133
REFLECTANCE_SCALING_FACTOR = 0.000136193
MEX:REFLECTANCE_OFFSET = 0.0365897
/* IMAGE OBJECT DEFINITIONS */
OBJECT = IMAGE
  INTERCHANGE_FORMAT = BINARY
  LINES = 5090
  LINE_SAMPLES = 879
  SAMPLE_TYPE = UNSIGNED_INTEGER
  SAMPLE_BITS = 8
  BANDS = 1
  BAND_STORAGE_TYPE = BAND_SEQUENTIAL
  MAXIMUM = 116
  MEAN = 89.0437
  MINIMUM = 53
  STANDARD_DEVIATION = 5.11301
END_OBJECT = IMAGE
/* MAP OBJECT DEFINITIONS */
OBJECT = IMAGE_MAP_PROJECTION
  ^DATA_SET_MAP_PROJECTION_CATALOG= "DSMAP.CAT"
  A_AXIS_RADIUS = 3396.0
  B_AXIS_RADIUS = 3396.0
  C_AXIS_RADIUS = 3396.0
  CENTER_LATITUDE = 0.0
  CENTER_LONGITUDE = 280.0
  COORDINATE_SYSTEM_NAME = PLANETOGRAPHIC
  COORDINATE_SYSTEM_TYPE = "BODY-FIXED ROTATING"
  EASTERNMOST_LONGITUDE = 281.066
  FIRST_STANDARD_PARALLEL = "N/A"
  LINE_FIRST_PIXEL = 1
  LINE_LAST_PIXEL = 5090
  LINE_PROJECTION_OFFSET = -1472.8125
  MAP_PROJECTION_ROTATION = 0.0
  MAP_PROJECTION_TYPE = SINUSOIDAL
  MAP_RESOLUTION = 592.713803866667
  MAP_SCALE = 0.1
  MAXIMUM_LATITUDE = -2.48398
  MINIMUM_LATITUDE = -11.0751
  POSITIVE_LONGITUDE_DIRECTION = EAST
  REFERENCE_LATITUDE = "N/A"
  REFERENCE_LONGITUDE = "N/A"
  SAMPLE_FIRST_PIXEL = 1
  SAMPLE_LAST_PIXEL = 879
  SAMPLE_PROJECTION_OFFSET = 251.8125
  SECOND_STANDARD_PARALLEL = "N/A"
  WESTERNMOST_LONGITUDE = 279.773
END_OBJECT = IMAGE_MAP_PROJECTION
/* The JPEG2000 image data file associated with this label. */
OBJECT = COMPRESSED_FILE
  FILE_NAME = "H2160_0001_BL3.JP2"
  RECORD_TYPE = UNDEFINED
  FILE_RECORDS = UNK
  ENCODING_TYPE = "JP2"
  INTERCHANGE_FORMAT = BINARY
  UNCOMPRESSED_FILE_NAME = "H2160_0001_BL3.IMG"
  REQUIRED_STORAGE_BYTES = "4492569"
  ^DESCRIPTION = "JP2INFO.TXT"
END_OBJECT = COMPRESSED_FILE
END
