PDS_VERSION_ID = PDS3
/* FILE DATA ELEMENTS */
RECORD_TYPE = STREAM
/* POINTERS TO DATA OBJECTS */
^COMPRESSED_FILE = "H2160_0001_P23.JP2"
/* IDENTIFICATION DATA ELEMENTS */
DATA_SET_ID = "MEX-M-HRSC-5-REFDR-MAPPROJECTED-V3.0"
DATA_SET_NAME = "MARS EXPRESS HRSC MAP PROJECTED REFDR V3.0"
DETECTOR_ID = MEX_HRSC_P2
EVENT_TYPE = "MARS-REGIONAL-STEREO-Te-La"
INSTRUMENT_HOST_ID = MEX
INSTRUMENT_HOST_NAME = "MARS EXPRESS"
INSTRUMENT_ID = HRSC
INSTRUMENT_NAME = "HIGH RESOLUTION STEREO CAMERA"
MISSION_NAME = "MARS EXPRESS"
MISSION_PHASE_NAME = MR_Phase_7
PROCESSING_LEVEL_ID = 3
PRODUCT_CREATION_TIME = 2016-03-14T11:38:04.000Z
PRODUCT_ID = "H2160_0001_P23.JP2"
RELEASE_ID = 0027
REVISION_ID = 0000
/* QUALITY DATA ELEMENTS */
DATA_QUALITY_ID = 2
DATA_QUALITY_DESC = "Data calculated based on photogrammetrically improved orbit and attitude data"
/* TIME DATA ELEMENTS */
SPACECRAFT_CLOCK_START_COUNT = "1/0075216320.57972"
SPACECRAFT_CLOCK_STOP_COUNT = "1/0075216517.00049"
START_TIME = 2005-09-19T13:25:37.356Z
STOP_TIME = 2005-09-19T13:27:46.349Z
/* ORBITAL DATA ELEMENTS */
ASCENDING_NODE_LONGITUDE = 182.93
MAXIMUM_RESOLUTION = 24.6
FOOTPRINT_POINT_LATITUDE = (-11.0868,-11.0731,-11.0589,-11.044, -11.0285,-10.9468,-10.7839,-10.6211, -10.4584,-10.2143,-9.96997,-9.7261, -9.56345,-9.40039,-9.23236,-8.97257, -8.79495,-8.62032,-8.44871,-8.29366, -8.02887,-7.85392,-7.68472,-7.43575, -7.28417,-7.12652,-6.96502,-6.70678, -6.5334,-6.35978,-6.1864,-5.92575, -5.75185,-5.491,-5.3026,-5.11787, -4.94572,-4.78363,-4.61195,-4.43261, -4.25355,-4.07469,-3.89581,-3.62738, -3.4483,-3.17996,-2.91199,-2.73329, -2.46528,-2.46882,-2.48761,-2.49861, -2.51357,-2.52527,-2.62054,-2.79956, -2.97839,-3.24662,-3.42563,-3.69392, -3.96298,-4.23197,-4.50086,-4.68014, -4.85954,-5.12172,-5.29967,-5.47465, -5.64636,-5.8057,-5.99171,-6.16708, -6.34447,-6.51844,-6.6921,-6.86586, -7.03822,-7.19978,-7.35866,-7.5145, -7.67679,-7.8465,-8.0158,-8.27066, -8.44712,-8.60368,-8.76852,-8.94691, -9.12811,-9.30827,-9.4729,-9.63194, -9.80022,-9.96354,-10.2086,-10.4531, -10.6161,-10.7796,-11.0245,-11.0868)
FOOTPRINT_POINT_LONGITUDE = (280.732,280.555,280.375,280.19,280.001 ,279.821,279.821,279.821,279.822, 279.822,279.821,279.821,279.821,279.82, 279.815,279.803,279.787,279.776,279.77, 279.792,279.771,279.759,279.757,279.761 ,279.787,279.803,279.813,279.814, 279.814,279.813,279.812,279.81,279.808, 279.805,279.779,279.76,279.762,279.787, 279.797,279.795,279.793,279.791,279.788 ,279.785,279.782,279.778,279.774, 279.771,279.767,280.068,280.359,280.533 ,280.775,280.966,281.052,281.05,281.049 ,281.047,281.046,281.044,281.042, 281.041,281.039,281.037,281.036,281.03, 281.032,281.031,281.028,281.016,281.024 ,281.024,281.025,281.024,281.022, 281.021,281.018,281.011,281.003,280.991 ,280.985,280.985,280.984,280.983, 280.988,280.977,280.973,280.979,280.988 ,280.996,280.993,280.989,280.992, 280.991,280.989,280.987,280.986,280.985 ,280.983,280.732)
ORBIT_NUMBER = 2160
ORBITAL_ECCENTRICITY = 0.573
ORBITAL_INCLINATION = 86.61
ORBITAL_SEMIMAJOR_AXIS = 8617.19
PERIAPSIS_ALTITUDE = 282.03
PERIAPSIS_ARGUMENT_ANGLE = 338.6
PERIAPSIS_TIME = 2005-09-19T13:23:21.000Z
SPACECRAFT_ORIENTATION = (0.0,1.0,0.0)
^MEX_ORIENTATION_DESC = "MEX_ORIENTATION_DESC.TXT"
SPACECRAFT_POINTING_MODE = ACROSSTRACK
^MEX_POINTING_DESC = "MEX_POINTING_DESC.TXT"
RIGHT_ASCENSION = -1e+32
DECLINATION = -1e+32
OFFSET_ANGLE = 1.54
SPACECRAFT_SOLAR_DISTANCE = 2.1086e+08
TARGET_NAME = MARS
/* CAMERA DATA ELEMENTS */
DETECTOR_TEMPERATURE = 23.468
FOCAL_PLANE_TEMPERATURE = 11.0301
INST_CMPRS_NAME = "DISCRETE COSINE TRANSFORMATION (DCT)"
INST_CMPRS_RATIO = 8.88595
INST_CMPRS_QUALITY = 0
INST_CMPRS_QUANTZ_TBL_ID = 0
INSTRUMENT_TEMPERATURE = 16.1276
LENS_TEMPERATURE = 11.4379
MACROPIXEL_SIZE = 2
MISSING_FRAMES = 0
PIXEL_SUBSAMPLING_FLAG = N
SIGNAL_CHAIN_ID = 3
/* RADIOMETRIC DATA ELEMENTS */
BANDWIDTH = 177.0
CENTER_FILTER_WAVELENGTH = 676.5
RADIANCE_OFFSET = 5.0091
RADIANCE_SCALING_FACTOR = 0.0373861
REFLECTANCE_SCALING_FACTOR = 0.000881363
MEX:REFLECTANCE_OFFSET = 0.118088
/* IMAGE OBJECT DEFINITIONS */
OBJECT = IMAGE
  INTERCHANGE_FORMAT = BINARY
  LINES = 20359
  LINE_SAMPLES = 3514
  SAMPLE_TYPE = UNSIGNED_INTEGER
  SAMPLE_BITS = 8
  BANDS = 1
  BAND_STORAGE_TYPE = BAND_SEQUENTIAL
  MAXIMUM = 185
  MEAN = 125.193
  MINIMUM = 57
  STANDARD_DEVIATION = 17.8004
END_OBJECT = IMAGE
/* MAP OBJECT DEFINITIONS */
OBJECT = IMAGE_MAP_PROJECTION
  ^DATA_SET_MAP_PROJECTION_CATALOG= "DSMAP.CAT"
  A_AXIS_RADIUS = 3396.0
  B_AXIS_RADIUS = 3396.0
  C_AXIS_RADIUS = 3396.0
  CENTER_LATITUDE = 0.0
  CENTER_LONGITUDE = 280.0
  COORDINATE_SYSTEM_NAME = PLANETOGRAPHIC
  COORDINATE_SYSTEM_TYPE = "BODY-FIXED ROTATING"
  EASTERNMOST_LONGITUDE = 281.052
  FIRST_STANDARD_PARALLEL = "N/A"
  LINE_FIRST_PIXEL = 1
  LINE_LAST_PIXEL = 20359
  LINE_PROJECTION_OFFSET = -5889.75
  MAP_PROJECTION_ROTATION = 0.0
  MAP_PROJECTION_TYPE = SINUSOIDAL
  MAP_RESOLUTION = 2370.85521546667
  MAP_SCALE = 0.025
  MAXIMUM_LATITUDE = -2.46528
  MINIMUM_LATITUDE = -11.0868
  POSITIVE_LONGITUDE_DIRECTION = EAST
  REFERENCE_LATITUDE = "N/A"
  REFERENCE_LONGITUDE = "N/A"
  SAMPLE_FIRST_PIXEL = 1
  SAMPLE_LAST_PIXEL = 3514
  SAMPLE_PROJECTION_OFFSET = 1008.75
  SECOND_STANDARD_PARALLEL = "N/A"
  WESTERNMOST_LONGITUDE = 279.757
END_OBJECT = IMAGE_MAP_PROJECTION
/* The JPEG2000 image data file associated with this label. */
OBJECT = COMPRESSED_FILE
  FILE_NAME = "H2160_0001_P23.JP2"
  RECORD_TYPE = UNDEFINED
  FILE_RECORDS = UNK
  ENCODING_TYPE = "JP2"
  INTERCHANGE_FORMAT = BINARY
  UNCOMPRESSED_FILE_NAME = "H2160_0001_P23.IMG"
  REQUIRED_STORAGE_BYTES = "71566124"
  ^DESCRIPTION = "JP2INFO.TXT"
END_OBJECT = COMPRESSED_FILE
END
