PDS_VERSION_ID = PDS3
/* FILE DATA ELEMENTS */
RECORD_TYPE = STREAM
/* POINTERS TO DATA OBJECTS */
^COMPRESSED_FILE = "H2162_0000_P23.JP2"
/* IDENTIFICATION DATA ELEMENTS */
DATA_SET_ID = "MEX-M-HRSC-5-REFDR-MAPPROJECTED-V3.0"
DATA_SET_NAME = "MARS EXPRESS HRSC MAP PROJECTED REFDR V3.0"
DETECTOR_ID = MEX_HRSC_P2
EVENT_TYPE = "MARS-REGIONAL-MAPPING-Gl-La"
INSTRUMENT_HOST_ID = MEX
INSTRUMENT_HOST_NAME = "MARS EXPRESS"
INSTRUMENT_ID = HRSC
INSTRUMENT_NAME = "HIGH RESOLUTION STEREO CAMERA"
MISSION_NAME = "MARS EXPRESS"
MISSION_PHASE_NAME = MR_Phase_7
PROCESSING_LEVEL_ID = 3
PRODUCT_CREATION_TIME = 2016-03-14T11:38:04.000Z
PRODUCT_ID = "H2162_0000_P23.JP2"
RELEASE_ID = 0027
REVISION_ID = 0000
/* QUALITY DATA ELEMENTS */
DATA_QUALITY_ID = 1
DATA_QUALITY_DESC = "Data calculated based on original SPICE kernels"
/* TIME DATA ELEMENTS */
SPACECRAFT_CLOCK_START_COUNT = "1/0075263071.56180"
SPACECRAFT_CLOCK_STOP_COUNT = "1/0075263834.43399"
START_TIME = 2005-09-20T02:26:52.832Z
STOP_TIME = 2005-09-20T02:34:31.223Z
/* ORBITAL DATA ELEMENTS */
ASCENDING_NODE_LONGITUDE = 182.89
MAXIMUM_RESOLUTION = 77.8
FOOTPRINT_POINT_LATITUDE = (-88.6197,-88.4595,-88.2074,-87.8967, -87.5501,-87.1807,-86.7967,-86.4031, -86.0026,-85.597,-85.1871,-84.7737, -84.3574,-84.0392,-83.8774,-83.66, -83.3952,-83.0859,-82.7337,-82.345, -81.9208,-81.467,-80.9847,-80.7337, -80.4768,-80.2129,-79.9444,-79.6701, -79.3902,-79.1055,-78.8157,-78.5212, -78.2217,-77.9178,-77.6099,-77.1454, -76.8285,-76.5016,-76.0068,-75.6768, -75.3323,-74.9915,-74.6564,-74.3076, -73.9556,-73.4192,-73.0594,-72.6921, -72.3276,-71.7691,-71.3957,-71.3051, -71.3789,-71.4684,-71.5196,-71.5623, -71.5984,-71.6367,-72.0599,-72.4535, -72.8442,-73.232,-73.6177,-74.0011, -74.3824,-74.7613,-75.1379,-75.5135, -75.8897,-76.4359,-76.8037,-77.1636, -77.5216,-77.8768,-78.4094,-78.7611, -79.1106,-79.4571,-79.8033,-80.144, -80.4841,-80.8223,-81.1576,-81.4908, -81.8243,-82.1538,-82.4814,-82.8071, -83.1292,-83.61,-83.927,-84.2422, -84.8659,-85.481,-86.0875,-86.6852, -87.2766,-87.8586,-88.4327,-88.6197)
FOOTPRINT_POINT_LONGITUDE = (78.1465,62.3176,50.2668,41.5076, 35.1463,30.426,26.8401,24.0514,21.833, 20.0342,18.5508,17.3097,16.2608,20.61, 25.6699,30.5404,35.1091,39.3511,43.2628 ,46.8341,50.0882,53.0367,55.7087, 56.9485,58.1281,59.2522,60.3209,61.3388 ,62.3086,63.2324,64.113,64.9526,65.7537 ,66.5182,67.248,68.2807,68.9322,69.5561 ,70.4409,70.9993,71.534,72.0463,72.5383 ,73.0095,73.4617,74.1058,74.5144, 74.9061,75.284,75.8226,76.1655,77.78, 78.9551,80.534,81.6302,82.7367,83.7439, 85.2719,86.6426,86.6467,86.6514,86.6572 ,86.6623,86.6671,86.6709,86.6748, 86.6783,86.6783,86.6701,86.6938,86.6917 ,86.7056,86.7186,86.7336,86.7444, 86.7534,86.7626,86.7748,86.7804,86.7984 ,86.811,86.8233,86.8393,86.8559,86.8625 ,86.8779,86.8932,86.9087,86.9337, 86.9655,86.9956,87.026,87.1024,87.2029, 87.3381,87.5313,87.7865,88.2068,88.9338 ,78.1465)
ORBIT_NUMBER = 2162
ORBITAL_ECCENTRICITY = 0.573
ORBITAL_INCLINATION = 86.63
ORBITAL_SEMIMAJOR_AXIS = 8615.6
PERIAPSIS_ALTITUDE = 281.35
PERIAPSIS_ARGUMENT_ANGLE = 338.22
PERIAPSIS_TIME = 2005-09-20T02:49:30.000Z
SPACECRAFT_ORIENTATION = (0.0,1.0,0.0)
^MEX_ORIENTATION_DESC = "MEX_ORIENTATION_DESC.TXT"
SPACECRAFT_POINTING_MODE = ACROSSTRACK
^MEX_POINTING_DESC = "MEX_POINTING_DESC.TXT"
RIGHT_ASCENSION = -1e+32
DECLINATION = -1e+32
OFFSET_ANGLE = -0.4
SPACECRAFT_SOLAR_DISTANCE = 2.1093e+08
TARGET_NAME = MARS
/* CAMERA DATA ELEMENTS */
DETECTOR_TEMPERATURE = 18.9822
FOCAL_PLANE_TEMPERATURE = 9.3989
INST_CMPRS_NAME = "DISCRETE COSINE TRANSFORMATION (DCT)"
INST_CMPRS_RATIO = 8.23902
INST_CMPRS_QUALITY = 0
INST_CMPRS_QUANTZ_TBL_ID = 0
INSTRUMENT_TEMPERATURE = 11.6418
LENS_TEMPERATURE = 9.8067
MACROPIXEL_SIZE = 2
MISSING_FRAMES = 0
PIXEL_SUBSAMPLING_FLAG = N
SIGNAL_CHAIN_ID = 3
/* RADIOMETRIC DATA ELEMENTS */
BANDWIDTH = 177.0
CENTER_FILTER_WAVELENGTH = 676.5
RADIANCE_OFFSET = 4.01945
RADIANCE_SCALING_FACTOR = 0.0380757
REFLECTANCE_SCALING_FACTOR = 0.000898205
MEX:REFLECTANCE_OFFSET = 0.0948186
/* IMAGE OBJECT DEFINITIONS */
OBJECT = IMAGE
  INTERCHANGE_FORMAT = BINARY
  LINES = 20372
  LINE_SAMPLES = 10981
  SAMPLE_TYPE = UNSIGNED_INTEGER
  SAMPLE_BITS = 8
  BANDS = 1
  BAND_STORAGE_TYPE = BAND_SEQUENTIAL
  MAXIMUM = 267
  MEAN = 117.082
  MINIMUM = 76
  STANDARD_DEVIATION = 23.8275
END_OBJECT = IMAGE
/* MAP OBJECT DEFINITIONS */
OBJECT = IMAGE_MAP_PROJECTION
  ^DATA_SET_MAP_PROJECTION_CATALOG= "DSMAP.CAT"
  A_AXIS_RADIUS = 3396.0
  B_AXIS_RADIUS = 3396.0
  C_AXIS_RADIUS = 3396.0
  CENTER_LATITUDE = 0.0
  CENTER_LONGITUDE = 74.0
  COORDINATE_SYSTEM_NAME = PLANETOGRAPHIC
  COORDINATE_SYSTEM_TYPE = "BODY-FIXED ROTATING"
  EASTERNMOST_LONGITUDE = 88.93380000000001
  FIRST_STANDARD_PARALLEL = "N/A"
  LINE_FIRST_PIXEL = 1
  LINE_LAST_PIXEL = 20372
  LINE_PROJECTION_OFFSET = -83878.25
  MAP_PROJECTION_ROTATION = 0.0
  MAP_PROJECTION_TYPE = SINUSOIDAL
  MAP_RESOLUTION = 1185.42760773333
  MAP_SCALE = 0.05
  MAXIMUM_LATITUDE = -71.3051
  MINIMUM_LATITUDE = -88.61969999999999
  POSITIVE_LONGITUDE_DIRECTION = EAST
  REFERENCE_LATITUDE = "N/A"
  REFERENCE_LONGITUDE = "N/A"
  SAMPLE_FIRST_PIXEL = 1
  SAMPLE_LAST_PIXEL = 10981
  SAMPLE_PROJECTION_OFFSET = 6406.75
  SECOND_STANDARD_PARALLEL = "N/A"
  WESTERNMOST_LONGITUDE = 16.2608
END_OBJECT = IMAGE_MAP_PROJECTION
/* The JPEG2000 image data file associated with this label. */
OBJECT = COMPRESSED_FILE
  FILE_NAME = "H2162_0000_P23.JP2"
  RECORD_TYPE = UNDEFINED
  FILE_RECORDS = UNK
  ENCODING_TYPE = "JP2"
  INTERCHANGE_FORMAT = BINARY
  UNCOMPRESSED_FILE_NAME = "H2162_0000_P23.IMG"
  REQUIRED_STORAGE_BYTES = "223737875"
  ^DESCRIPTION = "JP2INFO.TXT"
END_OBJECT = COMPRESSED_FILE
END
