PDS_VERSION_ID = PDS3
/* FILE DATA ELEMENTS */
RECORD_TYPE = STREAM
/* POINTERS TO DATA OBJECTS */
^COMPRESSED_FILE = "H2162_0001_GR3.JP2"
/* IDENTIFICATION DATA ELEMENTS */
DATA_SET_ID = "MEX-M-HRSC-5-REFDR-MAPPROJECTED-V3.0"
DATA_SET_NAME = "MARS EXPRESS HRSC MAP PROJECTED REFDR V3.0"
DETECTOR_ID = MEX_HRSC_GREEN
EVENT_TYPE = "MARS-REGIONAL-MAPPING-Fl-Gl-Mw"
INSTRUMENT_HOST_ID = MEX
INSTRUMENT_HOST_NAME = "MARS EXPRESS"
INSTRUMENT_ID = HRSC
INSTRUMENT_NAME = "HIGH RESOLUTION STEREO CAMERA"
MISSION_NAME = "MARS EXPRESS"
MISSION_PHASE_NAME = MR_Phase_7
PROCESSING_LEVEL_ID = 3
PRODUCT_CREATION_TIME = 2016-03-14T11:38:04.000Z
PRODUCT_ID = "H2162_0001_GR3.JP2"
RELEASE_ID = 0027
REVISION_ID = 0000
/* QUALITY DATA ELEMENTS */
DATA_QUALITY_ID = 1
DATA_QUALITY_DESC = "Data calculated based on original SPICE kernels"
/* TIME DATA ELEMENTS */
SPACECRAFT_CLOCK_START_COUNT = "1/0075264181.57297"
SPACECRAFT_CLOCK_STOP_COUNT = "1/0075264343.16912"
START_TIME = 2005-09-20T02:43:54.500Z
STOP_TIME = 2005-09-20T02:45:23.749Z
/* ORBITAL DATA ELEMENTS */
ASCENDING_NODE_LONGITUDE = 182.89
MAXIMUM_RESOLUTION = 110.6
FOOTPRINT_POINT_LATITUDE = (-44.0808,-44.0752,-44.0696,-44.0634, -44.0566,-44.0492,-44.0442,-43.9931, -43.7121,-43.4872,-43.3746,-43.1493, -43.0365,-42.8671,-42.6975,-42.5273, -42.4139,-42.2448,-42.132,-42.0187, -41.9054,-41.792,-41.6785,-41.5081, -41.3945,-41.281,-41.1673,-41.0536, -40.9393,-40.8254,-40.7117,-40.5977, -40.4835,-40.3124,-40.141,-40.0268, -39.9126,-39.7411,-39.6266,-39.5122, -39.3981,-39.2833,-39.1689,-38.9969, -38.8821,-38.7675,-38.6525,-38.5377, -38.3125,-38.3181,-38.3261,-38.3296, -38.3356,-38.3387,-38.3417,-38.4594, -38.5746,-38.6897,-38.8623,-38.9771, -39.092,-39.2068,-39.3221,-39.4372, -39.5518,-39.6665,-39.7809,-39.8952, -40.0098,-40.1243,-40.2387,-40.3531, -40.4675,-40.639,-40.8104,-40.9245, -41.0387,-41.1528,-41.2668,-41.4378, -41.6085,-41.7224,-41.8362,-42.0068, -42.1205,-42.234,-42.3475,-42.5178, -42.6318,-42.7453,-42.8582,-42.9711, -43.0843,-43.1974,-43.3674,-43.5368, -43.6498,-43.7627,-43.8755,-44.0808)
FOOTPRINT_POINT_LONGITUDE = (86.414,86.1008,85.824,85.5483,85.2743, 85.0016,84.8316,84.5751,84.5968,84.6137 ,84.6221,84.6386,84.6468,84.6592, 84.6714,84.684,84.6922,84.7032,84.7106, 84.7182,84.7258,84.7333,84.7409,84.7521 ,84.7594,84.7666,84.7738,84.781,84.7885 ,84.7955,84.8023,84.8094,84.8165, 84.8267,84.8368,84.8435,84.8501,84.8599 ,84.8665,84.8729,84.8789,84.8855, 84.8916,84.901,84.9071,84.9132,84.9193, 84.9253,84.9369,85.1617,85.5182,85.6902 ,86.0078,86.1962,86.4002,86.4688, 86.4693,86.4695,86.4699,86.4697,86.4695 ,86.4696,86.4715,86.4729,86.4726, 86.4727,86.472,86.4711,86.4712,86.4714, 86.4714,86.4712,86.4715,86.4721,86.4725 ,86.4725,86.4729,86.4731,86.4731, 86.4734,86.4733,86.4736,86.4736,86.4743 ,86.4744,86.4743,86.4742,86.4747, 86.4771,86.4777,86.4764,86.4752,86.4751 ,86.4752,86.4767,86.4765,86.4773, 86.4774,86.4773,86.414)
ORBIT_NUMBER = 2162
ORBITAL_ECCENTRICITY = 0.573
ORBITAL_INCLINATION = 86.63
ORBITAL_SEMIMAJOR_AXIS = 8615.6
PERIAPSIS_ALTITUDE = 281.35
PERIAPSIS_ARGUMENT_ANGLE = 338.22
PERIAPSIS_TIME = 2005-09-20T02:49:30.000Z
SPACECRAFT_ORIENTATION = (0.0,1.0,0.0)
^MEX_ORIENTATION_DESC = "MEX_ORIENTATION_DESC.TXT"
SPACECRAFT_POINTING_MODE = ACROSSTRACK
^MEX_POINTING_DESC = "MEX_POINTING_DESC.TXT"
RIGHT_ASCENSION = -1e+32
DECLINATION = -1e+32
OFFSET_ANGLE = -0.4
SPACECRAFT_SOLAR_DISTANCE = 2.1093e+08
TARGET_NAME = MARS
/* CAMERA DATA ELEMENTS */
DETECTOR_TEMPERATURE = 20.6134
FOCAL_PLANE_TEMPERATURE = 10.0106
INST_CMPRS_NAME = "DISCRETE COSINE TRANSFORMATION (DCT)"
INST_CMPRS_RATIO = 19.5837
INST_CMPRS_QUALITY = 0
INST_CMPRS_QUANTZ_TBL_ID = 0
INSTRUMENT_TEMPERATURE = 16.1276
LENS_TEMPERATURE = 10.2145
MACROPIXEL_SIZE = 8
MISSING_FRAMES = 0
PIXEL_SUBSAMPLING_FLAG = N
SIGNAL_CHAIN_ID = 2
/* RADIOMETRIC DATA ELEMENTS */
BANDWIDTH = 88.0
CENTER_FILTER_WAVELENGTH = 538.0
RADIANCE_OFFSET = 2.68495
RADIANCE_SCALING_FACTOR = 0.00272307
REFLECTANCE_SCALING_FACTOR = 0.00010431
MEX:REFLECTANCE_OFFSET = 0.102849
/* IMAGE OBJECT DEFINITIONS */
OBJECT = IMAGE
  INTERCHANGE_FORMAT = BINARY
  LINES = 3420
  LINE_SAMPLES = 861
  SAMPLE_TYPE = UNSIGNED_INTEGER
  SAMPLE_BITS = 8
  BANDS = 1
  BAND_STORAGE_TYPE = BAND_SEQUENTIAL
  MAXIMUM = 146
  MEAN = 137.867
  MINIMUM = 115
  STANDARD_DEVIATION = 3.35471
END_OBJECT = IMAGE
/* MAP OBJECT DEFINITIONS */
OBJECT = IMAGE_MAP_PROJECTION
  ^DATA_SET_MAP_PROJECTION_CATALOG= "DSMAP.CAT"
  A_AXIS_RADIUS = 3396.0
  B_AXIS_RADIUS = 3396.0
  C_AXIS_RADIUS = 3396.0
  CENTER_LATITUDE = 0.0
  CENTER_LONGITUDE = 86.0
  COORDINATE_SYSTEM_NAME = PLANETOGRAPHIC
  COORDINATE_SYSTEM_TYPE = "BODY-FIXED ROTATING"
  EASTERNMOST_LONGITUDE = 86.4777
  FIRST_STANDARD_PARALLEL = "N/A"
  LINE_FIRST_PIXEL = 1
  LINE_LAST_PIXEL = 3420
  LINE_PROJECTION_OFFSET = -22709.3125
  MAP_PROJECTION_ROTATION = 0.0
  MAP_PROJECTION_TYPE = SINUSOIDAL
  MAP_RESOLUTION = 592.713803866667
  MAP_SCALE = 0.1
  MAXIMUM_LATITUDE = -38.3125
  MINIMUM_LATITUDE = -44.0808
  POSITIVE_LONGITUDE_DIRECTION = EAST
  REFERENCE_LATITUDE = "N/A"
  REFERENCE_LONGITUDE = "N/A"
  SAMPLE_FIRST_PIXEL = 1
  SAMPLE_LAST_PIXEL = 861
  SAMPLE_PROJECTION_OFFSET = 623.8125
  SECOND_STANDARD_PARALLEL = "N/A"
  WESTERNMOST_LONGITUDE = 84.57510000000001
END_OBJECT = IMAGE_MAP_PROJECTION
/* The JPEG2000 image data file associated with this label. */
OBJECT = COMPRESSED_FILE
  FILE_NAME = "H2162_0001_GR3.JP2"
  RECORD_TYPE = UNDEFINED
  FILE_RECORDS = UNK
  ENCODING_TYPE = "JP2"
  INTERCHANGE_FORMAT = BINARY
  UNCOMPRESSED_FILE_NAME = "H2162_0001_GR3.IMG"
  REQUIRED_STORAGE_BYTES = "2963562"
  ^DESCRIPTION = "JP2INFO.TXT"
END_OBJECT = COMPRESSED_FILE
END
